BEGIN:VCALENDAR
VERSION:2.0
PRODID:-//Ohio Brewing Company Columbus - ECPv6.15.20//NONSGML v1.0//EN
CALSCALE:GREGORIAN
METHOD:PUBLISH
X-WR-CALNAME:Ohio Brewing Company Columbus
X-ORIGINAL-URL:https://ohiobrewingcolumbus.com
X-WR-CALDESC:Events for Ohio Brewing Company Columbus
REFRESH-INTERVAL;VALUE=DURATION:PT1H
X-Robots-Tag:noindex
X-PUBLISHED-TTL:PT1H
BEGIN:VTIMEZONE
TZID:UTC
BEGIN:STANDARD
TZOFFSETFROM:+0000
TZOFFSETTO:+0000
TZNAME:UTC
DTSTART:20230101T000000
END:STANDARD
END:VTIMEZONE
BEGIN:VEVENT
DTSTART;TZID=UTC:20240710T190000
DTEND;TZID=UTC:20240710T200000
DTSTAMP:20260421T135937
CREATED:20240513T173402Z
LAST-MODIFIED:20240515T011850Z
UID:10000011-1720638000-1720641600@ohiobrewingcolumbus.com
SUMMARY:Wednesday Music Trivia
DESCRIPTION:Join us for Wednesday Music Trivia hosted by Sam OBC. Every Wednesday at 7PM.
URL:https://ohiobrewingcolumbus.com/event/wednesday-music-trivia/2024-07-10/
LOCATION:OH
CATEGORIES:Trivia Night
ATTACH;FMTTYPE=image/png:https://ohiobrewingcolumbus.com/wp-content/uploads/2024/05/Music-triv-1.png
END:VEVENT
END:VCALENDAR