BEGIN:VCALENDAR
VERSION:2.0
PRODID:-//Ohio Brewing Company Columbus - ECPv6.15.20//NONSGML v1.0//EN
CALSCALE:GREGORIAN
METHOD:PUBLISH
X-WR-CALNAME:Ohio Brewing Company Columbus
X-ORIGINAL-URL:https://ohiobrewingcolumbus.com
X-WR-CALDESC:Events for Ohio Brewing Company Columbus
REFRESH-INTERVAL;VALUE=DURATION:PT1H
X-Robots-Tag:noindex
X-PUBLISHED-TTL:PT1H
BEGIN:VTIMEZONE
TZID:UTC
BEGIN:STANDARD
TZOFFSETFROM:+0000
TZOFFSETTO:+0000
TZNAME:UTC
DTSTART:20230101T000000
END:STANDARD
END:VTIMEZONE
BEGIN:VEVENT
DTSTART;TZID=UTC:20240825T153000
DTEND;TZID=UTC:20240825T183000
DTSTAMP:20260422T012712
CREATED:20240807T082220Z
LAST-MODIFIED:20240807T082714Z
UID:10000529-1724599800-1724610600@ohiobrewingcolumbus.com
SUMMARY:With Flowers We Gather
DESCRIPTION:We are excited to host “With Flowers We Gather\,” presented by Summit Ridge. A music performance with live floral installation\, dance\, and crafted beverages. This performance will feature works for violin and marimba that contain various influences in jazz\, bluegrass\, minimalism\, and dance. We are excited to see a performance of Hop by Paul Lansky with Reagan Crandall\, who will bring Lansky’s program note: The piece “knows that it would like to dance\, but can’t quite get the idea” to life through….dance! The program will center around a piece we commissioned in 2017 titled “With Flowers We Gather” by Jamie Kunselman and feature Johni Hayes\, a local florist who will create a live floral installation during our performance. Food and drinks will be available to purchase\, so come hungry and thirsty to enjoy this great program! Doors open at 3:30\, concert runs from 4-5:15 or so. However\, feel free to hang around until 6:30 to drink\, eat\, and hang out! \nGet tickets here.
URL:https://ohiobrewingcolumbus.com/event/with-flowers-we-gather/
LOCATION:OH
ATTACH;FMTTYPE=image/jpeg:https://ohiobrewingcolumbus.com/wp-content/uploads/2024/08/With-Flowers-We-Gather-at-OBC.jpg
END:VEVENT
END:VCALENDAR