BEGIN:VCALENDAR
VERSION:2.0
PRODID:-//Ohio Brewing Company Columbus - ECPv6.15.20//NONSGML v1.0//EN
CALSCALE:GREGORIAN
METHOD:PUBLISH
X-WR-CALNAME:Ohio Brewing Company Columbus
X-ORIGINAL-URL:https://ohiobrewingcolumbus.com
X-WR-CALDESC:Events for Ohio Brewing Company Columbus
REFRESH-INTERVAL;VALUE=DURATION:PT1H
X-Robots-Tag:noindex
X-PUBLISHED-TTL:PT1H
BEGIN:VTIMEZONE
TZID:UTC
BEGIN:STANDARD
TZOFFSETFROM:+0000
TZOFFSETTO:+0000
TZNAME:UTC
DTSTART:20230101T000000
END:STANDARD
END:VTIMEZONE
BEGIN:VEVENT
DTSTART;VALUE=DATE:20240927
DTEND;VALUE=DATE:20240930
DTSTAMP:20260422T123210
CREATED:20240904T163442Z
LAST-MODIFIED:20240904T163442Z
UID:10000555-1727395200-1727654399@ohiobrewingcolumbus.com
SUMMARY:Oktoberfest at Ohio Brewing Company Columbus
DESCRIPTION:Join us for an unforgettable Oktoberfest celebration from September 27th to 29th at Ohio Brewing Company Columbus! 🍻 \nFrom 4:00 PM to 2:00 AM each day\, we’ll be serving up traditional German cuisine\, offering a lineup of live music\, and hosting a variety of fun contests to get everyone in the festive spirit. Whether you’re a beer lover or just looking to enjoy some great food and entertainment\, our Oktoberfest has something for everyone. \nWith plenty of space on our patio and inside\, there’s no better place to enjoy this iconic celebration. Mark your calendars and gather your friends for an authentic Oktoberfest experience! \n📍 Location:\nOhio Brewing Company Columbus\n421 E 2nd Ave\, Columbus\, OH 43201 \nDon’t miss out on this exciting event—Prost! 🍂🍺
URL:https://ohiobrewingcolumbus.com/event/oktoberfest-at-ohio-brewing-company-columbus/
LOCATION:Ohio Brewing Company\, 421 E 2nd Ave\, Columbus\, OH\, 43201\, United States
CATEGORIES:Special Event
ATTACH;FMTTYPE=image/png:https://ohiobrewingcolumbus.com/wp-content/uploads/2024/09/OKTOBERFEST-OBC.png
END:VEVENT
END:VCALENDAR