BEGIN:VCALENDAR
VERSION:2.0
PRODID:-//Ohio Brewing Company Columbus - ECPv6.15.20//NONSGML v1.0//EN
CALSCALE:GREGORIAN
METHOD:PUBLISH
X-WR-CALNAME:Ohio Brewing Company Columbus
X-ORIGINAL-URL:https://ohiobrewingcolumbus.com
X-WR-CALDESC:Events for Ohio Brewing Company Columbus
REFRESH-INTERVAL;VALUE=DURATION:PT1H
X-Robots-Tag:noindex
X-PUBLISHED-TTL:PT1H
BEGIN:VTIMEZONE
TZID:UTC
BEGIN:STANDARD
TZOFFSETFROM:+0000
TZOFFSETTO:+0000
TZNAME:UTC
DTSTART:20230101T000000
END:STANDARD
END:VTIMEZONE
BEGIN:VEVENT
DTSTART;TZID=UTC:20241207T100000
DTEND;TZID=UTC:20241207T160000
DTSTAMP:20260422T171430
CREATED:20241030T165952Z
LAST-MODIFIED:20241030T165952Z
UID:10000819-1733565600-1733587200@ohiobrewingcolumbus.com
SUMMARY:FLEA | ART | BEER Holiday Market 2024
DESCRIPTION:FLEA | ART | BEER Holiday Market 2024 \nDate: Saturday\, December 7th\, 2024\nTime: 10 AM – 4 PM\nLocation: Ohio Brewing Company Columbus\, 421 E 2nd Ave\, Columbus\, OH 43201 \nJoin us for a special holiday edition of our FLEA | ART | BEER Market on December 7th! Shop from local vendors offering unique holiday gifts\, artwork\, and handmade items—all while enjoying food and drink specials in our indoor event spaces. \nAdmission is free for attendees! Whether you’re browsing for that perfect holiday gift or just want to enjoy a festive atmosphere with great beer\, this market has something for everyone. 🎄✨ \nInterested in being a vendor? Click here to apply and secure your spot.
URL:https://ohiobrewingcolumbus.com/event/flea-art-beer-holiday-market-2024/
LOCATION:Ohio Brewing Company\, 421 E 2nd Ave\, Columbus\, OH\, 43201\, United States
CATEGORIES:Special Event
ATTACH;FMTTYPE=image/jpeg:https://ohiobrewingcolumbus.com/wp-content/uploads/2024/10/FAB-V8.png.jpg
END:VEVENT
END:VCALENDAR