BEGIN:VCALENDAR
VERSION:2.0
PRODID:-//Ohio Brewing Company Columbus - ECPv6.15.20//NONSGML v1.0//EN
CALSCALE:GREGORIAN
METHOD:PUBLISH
X-WR-CALNAME:Ohio Brewing Company Columbus
X-ORIGINAL-URL:https://ohiobrewingcolumbus.com
X-WR-CALDESC:Events for Ohio Brewing Company Columbus
REFRESH-INTERVAL;VALUE=DURATION:PT1H
X-Robots-Tag:noindex
X-PUBLISHED-TTL:PT1H
BEGIN:VTIMEZONE
TZID:UTC
BEGIN:STANDARD
TZOFFSETFROM:+0000
TZOFFSETTO:+0000
TZNAME:UTC
DTSTART:20260101T000000
END:STANDARD
END:VTIMEZONE
BEGIN:VEVENT
DTSTART;TZID=UTC:20270902T190000
DTEND;TZID=UTC:20270902T200000
DTSTAMP:20260423T053341
CREATED:20250606T133623Z
LAST-MODIFIED:20250609T171919Z
UID:10001198-1819911600-1819915200@ohiobrewingcolumbus.com
SUMMARY:Weekly Thursday Music Trivia
DESCRIPTION:Join us for Thursday Music Trivia hosted by Sam OBC. Every Thursday at 7PM.
URL:https://ohiobrewingcolumbus.com/event/wednesday-music-trivia-2-2/2027-09-02/
LOCATION:Ohio Brewing Company\, 421 E 2nd Ave\, Columbus\, OH\, 43201\, United States
CATEGORIES:Trivia Night
ATTACH;FMTTYPE=image/jpeg:https://ohiobrewingcolumbus.com/wp-content/uploads/2025/06/Music-triv-thursday-2025.jpg
END:VEVENT
BEGIN:VEVENT
DTSTART;TZID=UTC:20270907T193000
DTEND;TZID=UTC:20270907T213000
DTSTAMP:20260423T053341
CREATED:20250825T191633Z
LAST-MODIFIED:20250825T191825Z
UID:10000707-1820345400-1820352600@ohiobrewingcolumbus.com
SUMMARY:Tuesday Night Trivia at Ohio Brewing Company
DESCRIPTION:Join us every Tuesday at 7:30 PM for a fun and challenging night of trivia at Ohio Brewing Company in partnership with I Drink & I Know Things Trivia! 🧠🍻 \nBring your friends\, test your knowledge\, and enjoy great food\, refreshing beers\, and a chance to win some awesome prizes. Whether you’re a trivia pro or just looking for a fun evening\, our trivia night is the perfect way to spice up your Tuesday night! \nWhen: Every Tuesday at 7:30 PM\nWhere: Ohio Brewing Company\, 421 E 2nd Ave\, Columbus\, OH\nPrizes: Awesome prizes for top teams! \nCome for the trivia\, stay for the great food and beer! See you there!
URL:https://ohiobrewingcolumbus.com/event/tuesday-night-trivia-at-ohio-brewing-company-2/2027-09-07/
LOCATION:Ohio Brewing Company\, 421 E 2nd Ave\, Columbus\, OH\, 43201\, United States
CATEGORIES:Trivia Night
ATTACH;FMTTYPE=image/jpeg:https://ohiobrewingcolumbus.com/wp-content/uploads/2024/10/OBC_Tuesday-Night-Trivia.jpg
END:VEVENT
BEGIN:VEVENT
DTSTART;TZID=UTC:20270909T190000
DTEND;TZID=UTC:20270909T200000
DTSTAMP:20260423T053341
CREATED:20250606T133623Z
LAST-MODIFIED:20250609T171919Z
UID:10001199-1820516400-1820520000@ohiobrewingcolumbus.com
SUMMARY:Weekly Thursday Music Trivia
DESCRIPTION:Join us for Thursday Music Trivia hosted by Sam OBC. Every Thursday at 7PM.
URL:https://ohiobrewingcolumbus.com/event/wednesday-music-trivia-2-2/2027-09-09/
LOCATION:Ohio Brewing Company\, 421 E 2nd Ave\, Columbus\, OH\, 43201\, United States
CATEGORIES:Trivia Night
ATTACH;FMTTYPE=image/jpeg:https://ohiobrewingcolumbus.com/wp-content/uploads/2025/06/Music-triv-thursday-2025.jpg
END:VEVENT
BEGIN:VEVENT
DTSTART;TZID=UTC:20270914T193000
DTEND;TZID=UTC:20270914T213000
DTSTAMP:20260423T053341
CREATED:20250825T191633Z
LAST-MODIFIED:20250825T191825Z
UID:10000708-1820950200-1820957400@ohiobrewingcolumbus.com
SUMMARY:Tuesday Night Trivia at Ohio Brewing Company
DESCRIPTION:Join us every Tuesday at 7:30 PM for a fun and challenging night of trivia at Ohio Brewing Company in partnership with I Drink & I Know Things Trivia! 🧠🍻 \nBring your friends\, test your knowledge\, and enjoy great food\, refreshing beers\, and a chance to win some awesome prizes. Whether you’re a trivia pro or just looking for a fun evening\, our trivia night is the perfect way to spice up your Tuesday night! \nWhen: Every Tuesday at 7:30 PM\nWhere: Ohio Brewing Company\, 421 E 2nd Ave\, Columbus\, OH\nPrizes: Awesome prizes for top teams! \nCome for the trivia\, stay for the great food and beer! See you there!
URL:https://ohiobrewingcolumbus.com/event/tuesday-night-trivia-at-ohio-brewing-company-2/2027-09-14/
LOCATION:Ohio Brewing Company\, 421 E 2nd Ave\, Columbus\, OH\, 43201\, United States
CATEGORIES:Trivia Night
ATTACH;FMTTYPE=image/jpeg:https://ohiobrewingcolumbus.com/wp-content/uploads/2024/10/OBC_Tuesday-Night-Trivia.jpg
END:VEVENT
BEGIN:VEVENT
DTSTART;TZID=UTC:20270916T190000
DTEND;TZID=UTC:20270916T200000
DTSTAMP:20260423T053341
CREATED:20250606T133623Z
LAST-MODIFIED:20250609T171919Z
UID:10001200-1821121200-1821124800@ohiobrewingcolumbus.com
SUMMARY:Weekly Thursday Music Trivia
DESCRIPTION:Join us for Thursday Music Trivia hosted by Sam OBC. Every Thursday at 7PM.
URL:https://ohiobrewingcolumbus.com/event/wednesday-music-trivia-2-2/2027-09-16/
LOCATION:Ohio Brewing Company\, 421 E 2nd Ave\, Columbus\, OH\, 43201\, United States
CATEGORIES:Trivia Night
ATTACH;FMTTYPE=image/jpeg:https://ohiobrewingcolumbus.com/wp-content/uploads/2025/06/Music-triv-thursday-2025.jpg
END:VEVENT
BEGIN:VEVENT
DTSTART;TZID=UTC:20270921T193000
DTEND;TZID=UTC:20270921T213000
DTSTAMP:20260423T053341
CREATED:20250825T191633Z
LAST-MODIFIED:20250825T191825Z
UID:10000709-1821555000-1821562200@ohiobrewingcolumbus.com
SUMMARY:Tuesday Night Trivia at Ohio Brewing Company
DESCRIPTION:Join us every Tuesday at 7:30 PM for a fun and challenging night of trivia at Ohio Brewing Company in partnership with I Drink & I Know Things Trivia! 🧠🍻 \nBring your friends\, test your knowledge\, and enjoy great food\, refreshing beers\, and a chance to win some awesome prizes. Whether you’re a trivia pro or just looking for a fun evening\, our trivia night is the perfect way to spice up your Tuesday night! \nWhen: Every Tuesday at 7:30 PM\nWhere: Ohio Brewing Company\, 421 E 2nd Ave\, Columbus\, OH\nPrizes: Awesome prizes for top teams! \nCome for the trivia\, stay for the great food and beer! See you there!
URL:https://ohiobrewingcolumbus.com/event/tuesday-night-trivia-at-ohio-brewing-company-2/2027-09-21/
LOCATION:Ohio Brewing Company\, 421 E 2nd Ave\, Columbus\, OH\, 43201\, United States
CATEGORIES:Trivia Night
ATTACH;FMTTYPE=image/jpeg:https://ohiobrewingcolumbus.com/wp-content/uploads/2024/10/OBC_Tuesday-Night-Trivia.jpg
END:VEVENT
BEGIN:VEVENT
DTSTART;TZID=UTC:20270923T190000
DTEND;TZID=UTC:20270923T200000
DTSTAMP:20260423T053341
CREATED:20250606T133623Z
LAST-MODIFIED:20250609T171919Z
UID:10001201-1821726000-1821729600@ohiobrewingcolumbus.com
SUMMARY:Weekly Thursday Music Trivia
DESCRIPTION:Join us for Thursday Music Trivia hosted by Sam OBC. Every Thursday at 7PM.
URL:https://ohiobrewingcolumbus.com/event/wednesday-music-trivia-2-2/2027-09-23/
LOCATION:Ohio Brewing Company\, 421 E 2nd Ave\, Columbus\, OH\, 43201\, United States
CATEGORIES:Trivia Night
ATTACH;FMTTYPE=image/jpeg:https://ohiobrewingcolumbus.com/wp-content/uploads/2025/06/Music-triv-thursday-2025.jpg
END:VEVENT
BEGIN:VEVENT
DTSTART;TZID=UTC:20270928T193000
DTEND;TZID=UTC:20270928T213000
DTSTAMP:20260423T053341
CREATED:20250825T191633Z
LAST-MODIFIED:20250825T191825Z
UID:10000710-1822159800-1822167000@ohiobrewingcolumbus.com
SUMMARY:Tuesday Night Trivia at Ohio Brewing Company
DESCRIPTION:Join us every Tuesday at 7:30 PM for a fun and challenging night of trivia at Ohio Brewing Company in partnership with I Drink & I Know Things Trivia! 🧠🍻 \nBring your friends\, test your knowledge\, and enjoy great food\, refreshing beers\, and a chance to win some awesome prizes. Whether you’re a trivia pro or just looking for a fun evening\, our trivia night is the perfect way to spice up your Tuesday night! \nWhen: Every Tuesday at 7:30 PM\nWhere: Ohio Brewing Company\, 421 E 2nd Ave\, Columbus\, OH\nPrizes: Awesome prizes for top teams! \nCome for the trivia\, stay for the great food and beer! See you there!
URL:https://ohiobrewingcolumbus.com/event/tuesday-night-trivia-at-ohio-brewing-company-2/2027-09-28/
LOCATION:Ohio Brewing Company\, 421 E 2nd Ave\, Columbus\, OH\, 43201\, United States
CATEGORIES:Trivia Night
ATTACH;FMTTYPE=image/jpeg:https://ohiobrewingcolumbus.com/wp-content/uploads/2024/10/OBC_Tuesday-Night-Trivia.jpg
END:VEVENT
BEGIN:VEVENT
DTSTART;TZID=UTC:20270930T190000
DTEND;TZID=UTC:20270930T200000
DTSTAMP:20260423T053341
CREATED:20250606T133623Z
LAST-MODIFIED:20250609T171919Z
UID:10001202-1822330800-1822334400@ohiobrewingcolumbus.com
SUMMARY:Weekly Thursday Music Trivia
DESCRIPTION:Join us for Thursday Music Trivia hosted by Sam OBC. Every Thursday at 7PM.
URL:https://ohiobrewingcolumbus.com/event/wednesday-music-trivia-2-2/2027-09-30/
LOCATION:Ohio Brewing Company\, 421 E 2nd Ave\, Columbus\, OH\, 43201\, United States
CATEGORIES:Trivia Night
ATTACH;FMTTYPE=image/jpeg:https://ohiobrewingcolumbus.com/wp-content/uploads/2025/06/Music-triv-thursday-2025.jpg
END:VEVENT
END:VCALENDAR