BEGIN:VCALENDAR
VERSION:2.0
PRODID:-//Ohio Brewing Company Columbus - ECPv6.15.20//NONSGML v1.0//EN
CALSCALE:GREGORIAN
METHOD:PUBLISH
X-WR-CALNAME:Ohio Brewing Company Columbus
X-ORIGINAL-URL:https://ohiobrewingcolumbus.com
X-WR-CALDESC:Events for Ohio Brewing Company Columbus
REFRESH-INTERVAL;VALUE=DURATION:PT1H
X-Robots-Tag:noindex
X-PUBLISHED-TTL:PT1H
BEGIN:VTIMEZONE
TZID:UTC
BEGIN:STANDARD
TZOFFSETFROM:+0000
TZOFFSETTO:+0000
TZNAME:UTC
DTSTART:20230101T000000
END:STANDARD
END:VTIMEZONE
BEGIN:VEVENT
DTSTART;TZID=UTC:20240828T190000
DTEND;TZID=UTC:20240828T200000
DTSTAMP:20260422T214944
CREATED:20240513T173402Z
LAST-MODIFIED:20240515T011850Z
UID:10000018-1724871600-1724875200@ohiobrewingcolumbus.com
SUMMARY:Wednesday Music Trivia
DESCRIPTION:Join us for Wednesday Music Trivia hosted by Sam OBC. Every Wednesday at 7PM.
URL:https://ohiobrewingcolumbus.com/event/wednesday-music-trivia/2024-08-28/
LOCATION:OH
CATEGORIES:Trivia Night
ATTACH;FMTTYPE=image/png:https://ohiobrewingcolumbus.com/wp-content/uploads/2024/05/Music-triv-1.png
END:VEVENT
BEGIN:VEVENT
DTSTART;TZID=UTC:20240825T153000
DTEND;TZID=UTC:20240825T183000
DTSTAMP:20260422T214944
CREATED:20240807T082220Z
LAST-MODIFIED:20240807T082714Z
UID:10000529-1724599800-1724610600@ohiobrewingcolumbus.com
SUMMARY:With Flowers We Gather
DESCRIPTION:We are excited to host “With Flowers We Gather\,” presented by Summit Ridge. A music performance with live floral installation\, dance\, and crafted beverages. This performance will feature works for violin and marimba that contain various influences in jazz\, bluegrass\, minimalism\, and dance. We are excited to see a performance of Hop by Paul Lansky with Reagan Crandall\, who will bring Lansky’s program note: The piece “knows that it would like to dance\, but can’t quite get the idea” to life through….dance! The program will center around a piece we commissioned in 2017 titled “With Flowers We Gather” by Jamie Kunselman and feature Johni Hayes\, a local florist who will create a live floral installation during our performance. Food and drinks will be available to purchase\, so come hungry and thirsty to enjoy this great program! Doors open at 3:30\, concert runs from 4-5:15 or so. However\, feel free to hang around until 6:30 to drink\, eat\, and hang out! \nGet tickets here.
URL:https://ohiobrewingcolumbus.com/event/with-flowers-we-gather/
LOCATION:OH
ATTACH;FMTTYPE=image/jpeg:https://ohiobrewingcolumbus.com/wp-content/uploads/2024/08/With-Flowers-We-Gather-at-OBC.jpg
END:VEVENT
BEGIN:VEVENT
DTSTART;TZID=UTC:20240821T190000
DTEND;TZID=UTC:20240821T200000
DTSTAMP:20260422T214944
CREATED:20240513T173402Z
LAST-MODIFIED:20240515T011850Z
UID:10000017-1724266800-1724270400@ohiobrewingcolumbus.com
SUMMARY:Wednesday Music Trivia
DESCRIPTION:Join us for Wednesday Music Trivia hosted by Sam OBC. Every Wednesday at 7PM.
URL:https://ohiobrewingcolumbus.com/event/wednesday-music-trivia/2024-08-21/
LOCATION:OH
CATEGORIES:Trivia Night
ATTACH;FMTTYPE=image/png:https://ohiobrewingcolumbus.com/wp-content/uploads/2024/05/Music-triv-1.png
END:VEVENT
BEGIN:VEVENT
DTSTART;TZID=UTC:20240814T190000
DTEND;TZID=UTC:20240814T200000
DTSTAMP:20260422T214944
CREATED:20240513T173402Z
LAST-MODIFIED:20240515T011850Z
UID:10000016-1723662000-1723665600@ohiobrewingcolumbus.com
SUMMARY:Wednesday Music Trivia
DESCRIPTION:Join us for Wednesday Music Trivia hosted by Sam OBC. Every Wednesday at 7PM.
URL:https://ohiobrewingcolumbus.com/event/wednesday-music-trivia/2024-08-14/
LOCATION:OH
CATEGORIES:Trivia Night
ATTACH;FMTTYPE=image/png:https://ohiobrewingcolumbus.com/wp-content/uploads/2024/05/Music-triv-1.png
END:VEVENT
BEGIN:VEVENT
DTSTART;TZID=UTC:20240806T190000
DTEND;TZID=UTC:20240806T210000
DTSTAMP:20260422T214944
CREATED:20240513T173038Z
LAST-MODIFIED:20240515T013544Z
UID:10000275-1722970800-1722978000@ohiobrewingcolumbus.com
SUMMARY:Trivia Tuesday
DESCRIPTION:Join us for Trivia Tuesday\, beers and fun. Every Tuesday at 7PM & 8PM.
URL:https://ohiobrewingcolumbus.com/event/tuesday-trivia/2024-08-06/
LOCATION:Ohio Brewing Company\, 421 E 2nd Ave\, Columbus\, OH\, 43201\, United States
CATEGORIES:Trivia Night
ATTACH;FMTTYPE=image/jpeg:https://ohiobrewingcolumbus.com/wp-content/uploads/2024/05/IMG_3262.jpg
END:VEVENT
BEGIN:VEVENT
DTSTART;TZID=UTC:20240731T190000
DTEND;TZID=UTC:20240731T200000
DTSTAMP:20260422T214944
CREATED:20240513T173402Z
LAST-MODIFIED:20240515T011850Z
UID:10000014-1722452400-1722456000@ohiobrewingcolumbus.com
SUMMARY:Wednesday Music Trivia
DESCRIPTION:Join us for Wednesday Music Trivia hosted by Sam OBC. Every Wednesday at 7PM.
URL:https://ohiobrewingcolumbus.com/event/wednesday-music-trivia/2024-07-31/
LOCATION:OH
CATEGORIES:Trivia Night
ATTACH;FMTTYPE=image/png:https://ohiobrewingcolumbus.com/wp-content/uploads/2024/05/Music-triv-1.png
END:VEVENT
BEGIN:VEVENT
DTSTART;TZID=UTC:20240730T190000
DTEND;TZID=UTC:20240730T210000
DTSTAMP:20260422T214944
CREATED:20240513T173038Z
LAST-MODIFIED:20240515T013544Z
UID:10000274-1722366000-1722373200@ohiobrewingcolumbus.com
SUMMARY:Trivia Tuesday
DESCRIPTION:Join us for Trivia Tuesday\, beers and fun. Every Tuesday at 7PM & 8PM.
URL:https://ohiobrewingcolumbus.com/event/tuesday-trivia/2024-07-30/
LOCATION:Ohio Brewing Company\, 421 E 2nd Ave\, Columbus\, OH\, 43201\, United States
CATEGORIES:Trivia Night
ATTACH;FMTTYPE=image/jpeg:https://ohiobrewingcolumbus.com/wp-content/uploads/2024/05/IMG_3262.jpg
END:VEVENT
BEGIN:VEVENT
DTSTART;TZID=UTC:20240724T190000
DTEND;TZID=UTC:20240724T200000
DTSTAMP:20260422T214944
CREATED:20240513T173402Z
LAST-MODIFIED:20240515T011850Z
UID:10000013-1721847600-1721851200@ohiobrewingcolumbus.com
SUMMARY:Wednesday Music Trivia
DESCRIPTION:Join us for Wednesday Music Trivia hosted by Sam OBC. Every Wednesday at 7PM.
URL:https://ohiobrewingcolumbus.com/event/wednesday-music-trivia/2024-07-24/
LOCATION:OH
CATEGORIES:Trivia Night
ATTACH;FMTTYPE=image/png:https://ohiobrewingcolumbus.com/wp-content/uploads/2024/05/Music-triv-1.png
END:VEVENT
BEGIN:VEVENT
DTSTART;TZID=UTC:20240723T190000
DTEND;TZID=UTC:20240723T210000
DTSTAMP:20260422T214944
CREATED:20240513T173038Z
LAST-MODIFIED:20240515T013544Z
UID:10000273-1721761200-1721768400@ohiobrewingcolumbus.com
SUMMARY:Trivia Tuesday
DESCRIPTION:Join us for Trivia Tuesday\, beers and fun. Every Tuesday at 7PM & 8PM.
URL:https://ohiobrewingcolumbus.com/event/tuesday-trivia/2024-07-23/
LOCATION:Ohio Brewing Company\, 421 E 2nd Ave\, Columbus\, OH\, 43201\, United States
CATEGORIES:Trivia Night
ATTACH;FMTTYPE=image/jpeg:https://ohiobrewingcolumbus.com/wp-content/uploads/2024/05/IMG_3262.jpg
END:VEVENT
BEGIN:VEVENT
DTSTART;TZID=UTC:20240717T190000
DTEND;TZID=UTC:20240717T200000
DTSTAMP:20260422T214944
CREATED:20240513T173402Z
LAST-MODIFIED:20240515T011850Z
UID:10000012-1721242800-1721246400@ohiobrewingcolumbus.com
SUMMARY:Wednesday Music Trivia
DESCRIPTION:Join us for Wednesday Music Trivia hosted by Sam OBC. Every Wednesday at 7PM.
URL:https://ohiobrewingcolumbus.com/event/wednesday-music-trivia/2024-07-17/
LOCATION:OH
CATEGORIES:Trivia Night
ATTACH;FMTTYPE=image/png:https://ohiobrewingcolumbus.com/wp-content/uploads/2024/05/Music-triv-1.png
END:VEVENT
BEGIN:VEVENT
DTSTART;TZID=UTC:20240716T190000
DTEND;TZID=UTC:20240716T210000
DTSTAMP:20260422T214944
CREATED:20240513T173038Z
LAST-MODIFIED:20240515T013544Z
UID:10000272-1721156400-1721163600@ohiobrewingcolumbus.com
SUMMARY:Trivia Tuesday
DESCRIPTION:Join us for Trivia Tuesday\, beers and fun. Every Tuesday at 7PM & 8PM.
URL:https://ohiobrewingcolumbus.com/event/tuesday-trivia/2024-07-16/
LOCATION:Ohio Brewing Company\, 421 E 2nd Ave\, Columbus\, OH\, 43201\, United States
CATEGORIES:Trivia Night
ATTACH;FMTTYPE=image/jpeg:https://ohiobrewingcolumbus.com/wp-content/uploads/2024/05/IMG_3262.jpg
END:VEVENT
BEGIN:VEVENT
DTSTART;TZID=UTC:20240710T190000
DTEND;TZID=UTC:20240710T200000
DTSTAMP:20260422T214944
CREATED:20240513T173402Z
LAST-MODIFIED:20240515T011850Z
UID:10000011-1720638000-1720641600@ohiobrewingcolumbus.com
SUMMARY:Wednesday Music Trivia
DESCRIPTION:Join us for Wednesday Music Trivia hosted by Sam OBC. Every Wednesday at 7PM.
URL:https://ohiobrewingcolumbus.com/event/wednesday-music-trivia/2024-07-10/
LOCATION:OH
CATEGORIES:Trivia Night
ATTACH;FMTTYPE=image/png:https://ohiobrewingcolumbus.com/wp-content/uploads/2024/05/Music-triv-1.png
END:VEVENT
BEGIN:VEVENT
DTSTART;TZID=UTC:20240709T190000
DTEND;TZID=UTC:20240709T210000
DTSTAMP:20260422T214945
CREATED:20240513T173038Z
LAST-MODIFIED:20240515T013544Z
UID:10000271-1720551600-1720558800@ohiobrewingcolumbus.com
SUMMARY:Trivia Tuesday
DESCRIPTION:Join us for Trivia Tuesday\, beers and fun. Every Tuesday at 7PM & 8PM.
URL:https://ohiobrewingcolumbus.com/event/tuesday-trivia/2024-07-09/
LOCATION:Ohio Brewing Company\, 421 E 2nd Ave\, Columbus\, OH\, 43201\, United States
CATEGORIES:Trivia Night
ATTACH;FMTTYPE=image/jpeg:https://ohiobrewingcolumbus.com/wp-content/uploads/2024/05/IMG_3262.jpg
END:VEVENT
BEGIN:VEVENT
DTSTART;TZID=UTC:20240705T180000
DTEND;TZID=UTC:20240705T210000
DTSTAMP:20260422T214945
CREATED:20240611T135137Z
LAST-MODIFIED:20240611T140433Z
UID:10000527-1720202400-1720213200@ohiobrewingcolumbus.com
SUMMARY:MojoFlo Live Performance
DESCRIPTION:MojoFlo is a powerhouse Neo-Funk band\, renowned for their infectious rhythms\, soulful vocals\, and captivating stage performances. Leading the charge is their dynamic vocalist\, Amber Knicole. Known for her aerial performances\, Soul Train lines\, hula hoop choreography\, and daring leaps off the drum riser in 6-inch heels\, Amber Knicole has a talent for leaving audiences mesmerized. With hard-hitting horns\, seductive melodies\, and a captivating stage show\, MojoFlo has built a fiercely loyal fanbase. \nJoin us for an unforgettable evening of live music on our outdoor stage. Don’t miss out on the chance to see MojoFlo perform live! \nVenue Details: \n\nAddress: 421 E 2nd Ave\, Columbus\, OH 43201\nParking: Ample parking available in our lot\n\nNote: This is an outdoor event. Please dress accordingly and bring your friends for a night of great music and fun!
URL:https://ohiobrewingcolumbus.com/event/mojoflo-live-performance/
LOCATION:Ohio Brewing Company\, 421 E 2nd Ave\, Columbus\, OH\, 43201\, United States
CATEGORIES:Live Music
ATTACH;FMTTYPE=image/jpeg:https://ohiobrewingcolumbus.com/wp-content/uploads/2024/06/FunkOff_v2_1.jpg
END:VEVENT
BEGIN:VEVENT
DTSTART;TZID=UTC:20240703T190000
DTEND;TZID=UTC:20240703T200000
DTSTAMP:20260422T214945
CREATED:20240513T173402Z
LAST-MODIFIED:20240515T011850Z
UID:10000010-1720033200-1720036800@ohiobrewingcolumbus.com
SUMMARY:Wednesday Music Trivia
DESCRIPTION:Join us for Wednesday Music Trivia hosted by Sam OBC. Every Wednesday at 7PM.
URL:https://ohiobrewingcolumbus.com/event/wednesday-music-trivia/2024-07-03/
LOCATION:OH
CATEGORIES:Trivia Night
ATTACH;FMTTYPE=image/png:https://ohiobrewingcolumbus.com/wp-content/uploads/2024/05/Music-triv-1.png
END:VEVENT
BEGIN:VEVENT
DTSTART;TZID=UTC:20240702T190000
DTEND;TZID=UTC:20240702T210000
DTSTAMP:20260422T214945
CREATED:20240513T173038Z
LAST-MODIFIED:20240515T013544Z
UID:10000270-1719946800-1719954000@ohiobrewingcolumbus.com
SUMMARY:Trivia Tuesday
DESCRIPTION:Join us for Trivia Tuesday\, beers and fun. Every Tuesday at 7PM & 8PM.
URL:https://ohiobrewingcolumbus.com/event/tuesday-trivia/2024-07-02/
LOCATION:Ohio Brewing Company\, 421 E 2nd Ave\, Columbus\, OH\, 43201\, United States
CATEGORIES:Trivia Night
ATTACH;FMTTYPE=image/jpeg:https://ohiobrewingcolumbus.com/wp-content/uploads/2024/05/IMG_3262.jpg
END:VEVENT
BEGIN:VEVENT
DTSTART;TZID=UTC:20240626T190000
DTEND;TZID=UTC:20240626T200000
DTSTAMP:20260422T214945
CREATED:20240513T173402Z
LAST-MODIFIED:20240515T011850Z
UID:10000009-1719428400-1719432000@ohiobrewingcolumbus.com
SUMMARY:Wednesday Music Trivia
DESCRIPTION:Join us for Wednesday Music Trivia hosted by Sam OBC. Every Wednesday at 7PM.
URL:https://ohiobrewingcolumbus.com/event/wednesday-music-trivia/2024-06-26/
LOCATION:OH
CATEGORIES:Trivia Night
ATTACH;FMTTYPE=image/png:https://ohiobrewingcolumbus.com/wp-content/uploads/2024/05/Music-triv-1.png
END:VEVENT
BEGIN:VEVENT
DTSTART;TZID=UTC:20240625T190000
DTEND;TZID=UTC:20240625T210000
DTSTAMP:20260422T214945
CREATED:20240513T173038Z
LAST-MODIFIED:20240515T013544Z
UID:10000269-1719342000-1719349200@ohiobrewingcolumbus.com
SUMMARY:Trivia Tuesday
DESCRIPTION:Join us for Trivia Tuesday\, beers and fun. Every Tuesday at 7PM & 8PM.
URL:https://ohiobrewingcolumbus.com/event/tuesday-trivia/2024-06-25/
LOCATION:Ohio Brewing Company\, 421 E 2nd Ave\, Columbus\, OH\, 43201\, United States
CATEGORIES:Trivia Night
ATTACH;FMTTYPE=image/jpeg:https://ohiobrewingcolumbus.com/wp-content/uploads/2024/05/IMG_3262.jpg
END:VEVENT
BEGIN:VEVENT
DTSTART;TZID=UTC:20240619T190000
DTEND;TZID=UTC:20240619T200000
DTSTAMP:20260422T214945
CREATED:20240513T173402Z
LAST-MODIFIED:20240515T011850Z
UID:10000008-1718823600-1718827200@ohiobrewingcolumbus.com
SUMMARY:Wednesday Music Trivia
DESCRIPTION:Join us for Wednesday Music Trivia hosted by Sam OBC. Every Wednesday at 7PM.
URL:https://ohiobrewingcolumbus.com/event/wednesday-music-trivia/2024-06-19/
LOCATION:OH
CATEGORIES:Trivia Night
ATTACH;FMTTYPE=image/png:https://ohiobrewingcolumbus.com/wp-content/uploads/2024/05/Music-triv-1.png
END:VEVENT
BEGIN:VEVENT
DTSTART;TZID=UTC:20240619T180000
DTEND;TZID=UTC:20240619T210000
DTSTAMP:20260422T214945
CREATED:20240614T145354Z
LAST-MODIFIED:20240614T145721Z
UID:10000528-1718820000-1718830800@ohiobrewingcolumbus.com
SUMMARY:Cigar Dinner at OBC in partnership with Capital City Cigar Club
DESCRIPTION:Join us at Ohio Brewing Company on June 19th at 9 PM for a night with the Capital City Cigar Club! Enjoy bourbon\, BBQ\, and cigars. \nMembers please keep in mind that if you are bring a guest\, they need to have a “Non-Member/Guest” ticket. \nGet tickets here.
URL:https://ohiobrewingcolumbus.com/event/cigar-dinner-at-obc-in-partnership-with-capital-city-cigar-club/
LOCATION:Ohio Brewing Company\, 421 E 2nd Ave\, Columbus\, OH\, 43201\, United States
CATEGORIES:Cigar Dinner
ATTACH;FMTTYPE=image/jpeg:https://ohiobrewingcolumbus.com/wp-content/uploads/2024/06/CIGARS-BOURBON.jpeg
END:VEVENT
BEGIN:VEVENT
DTSTART;TZID=UTC:20240618T190000
DTEND;TZID=UTC:20240618T210000
DTSTAMP:20260422T214945
CREATED:20240513T173038Z
LAST-MODIFIED:20240515T013544Z
UID:10000268-1718737200-1718744400@ohiobrewingcolumbus.com
SUMMARY:Trivia Tuesday
DESCRIPTION:Join us for Trivia Tuesday\, beers and fun. Every Tuesday at 7PM & 8PM.
URL:https://ohiobrewingcolumbus.com/event/tuesday-trivia/2024-06-18/
LOCATION:Ohio Brewing Company\, 421 E 2nd Ave\, Columbus\, OH\, 43201\, United States
CATEGORIES:Trivia Night
ATTACH;FMTTYPE=image/jpeg:https://ohiobrewingcolumbus.com/wp-content/uploads/2024/05/IMG_3262.jpg
END:VEVENT
BEGIN:VEVENT
DTSTART;TZID=UTC:20240616T190000
DTEND;TZID=UTC:20240616T220000
DTSTAMP:20260422T214945
CREATED:20240530T135425Z
LAST-MODIFIED:20240611T140950Z
UID:10000525-1718564400-1718575200@ohiobrewingcolumbus.com
SUMMARY:Pocket Jazz with Algorhythmic: Father's Day Edition
DESCRIPTION:Celebrate Father’s Day in style with Pocket Jazz procured by The Deal Breakers at Ohio Brewing Company and some incredible FOOD SPECIALS! \nEnjoy a feast for the senses with amazing entrees\, crafted cocktails\, and a vast selection of beer’s while being serenaded by the smooth sounds of Algorhythmic\, the alter ego of The Deal Breakers\, and some of Columbus\, Ohio’s best voices. \nGeneral admission to this musical extravaganza is free\, but for those looking to elevate their experience\, preferred seating is available for a fee. Secure your preferred seating now to ensure the best views. \nJoin us for an unforgettable evening of music\, food\, and drink as we come together to celebrate fathers and the power of music. \nDon’t miss this opportunity to treat yourself and your loved ones to a Father’s Day celebration that is sure to leave a lasting impression.
URL:https://ohiobrewingcolumbus.com/event/pocket-jazz-with-algorhythmic-fathers-day-edition/
LOCATION:Ohio Brewing Company\, 421 E 2nd Ave\, Columbus\, OH\, 43201\, United States
CATEGORIES:Live Music
ATTACH;FMTTYPE=image/jpeg:https://ohiobrewingcolumbus.com/wp-content/uploads/2024/05/Malakhis-Bday-124.jpg
END:VEVENT
BEGIN:VEVENT
DTSTART;TZID=UTC:20240612T190000
DTEND;TZID=UTC:20240612T200000
DTSTAMP:20260422T214945
CREATED:20240513T173402Z
LAST-MODIFIED:20240515T011850Z
UID:10000007-1718218800-1718222400@ohiobrewingcolumbus.com
SUMMARY:Wednesday Music Trivia
DESCRIPTION:Join us for Wednesday Music Trivia hosted by Sam OBC. Every Wednesday at 7PM.
URL:https://ohiobrewingcolumbus.com/event/wednesday-music-trivia/2024-06-12/
LOCATION:OH
CATEGORIES:Trivia Night
ATTACH;FMTTYPE=image/png:https://ohiobrewingcolumbus.com/wp-content/uploads/2024/05/Music-triv-1.png
END:VEVENT
BEGIN:VEVENT
DTSTART;TZID=UTC:20240611T190000
DTEND;TZID=UTC:20240611T210000
DTSTAMP:20260422T214945
CREATED:20240513T173038Z
LAST-MODIFIED:20240515T013544Z
UID:10000267-1718132400-1718139600@ohiobrewingcolumbus.com
SUMMARY:Trivia Tuesday
DESCRIPTION:Join us for Trivia Tuesday\, beers and fun. Every Tuesday at 7PM & 8PM.
URL:https://ohiobrewingcolumbus.com/event/tuesday-trivia/2024-06-11/
LOCATION:Ohio Brewing Company\, 421 E 2nd Ave\, Columbus\, OH\, 43201\, United States
CATEGORIES:Trivia Night
ATTACH;FMTTYPE=image/jpeg:https://ohiobrewingcolumbus.com/wp-content/uploads/2024/05/IMG_3262.jpg
END:VEVENT
BEGIN:VEVENT
DTSTART;TZID=UTC:20240606T180000
DTEND;TZID=UTC:20240606T200000
DTSTAMP:20260422T214945
CREATED:20240603T180422Z
LAST-MODIFIED:20240603T180422Z
UID:10000526-1717696800-1717704000@ohiobrewingcolumbus.com
SUMMARY:Blues Night Live Music by Shoefly Soul
DESCRIPTION:Join us for an unforgettable night with live blues music by “Shoefly Soul” at Ohio Brewing Company Columbus! 🎤🎹 \n📅 Date: Thursday\, June 6th\, 2024\n🕕 Time: 6:00 PM\n📍 Venue: Ohio Brewing Company Columbus \nMark your calendars and invite your friends. Let’s make this a night to remember! 🌟
URL:https://ohiobrewingcolumbus.com/event/blues-night-live-music-by-shoefly-soul/
LOCATION:OH
CATEGORIES:Live Music
ATTACH;FMTTYPE=image/jpeg:https://ohiobrewingcolumbus.com/wp-content/uploads/2024/06/123_1.jpeg
END:VEVENT
BEGIN:VEVENT
DTSTART;TZID=UTC:20240605T190000
DTEND;TZID=UTC:20240605T200000
DTSTAMP:20260422T214945
CREATED:20240513T173402Z
LAST-MODIFIED:20240515T011850Z
UID:10000006-1717614000-1717617600@ohiobrewingcolumbus.com
SUMMARY:Wednesday Music Trivia
DESCRIPTION:Join us for Wednesday Music Trivia hosted by Sam OBC. Every Wednesday at 7PM.
URL:https://ohiobrewingcolumbus.com/event/wednesday-music-trivia/2024-06-05/
LOCATION:OH
CATEGORIES:Trivia Night
ATTACH;FMTTYPE=image/png:https://ohiobrewingcolumbus.com/wp-content/uploads/2024/05/Music-triv-1.png
END:VEVENT
BEGIN:VEVENT
DTSTART;TZID=UTC:20240604T190000
DTEND;TZID=UTC:20240604T210000
DTSTAMP:20260422T214945
CREATED:20240513T173038Z
LAST-MODIFIED:20240515T013544Z
UID:10000266-1717527600-1717534800@ohiobrewingcolumbus.com
SUMMARY:Trivia Tuesday
DESCRIPTION:Join us for Trivia Tuesday\, beers and fun. Every Tuesday at 7PM & 8PM.
URL:https://ohiobrewingcolumbus.com/event/tuesday-trivia/2024-06-04/
LOCATION:Ohio Brewing Company\, 421 E 2nd Ave\, Columbus\, OH\, 43201\, United States
CATEGORIES:Trivia Night
ATTACH;FMTTYPE=image/jpeg:https://ohiobrewingcolumbus.com/wp-content/uploads/2024/05/IMG_3262.jpg
END:VEVENT
BEGIN:VEVENT
DTSTART;TZID=UTC:20240529T190000
DTEND;TZID=UTC:20240529T200000
DTSTAMP:20260422T214945
CREATED:20240513T173402Z
LAST-MODIFIED:20240515T011850Z
UID:10000005-1717009200-1717012800@ohiobrewingcolumbus.com
SUMMARY:Wednesday Music Trivia
DESCRIPTION:Join us for Wednesday Music Trivia hosted by Sam OBC. Every Wednesday at 7PM.
URL:https://ohiobrewingcolumbus.com/event/wednesday-music-trivia/2024-05-29/
LOCATION:OH
CATEGORIES:Trivia Night
ATTACH;FMTTYPE=image/png:https://ohiobrewingcolumbus.com/wp-content/uploads/2024/05/Music-triv-1.png
END:VEVENT
BEGIN:VEVENT
DTSTART;TZID=UTC:20240528T190000
DTEND;TZID=UTC:20240528T210000
DTSTAMP:20260422T214945
CREATED:20240513T173038Z
LAST-MODIFIED:20240515T013544Z
UID:10000265-1716922800-1716930000@ohiobrewingcolumbus.com
SUMMARY:Trivia Tuesday
DESCRIPTION:Join us for Trivia Tuesday\, beers and fun. Every Tuesday at 7PM & 8PM.
URL:https://ohiobrewingcolumbus.com/event/tuesday-trivia/2024-05-28/
LOCATION:Ohio Brewing Company\, 421 E 2nd Ave\, Columbus\, OH\, 43201\, United States
CATEGORIES:Trivia Night
ATTACH;FMTTYPE=image/jpeg:https://ohiobrewingcolumbus.com/wp-content/uploads/2024/05/IMG_3262.jpg
END:VEVENT
BEGIN:VEVENT
DTSTART;TZID=UTC:20240522T190000
DTEND;TZID=UTC:20240522T200000
DTSTAMP:20260422T214945
CREATED:20240513T173402Z
LAST-MODIFIED:20240515T011850Z
UID:10000004-1716404400-1716408000@ohiobrewingcolumbus.com
SUMMARY:Wednesday Music Trivia
DESCRIPTION:Join us for Wednesday Music Trivia hosted by Sam OBC. Every Wednesday at 7PM.
URL:https://ohiobrewingcolumbus.com/event/wednesday-music-trivia/2024-05-22/
LOCATION:OH
CATEGORIES:Trivia Night
ATTACH;FMTTYPE=image/png:https://ohiobrewingcolumbus.com/wp-content/uploads/2024/05/Music-triv-1.png
END:VEVENT
END:VCALENDAR