BEGIN:VCALENDAR
VERSION:2.0
PRODID:-//Ohio Brewing Company Columbus - ECPv6.15.20//NONSGML v1.0//EN
CALSCALE:GREGORIAN
METHOD:PUBLISH
X-ORIGINAL-URL:https://ohiobrewingcolumbus.com
X-WR-CALDESC:Events for Ohio Brewing Company Columbus
REFRESH-INTERVAL;VALUE=DURATION:PT1H
X-Robots-Tag:noindex
X-PUBLISHED-TTL:PT1H
BEGIN:VTIMEZONE
TZID:UTC
BEGIN:STANDARD
TZOFFSETFROM:+0000
TZOFFSETTO:+0000
TZNAME:UTC
DTSTART:20280101T000000
END:STANDARD
END:VTIMEZONE
BEGIN:VEVENT
DTSTART;TZID=UTC:20290419T190000
DTEND;TZID=UTC:20290419T200000
DTSTAMP:20260423T082956
CREATED:20250606T133623Z
LAST-MODIFIED:20250609T171919Z
UID:10001283-1871319600-1871323200@ohiobrewingcolumbus.com
SUMMARY:Weekly Thursday Music Trivia
DESCRIPTION:Join us for Thursday Music Trivia hosted by Sam OBC. Every Thursday at 7PM.
URL:https://ohiobrewingcolumbus.com/event/wednesday-music-trivia-2-2/2029-04-19/
LOCATION:Ohio Brewing Company\, 421 E 2nd Ave\, Columbus\, OH\, 43201\, United States
CATEGORIES:Trivia Night
ATTACH;FMTTYPE=image/jpeg:https://ohiobrewingcolumbus.com/wp-content/uploads/2025/06/Music-triv-thursday-2025.jpg
END:VEVENT
BEGIN:VEVENT
DTSTART;TZID=UTC:20290424T193000
DTEND;TZID=UTC:20290424T213000
DTSTAMP:20260423T082956
CREATED:20250825T191633Z
LAST-MODIFIED:20250825T191825Z
UID:10000792-1871753400-1871760600@ohiobrewingcolumbus.com
SUMMARY:Tuesday Night Trivia at Ohio Brewing Company
DESCRIPTION:Join us every Tuesday at 7:30 PM for a fun and challenging night of trivia at Ohio Brewing Company in partnership with I Drink & I Know Things Trivia! 🧠🍻 \nBring your friends\, test your knowledge\, and enjoy great food\, refreshing beers\, and a chance to win some awesome prizes. Whether you’re a trivia pro or just looking for a fun evening\, our trivia night is the perfect way to spice up your Tuesday night! \nWhen: Every Tuesday at 7:30 PM\nWhere: Ohio Brewing Company\, 421 E 2nd Ave\, Columbus\, OH\nPrizes: Awesome prizes for top teams! \nCome for the trivia\, stay for the great food and beer! See you there!
URL:https://ohiobrewingcolumbus.com/event/tuesday-night-trivia-at-ohio-brewing-company-2/2029-04-24/
LOCATION:Ohio Brewing Company\, 421 E 2nd Ave\, Columbus\, OH\, 43201\, United States
CATEGORIES:Trivia Night
ATTACH;FMTTYPE=image/jpeg:https://ohiobrewingcolumbus.com/wp-content/uploads/2024/10/OBC_Tuesday-Night-Trivia.jpg
END:VEVENT
BEGIN:VEVENT
DTSTART;TZID=UTC:20290426T190000
DTEND;TZID=UTC:20290426T200000
DTSTAMP:20260423T082956
CREATED:20250606T133623Z
LAST-MODIFIED:20250609T171919Z
UID:10001284-1871924400-1871928000@ohiobrewingcolumbus.com
SUMMARY:Weekly Thursday Music Trivia
DESCRIPTION:Join us for Thursday Music Trivia hosted by Sam OBC. Every Thursday at 7PM.
URL:https://ohiobrewingcolumbus.com/event/wednesday-music-trivia-2-2/2029-04-26/
LOCATION:Ohio Brewing Company\, 421 E 2nd Ave\, Columbus\, OH\, 43201\, United States
CATEGORIES:Trivia Night
ATTACH;FMTTYPE=image/jpeg:https://ohiobrewingcolumbus.com/wp-content/uploads/2025/06/Music-triv-thursday-2025.jpg
END:VEVENT
BEGIN:VEVENT
DTSTART;TZID=UTC:20290501T193000
DTEND;TZID=UTC:20290501T213000
DTSTAMP:20260423T082956
CREATED:20250825T191633Z
LAST-MODIFIED:20250825T191825Z
UID:10000793-1872358200-1872365400@ohiobrewingcolumbus.com
SUMMARY:Tuesday Night Trivia at Ohio Brewing Company
DESCRIPTION:Join us every Tuesday at 7:30 PM for a fun and challenging night of trivia at Ohio Brewing Company in partnership with I Drink & I Know Things Trivia! 🧠🍻 \nBring your friends\, test your knowledge\, and enjoy great food\, refreshing beers\, and a chance to win some awesome prizes. Whether you’re a trivia pro or just looking for a fun evening\, our trivia night is the perfect way to spice up your Tuesday night! \nWhen: Every Tuesday at 7:30 PM\nWhere: Ohio Brewing Company\, 421 E 2nd Ave\, Columbus\, OH\nPrizes: Awesome prizes for top teams! \nCome for the trivia\, stay for the great food and beer! See you there!
URL:https://ohiobrewingcolumbus.com/event/tuesday-night-trivia-at-ohio-brewing-company-2/2029-05-01/
LOCATION:Ohio Brewing Company\, 421 E 2nd Ave\, Columbus\, OH\, 43201\, United States
CATEGORIES:Trivia Night
ATTACH;FMTTYPE=image/jpeg:https://ohiobrewingcolumbus.com/wp-content/uploads/2024/10/OBC_Tuesday-Night-Trivia.jpg
END:VEVENT
BEGIN:VEVENT
DTSTART;TZID=UTC:20290503T190000
DTEND;TZID=UTC:20290503T200000
DTSTAMP:20260423T082956
CREATED:20250606T133623Z
LAST-MODIFIED:20250609T171919Z
UID:10001285-1872529200-1872532800@ohiobrewingcolumbus.com
SUMMARY:Weekly Thursday Music Trivia
DESCRIPTION:Join us for Thursday Music Trivia hosted by Sam OBC. Every Thursday at 7PM.
URL:https://ohiobrewingcolumbus.com/event/wednesday-music-trivia-2-2/2029-05-03/
LOCATION:Ohio Brewing Company\, 421 E 2nd Ave\, Columbus\, OH\, 43201\, United States
CATEGORIES:Trivia Night
ATTACH;FMTTYPE=image/jpeg:https://ohiobrewingcolumbus.com/wp-content/uploads/2025/06/Music-triv-thursday-2025.jpg
END:VEVENT
BEGIN:VEVENT
DTSTART;TZID=UTC:20290508T193000
DTEND;TZID=UTC:20290508T213000
DTSTAMP:20260423T082956
CREATED:20250825T191633Z
LAST-MODIFIED:20250825T191825Z
UID:10000794-1872963000-1872970200@ohiobrewingcolumbus.com
SUMMARY:Tuesday Night Trivia at Ohio Brewing Company
DESCRIPTION:Join us every Tuesday at 7:30 PM for a fun and challenging night of trivia at Ohio Brewing Company in partnership with I Drink & I Know Things Trivia! 🧠🍻 \nBring your friends\, test your knowledge\, and enjoy great food\, refreshing beers\, and a chance to win some awesome prizes. Whether you’re a trivia pro or just looking for a fun evening\, our trivia night is the perfect way to spice up your Tuesday night! \nWhen: Every Tuesday at 7:30 PM\nWhere: Ohio Brewing Company\, 421 E 2nd Ave\, Columbus\, OH\nPrizes: Awesome prizes for top teams! \nCome for the trivia\, stay for the great food and beer! See you there!
URL:https://ohiobrewingcolumbus.com/event/tuesday-night-trivia-at-ohio-brewing-company-2/2029-05-08/
LOCATION:Ohio Brewing Company\, 421 E 2nd Ave\, Columbus\, OH\, 43201\, United States
CATEGORIES:Trivia Night
ATTACH;FMTTYPE=image/jpeg:https://ohiobrewingcolumbus.com/wp-content/uploads/2024/10/OBC_Tuesday-Night-Trivia.jpg
END:VEVENT
BEGIN:VEVENT
DTSTART;TZID=UTC:20290510T190000
DTEND;TZID=UTC:20290510T200000
DTSTAMP:20260423T082956
CREATED:20250606T133623Z
LAST-MODIFIED:20250609T171919Z
UID:10001286-1873134000-1873137600@ohiobrewingcolumbus.com
SUMMARY:Weekly Thursday Music Trivia
DESCRIPTION:Join us for Thursday Music Trivia hosted by Sam OBC. Every Thursday at 7PM.
URL:https://ohiobrewingcolumbus.com/event/wednesday-music-trivia-2-2/2029-05-10/
LOCATION:Ohio Brewing Company\, 421 E 2nd Ave\, Columbus\, OH\, 43201\, United States
CATEGORIES:Trivia Night
ATTACH;FMTTYPE=image/jpeg:https://ohiobrewingcolumbus.com/wp-content/uploads/2025/06/Music-triv-thursday-2025.jpg
END:VEVENT
BEGIN:VEVENT
DTSTART;TZID=UTC:20290515T193000
DTEND;TZID=UTC:20290515T213000
DTSTAMP:20260423T082956
CREATED:20250825T191633Z
LAST-MODIFIED:20250825T191825Z
UID:10000795-1873567800-1873575000@ohiobrewingcolumbus.com
SUMMARY:Tuesday Night Trivia at Ohio Brewing Company
DESCRIPTION:Join us every Tuesday at 7:30 PM for a fun and challenging night of trivia at Ohio Brewing Company in partnership with I Drink & I Know Things Trivia! 🧠🍻 \nBring your friends\, test your knowledge\, and enjoy great food\, refreshing beers\, and a chance to win some awesome prizes. Whether you’re a trivia pro or just looking for a fun evening\, our trivia night is the perfect way to spice up your Tuesday night! \nWhen: Every Tuesday at 7:30 PM\nWhere: Ohio Brewing Company\, 421 E 2nd Ave\, Columbus\, OH\nPrizes: Awesome prizes for top teams! \nCome for the trivia\, stay for the great food and beer! See you there!
URL:https://ohiobrewingcolumbus.com/event/tuesday-night-trivia-at-ohio-brewing-company-2/2029-05-15/
LOCATION:Ohio Brewing Company\, 421 E 2nd Ave\, Columbus\, OH\, 43201\, United States
CATEGORIES:Trivia Night
ATTACH;FMTTYPE=image/jpeg:https://ohiobrewingcolumbus.com/wp-content/uploads/2024/10/OBC_Tuesday-Night-Trivia.jpg
END:VEVENT
BEGIN:VEVENT
DTSTART;TZID=UTC:20290517T190000
DTEND;TZID=UTC:20290517T200000
DTSTAMP:20260423T082956
CREATED:20250606T133623Z
LAST-MODIFIED:20250609T171919Z
UID:10001287-1873738800-1873742400@ohiobrewingcolumbus.com
SUMMARY:Weekly Thursday Music Trivia
DESCRIPTION:Join us for Thursday Music Trivia hosted by Sam OBC. Every Thursday at 7PM.
URL:https://ohiobrewingcolumbus.com/event/wednesday-music-trivia-2-2/2029-05-17/
LOCATION:Ohio Brewing Company\, 421 E 2nd Ave\, Columbus\, OH\, 43201\, United States
CATEGORIES:Trivia Night
ATTACH;FMTTYPE=image/jpeg:https://ohiobrewingcolumbus.com/wp-content/uploads/2025/06/Music-triv-thursday-2025.jpg
END:VEVENT
BEGIN:VEVENT
DTSTART;TZID=UTC:20290522T193000
DTEND;TZID=UTC:20290522T213000
DTSTAMP:20260423T082956
CREATED:20250825T191633Z
LAST-MODIFIED:20250825T191825Z
UID:10000796-1874172600-1874179800@ohiobrewingcolumbus.com
SUMMARY:Tuesday Night Trivia at Ohio Brewing Company
DESCRIPTION:Join us every Tuesday at 7:30 PM for a fun and challenging night of trivia at Ohio Brewing Company in partnership with I Drink & I Know Things Trivia! 🧠🍻 \nBring your friends\, test your knowledge\, and enjoy great food\, refreshing beers\, and a chance to win some awesome prizes. Whether you’re a trivia pro or just looking for a fun evening\, our trivia night is the perfect way to spice up your Tuesday night! \nWhen: Every Tuesday at 7:30 PM\nWhere: Ohio Brewing Company\, 421 E 2nd Ave\, Columbus\, OH\nPrizes: Awesome prizes for top teams! \nCome for the trivia\, stay for the great food and beer! See you there!
URL:https://ohiobrewingcolumbus.com/event/tuesday-night-trivia-at-ohio-brewing-company-2/2029-05-22/
LOCATION:Ohio Brewing Company\, 421 E 2nd Ave\, Columbus\, OH\, 43201\, United States
CATEGORIES:Trivia Night
ATTACH;FMTTYPE=image/jpeg:https://ohiobrewingcolumbus.com/wp-content/uploads/2024/10/OBC_Tuesday-Night-Trivia.jpg
END:VEVENT
BEGIN:VEVENT
DTSTART;TZID=UTC:20290524T190000
DTEND;TZID=UTC:20290524T200000
DTSTAMP:20260423T082956
CREATED:20250606T133623Z
LAST-MODIFIED:20250609T171919Z
UID:10001288-1874343600-1874347200@ohiobrewingcolumbus.com
SUMMARY:Weekly Thursday Music Trivia
DESCRIPTION:Join us for Thursday Music Trivia hosted by Sam OBC. Every Thursday at 7PM.
URL:https://ohiobrewingcolumbus.com/event/wednesday-music-trivia-2-2/2029-05-24/
LOCATION:Ohio Brewing Company\, 421 E 2nd Ave\, Columbus\, OH\, 43201\, United States
CATEGORIES:Trivia Night
ATTACH;FMTTYPE=image/jpeg:https://ohiobrewingcolumbus.com/wp-content/uploads/2025/06/Music-triv-thursday-2025.jpg
END:VEVENT
BEGIN:VEVENT
DTSTART;TZID=UTC:20290529T193000
DTEND;TZID=UTC:20290529T213000
DTSTAMP:20260423T082956
CREATED:20250825T191633Z
LAST-MODIFIED:20250825T191825Z
UID:10000797-1874777400-1874784600@ohiobrewingcolumbus.com
SUMMARY:Tuesday Night Trivia at Ohio Brewing Company
DESCRIPTION:Join us every Tuesday at 7:30 PM for a fun and challenging night of trivia at Ohio Brewing Company in partnership with I Drink & I Know Things Trivia! 🧠🍻 \nBring your friends\, test your knowledge\, and enjoy great food\, refreshing beers\, and a chance to win some awesome prizes. Whether you’re a trivia pro or just looking for a fun evening\, our trivia night is the perfect way to spice up your Tuesday night! \nWhen: Every Tuesday at 7:30 PM\nWhere: Ohio Brewing Company\, 421 E 2nd Ave\, Columbus\, OH\nPrizes: Awesome prizes for top teams! \nCome for the trivia\, stay for the great food and beer! See you there!
URL:https://ohiobrewingcolumbus.com/event/tuesday-night-trivia-at-ohio-brewing-company-2/2029-05-29/
LOCATION:Ohio Brewing Company\, 421 E 2nd Ave\, Columbus\, OH\, 43201\, United States
CATEGORIES:Trivia Night
ATTACH;FMTTYPE=image/jpeg:https://ohiobrewingcolumbus.com/wp-content/uploads/2024/10/OBC_Tuesday-Night-Trivia.jpg
END:VEVENT
BEGIN:VEVENT
DTSTART;TZID=UTC:20290531T190000
DTEND;TZID=UTC:20290531T200000
DTSTAMP:20260423T082956
CREATED:20250606T133623Z
LAST-MODIFIED:20250609T171919Z
UID:10001289-1874948400-1874952000@ohiobrewingcolumbus.com
SUMMARY:Weekly Thursday Music Trivia
DESCRIPTION:Join us for Thursday Music Trivia hosted by Sam OBC. Every Thursday at 7PM.
URL:https://ohiobrewingcolumbus.com/event/wednesday-music-trivia-2-2/2029-05-31/
LOCATION:Ohio Brewing Company\, 421 E 2nd Ave\, Columbus\, OH\, 43201\, United States
CATEGORIES:Trivia Night
ATTACH;FMTTYPE=image/jpeg:https://ohiobrewingcolumbus.com/wp-content/uploads/2025/06/Music-triv-thursday-2025.jpg
END:VEVENT
BEGIN:VEVENT
DTSTART;TZID=UTC:20290605T193000
DTEND;TZID=UTC:20290605T213000
DTSTAMP:20260423T082956
CREATED:20250825T191633Z
LAST-MODIFIED:20250825T191825Z
UID:10000798-1875382200-1875389400@ohiobrewingcolumbus.com
SUMMARY:Tuesday Night Trivia at Ohio Brewing Company
DESCRIPTION:Join us every Tuesday at 7:30 PM for a fun and challenging night of trivia at Ohio Brewing Company in partnership with I Drink & I Know Things Trivia! 🧠🍻 \nBring your friends\, test your knowledge\, and enjoy great food\, refreshing beers\, and a chance to win some awesome prizes. Whether you’re a trivia pro or just looking for a fun evening\, our trivia night is the perfect way to spice up your Tuesday night! \nWhen: Every Tuesday at 7:30 PM\nWhere: Ohio Brewing Company\, 421 E 2nd Ave\, Columbus\, OH\nPrizes: Awesome prizes for top teams! \nCome for the trivia\, stay for the great food and beer! See you there!
URL:https://ohiobrewingcolumbus.com/event/tuesday-night-trivia-at-ohio-brewing-company-2/2029-06-05/
LOCATION:Ohio Brewing Company\, 421 E 2nd Ave\, Columbus\, OH\, 43201\, United States
CATEGORIES:Trivia Night
ATTACH;FMTTYPE=image/jpeg:https://ohiobrewingcolumbus.com/wp-content/uploads/2024/10/OBC_Tuesday-Night-Trivia.jpg
END:VEVENT
BEGIN:VEVENT
DTSTART;TZID=UTC:20290607T190000
DTEND;TZID=UTC:20290607T200000
DTSTAMP:20260423T082956
CREATED:20250606T133623Z
LAST-MODIFIED:20250609T171919Z
UID:10001290-1875553200-1875556800@ohiobrewingcolumbus.com
SUMMARY:Weekly Thursday Music Trivia
DESCRIPTION:Join us for Thursday Music Trivia hosted by Sam OBC. Every Thursday at 7PM.
URL:https://ohiobrewingcolumbus.com/event/wednesday-music-trivia-2-2/2029-06-07/
LOCATION:Ohio Brewing Company\, 421 E 2nd Ave\, Columbus\, OH\, 43201\, United States
CATEGORIES:Trivia Night
ATTACH;FMTTYPE=image/jpeg:https://ohiobrewingcolumbus.com/wp-content/uploads/2025/06/Music-triv-thursday-2025.jpg
END:VEVENT
BEGIN:VEVENT
DTSTART;TZID=UTC:20290612T193000
DTEND;TZID=UTC:20290612T213000
DTSTAMP:20260423T082956
CREATED:20250825T191633Z
LAST-MODIFIED:20250825T191825Z
UID:10000799-1875987000-1875994200@ohiobrewingcolumbus.com
SUMMARY:Tuesday Night Trivia at Ohio Brewing Company
DESCRIPTION:Join us every Tuesday at 7:30 PM for a fun and challenging night of trivia at Ohio Brewing Company in partnership with I Drink & I Know Things Trivia! 🧠🍻 \nBring your friends\, test your knowledge\, and enjoy great food\, refreshing beers\, and a chance to win some awesome prizes. Whether you’re a trivia pro or just looking for a fun evening\, our trivia night is the perfect way to spice up your Tuesday night! \nWhen: Every Tuesday at 7:30 PM\nWhere: Ohio Brewing Company\, 421 E 2nd Ave\, Columbus\, OH\nPrizes: Awesome prizes for top teams! \nCome for the trivia\, stay for the great food and beer! See you there!
URL:https://ohiobrewingcolumbus.com/event/tuesday-night-trivia-at-ohio-brewing-company-2/2029-06-12/
LOCATION:Ohio Brewing Company\, 421 E 2nd Ave\, Columbus\, OH\, 43201\, United States
CATEGORIES:Trivia Night
ATTACH;FMTTYPE=image/jpeg:https://ohiobrewingcolumbus.com/wp-content/uploads/2024/10/OBC_Tuesday-Night-Trivia.jpg
END:VEVENT
BEGIN:VEVENT
DTSTART;TZID=UTC:20290614T190000
DTEND;TZID=UTC:20290614T200000
DTSTAMP:20260423T082956
CREATED:20250606T133623Z
LAST-MODIFIED:20250609T171919Z
UID:10001291-1876158000-1876161600@ohiobrewingcolumbus.com
SUMMARY:Weekly Thursday Music Trivia
DESCRIPTION:Join us for Thursday Music Trivia hosted by Sam OBC. Every Thursday at 7PM.
URL:https://ohiobrewingcolumbus.com/event/wednesday-music-trivia-2-2/2029-06-14/
LOCATION:Ohio Brewing Company\, 421 E 2nd Ave\, Columbus\, OH\, 43201\, United States
CATEGORIES:Trivia Night
ATTACH;FMTTYPE=image/jpeg:https://ohiobrewingcolumbus.com/wp-content/uploads/2025/06/Music-triv-thursday-2025.jpg
END:VEVENT
BEGIN:VEVENT
DTSTART;TZID=UTC:20290619T193000
DTEND;TZID=UTC:20290619T213000
DTSTAMP:20260423T082956
CREATED:20250825T191633Z
LAST-MODIFIED:20250825T191825Z
UID:10000800-1876591800-1876599000@ohiobrewingcolumbus.com
SUMMARY:Tuesday Night Trivia at Ohio Brewing Company
DESCRIPTION:Join us every Tuesday at 7:30 PM for a fun and challenging night of trivia at Ohio Brewing Company in partnership with I Drink & I Know Things Trivia! 🧠🍻 \nBring your friends\, test your knowledge\, and enjoy great food\, refreshing beers\, and a chance to win some awesome prizes. Whether you’re a trivia pro or just looking for a fun evening\, our trivia night is the perfect way to spice up your Tuesday night! \nWhen: Every Tuesday at 7:30 PM\nWhere: Ohio Brewing Company\, 421 E 2nd Ave\, Columbus\, OH\nPrizes: Awesome prizes for top teams! \nCome for the trivia\, stay for the great food and beer! See you there!
URL:https://ohiobrewingcolumbus.com/event/tuesday-night-trivia-at-ohio-brewing-company-2/2029-06-19/
LOCATION:Ohio Brewing Company\, 421 E 2nd Ave\, Columbus\, OH\, 43201\, United States
CATEGORIES:Trivia Night
ATTACH;FMTTYPE=image/jpeg:https://ohiobrewingcolumbus.com/wp-content/uploads/2024/10/OBC_Tuesday-Night-Trivia.jpg
END:VEVENT
BEGIN:VEVENT
DTSTART;TZID=UTC:20290621T190000
DTEND;TZID=UTC:20290621T200000
DTSTAMP:20260423T082956
CREATED:20250606T133623Z
LAST-MODIFIED:20250609T171919Z
UID:10001292-1876762800-1876766400@ohiobrewingcolumbus.com
SUMMARY:Weekly Thursday Music Trivia
DESCRIPTION:Join us for Thursday Music Trivia hosted by Sam OBC. Every Thursday at 7PM.
URL:https://ohiobrewingcolumbus.com/event/wednesday-music-trivia-2-2/2029-06-21/
LOCATION:Ohio Brewing Company\, 421 E 2nd Ave\, Columbus\, OH\, 43201\, United States
CATEGORIES:Trivia Night
ATTACH;FMTTYPE=image/jpeg:https://ohiobrewingcolumbus.com/wp-content/uploads/2025/06/Music-triv-thursday-2025.jpg
END:VEVENT
BEGIN:VEVENT
DTSTART;TZID=UTC:20290626T193000
DTEND;TZID=UTC:20290626T213000
DTSTAMP:20260423T082956
CREATED:20250825T191633Z
LAST-MODIFIED:20250825T191825Z
UID:10000801-1877196600-1877203800@ohiobrewingcolumbus.com
SUMMARY:Tuesday Night Trivia at Ohio Brewing Company
DESCRIPTION:Join us every Tuesday at 7:30 PM for a fun and challenging night of trivia at Ohio Brewing Company in partnership with I Drink & I Know Things Trivia! 🧠🍻 \nBring your friends\, test your knowledge\, and enjoy great food\, refreshing beers\, and a chance to win some awesome prizes. Whether you’re a trivia pro or just looking for a fun evening\, our trivia night is the perfect way to spice up your Tuesday night! \nWhen: Every Tuesday at 7:30 PM\nWhere: Ohio Brewing Company\, 421 E 2nd Ave\, Columbus\, OH\nPrizes: Awesome prizes for top teams! \nCome for the trivia\, stay for the great food and beer! See you there!
URL:https://ohiobrewingcolumbus.com/event/tuesday-night-trivia-at-ohio-brewing-company-2/2029-06-26/
LOCATION:Ohio Brewing Company\, 421 E 2nd Ave\, Columbus\, OH\, 43201\, United States
CATEGORIES:Trivia Night
ATTACH;FMTTYPE=image/jpeg:https://ohiobrewingcolumbus.com/wp-content/uploads/2024/10/OBC_Tuesday-Night-Trivia.jpg
END:VEVENT
BEGIN:VEVENT
DTSTART;TZID=UTC:20290628T190000
DTEND;TZID=UTC:20290628T200000
DTSTAMP:20260423T082956
CREATED:20250606T133623Z
LAST-MODIFIED:20250609T171919Z
UID:10001293-1877367600-1877371200@ohiobrewingcolumbus.com
SUMMARY:Weekly Thursday Music Trivia
DESCRIPTION:Join us for Thursday Music Trivia hosted by Sam OBC. Every Thursday at 7PM.
URL:https://ohiobrewingcolumbus.com/event/wednesday-music-trivia-2-2/2029-06-28/
LOCATION:Ohio Brewing Company\, 421 E 2nd Ave\, Columbus\, OH\, 43201\, United States
CATEGORIES:Trivia Night
ATTACH;FMTTYPE=image/jpeg:https://ohiobrewingcolumbus.com/wp-content/uploads/2025/06/Music-triv-thursday-2025.jpg
END:VEVENT
BEGIN:VEVENT
DTSTART;TZID=UTC:20290703T193000
DTEND;TZID=UTC:20290703T213000
DTSTAMP:20260423T082956
CREATED:20250825T191633Z
LAST-MODIFIED:20250825T191825Z
UID:10000802-1877801400-1877808600@ohiobrewingcolumbus.com
SUMMARY:Tuesday Night Trivia at Ohio Brewing Company
DESCRIPTION:Join us every Tuesday at 7:30 PM for a fun and challenging night of trivia at Ohio Brewing Company in partnership with I Drink & I Know Things Trivia! 🧠🍻 \nBring your friends\, test your knowledge\, and enjoy great food\, refreshing beers\, and a chance to win some awesome prizes. Whether you’re a trivia pro or just looking for a fun evening\, our trivia night is the perfect way to spice up your Tuesday night! \nWhen: Every Tuesday at 7:30 PM\nWhere: Ohio Brewing Company\, 421 E 2nd Ave\, Columbus\, OH\nPrizes: Awesome prizes for top teams! \nCome for the trivia\, stay for the great food and beer! See you there!
URL:https://ohiobrewingcolumbus.com/event/tuesday-night-trivia-at-ohio-brewing-company-2/2029-07-03/
LOCATION:Ohio Brewing Company\, 421 E 2nd Ave\, Columbus\, OH\, 43201\, United States
CATEGORIES:Trivia Night
ATTACH;FMTTYPE=image/jpeg:https://ohiobrewingcolumbus.com/wp-content/uploads/2024/10/OBC_Tuesday-Night-Trivia.jpg
END:VEVENT
BEGIN:VEVENT
DTSTART;TZID=UTC:20290705T190000
DTEND;TZID=UTC:20290705T200000
DTSTAMP:20260423T082956
CREATED:20250606T133623Z
LAST-MODIFIED:20250609T171919Z
UID:10001294-1877972400-1877976000@ohiobrewingcolumbus.com
SUMMARY:Weekly Thursday Music Trivia
DESCRIPTION:Join us for Thursday Music Trivia hosted by Sam OBC. Every Thursday at 7PM.
URL:https://ohiobrewingcolumbus.com/event/wednesday-music-trivia-2-2/2029-07-05/
LOCATION:Ohio Brewing Company\, 421 E 2nd Ave\, Columbus\, OH\, 43201\, United States
CATEGORIES:Trivia Night
ATTACH;FMTTYPE=image/jpeg:https://ohiobrewingcolumbus.com/wp-content/uploads/2025/06/Music-triv-thursday-2025.jpg
END:VEVENT
BEGIN:VEVENT
DTSTART;TZID=UTC:20290710T193000
DTEND;TZID=UTC:20290710T213000
DTSTAMP:20260423T082956
CREATED:20250825T191633Z
LAST-MODIFIED:20250825T191825Z
UID:10000803-1878406200-1878413400@ohiobrewingcolumbus.com
SUMMARY:Tuesday Night Trivia at Ohio Brewing Company
DESCRIPTION:Join us every Tuesday at 7:30 PM for a fun and challenging night of trivia at Ohio Brewing Company in partnership with I Drink & I Know Things Trivia! 🧠🍻 \nBring your friends\, test your knowledge\, and enjoy great food\, refreshing beers\, and a chance to win some awesome prizes. Whether you’re a trivia pro or just looking for a fun evening\, our trivia night is the perfect way to spice up your Tuesday night! \nWhen: Every Tuesday at 7:30 PM\nWhere: Ohio Brewing Company\, 421 E 2nd Ave\, Columbus\, OH\nPrizes: Awesome prizes for top teams! \nCome for the trivia\, stay for the great food and beer! See you there!
URL:https://ohiobrewingcolumbus.com/event/tuesday-night-trivia-at-ohio-brewing-company-2/2029-07-10/
LOCATION:Ohio Brewing Company\, 421 E 2nd Ave\, Columbus\, OH\, 43201\, United States
CATEGORIES:Trivia Night
ATTACH;FMTTYPE=image/jpeg:https://ohiobrewingcolumbus.com/wp-content/uploads/2024/10/OBC_Tuesday-Night-Trivia.jpg
END:VEVENT
BEGIN:VEVENT
DTSTART;TZID=UTC:20290712T190000
DTEND;TZID=UTC:20290712T200000
DTSTAMP:20260423T082956
CREATED:20250606T133623Z
LAST-MODIFIED:20250609T171919Z
UID:10001295-1878577200-1878580800@ohiobrewingcolumbus.com
SUMMARY:Weekly Thursday Music Trivia
DESCRIPTION:Join us for Thursday Music Trivia hosted by Sam OBC. Every Thursday at 7PM.
URL:https://ohiobrewingcolumbus.com/event/wednesday-music-trivia-2-2/2029-07-12/
LOCATION:Ohio Brewing Company\, 421 E 2nd Ave\, Columbus\, OH\, 43201\, United States
CATEGORIES:Trivia Night
ATTACH;FMTTYPE=image/jpeg:https://ohiobrewingcolumbus.com/wp-content/uploads/2025/06/Music-triv-thursday-2025.jpg
END:VEVENT
BEGIN:VEVENT
DTSTART;TZID=UTC:20290717T193000
DTEND;TZID=UTC:20290717T213000
DTSTAMP:20260423T082956
CREATED:20250825T191633Z
LAST-MODIFIED:20250825T191825Z
UID:10000804-1879011000-1879018200@ohiobrewingcolumbus.com
SUMMARY:Tuesday Night Trivia at Ohio Brewing Company
DESCRIPTION:Join us every Tuesday at 7:30 PM for a fun and challenging night of trivia at Ohio Brewing Company in partnership with I Drink & I Know Things Trivia! 🧠🍻 \nBring your friends\, test your knowledge\, and enjoy great food\, refreshing beers\, and a chance to win some awesome prizes. Whether you’re a trivia pro or just looking for a fun evening\, our trivia night is the perfect way to spice up your Tuesday night! \nWhen: Every Tuesday at 7:30 PM\nWhere: Ohio Brewing Company\, 421 E 2nd Ave\, Columbus\, OH\nPrizes: Awesome prizes for top teams! \nCome for the trivia\, stay for the great food and beer! See you there!
URL:https://ohiobrewingcolumbus.com/event/tuesday-night-trivia-at-ohio-brewing-company-2/2029-07-17/
LOCATION:Ohio Brewing Company\, 421 E 2nd Ave\, Columbus\, OH\, 43201\, United States
CATEGORIES:Trivia Night
ATTACH;FMTTYPE=image/jpeg:https://ohiobrewingcolumbus.com/wp-content/uploads/2024/10/OBC_Tuesday-Night-Trivia.jpg
END:VEVENT
BEGIN:VEVENT
DTSTART;TZID=UTC:20290719T190000
DTEND;TZID=UTC:20290719T200000
DTSTAMP:20260423T082956
CREATED:20250606T133623Z
LAST-MODIFIED:20250609T171919Z
UID:10001296-1879182000-1879185600@ohiobrewingcolumbus.com
SUMMARY:Weekly Thursday Music Trivia
DESCRIPTION:Join us for Thursday Music Trivia hosted by Sam OBC. Every Thursday at 7PM.
URL:https://ohiobrewingcolumbus.com/event/wednesday-music-trivia-2-2/2029-07-19/
LOCATION:Ohio Brewing Company\, 421 E 2nd Ave\, Columbus\, OH\, 43201\, United States
CATEGORIES:Trivia Night
ATTACH;FMTTYPE=image/jpeg:https://ohiobrewingcolumbus.com/wp-content/uploads/2025/06/Music-triv-thursday-2025.jpg
END:VEVENT
BEGIN:VEVENT
DTSTART;TZID=UTC:20290724T193000
DTEND;TZID=UTC:20290724T213000
DTSTAMP:20260423T082956
CREATED:20250825T191633Z
LAST-MODIFIED:20250825T191825Z
UID:10000805-1879615800-1879623000@ohiobrewingcolumbus.com
SUMMARY:Tuesday Night Trivia at Ohio Brewing Company
DESCRIPTION:Join us every Tuesday at 7:30 PM for a fun and challenging night of trivia at Ohio Brewing Company in partnership with I Drink & I Know Things Trivia! 🧠🍻 \nBring your friends\, test your knowledge\, and enjoy great food\, refreshing beers\, and a chance to win some awesome prizes. Whether you’re a trivia pro or just looking for a fun evening\, our trivia night is the perfect way to spice up your Tuesday night! \nWhen: Every Tuesday at 7:30 PM\nWhere: Ohio Brewing Company\, 421 E 2nd Ave\, Columbus\, OH\nPrizes: Awesome prizes for top teams! \nCome for the trivia\, stay for the great food and beer! See you there!
URL:https://ohiobrewingcolumbus.com/event/tuesday-night-trivia-at-ohio-brewing-company-2/2029-07-24/
LOCATION:Ohio Brewing Company\, 421 E 2nd Ave\, Columbus\, OH\, 43201\, United States
CATEGORIES:Trivia Night
ATTACH;FMTTYPE=image/jpeg:https://ohiobrewingcolumbus.com/wp-content/uploads/2024/10/OBC_Tuesday-Night-Trivia.jpg
END:VEVENT
BEGIN:VEVENT
DTSTART;TZID=UTC:20290726T190000
DTEND;TZID=UTC:20290726T200000
DTSTAMP:20260423T082956
CREATED:20250606T133623Z
LAST-MODIFIED:20250609T171919Z
UID:10001297-1879786800-1879790400@ohiobrewingcolumbus.com
SUMMARY:Weekly Thursday Music Trivia
DESCRIPTION:Join us for Thursday Music Trivia hosted by Sam OBC. Every Thursday at 7PM.
URL:https://ohiobrewingcolumbus.com/event/wednesday-music-trivia-2-2/2029-07-26/
LOCATION:Ohio Brewing Company\, 421 E 2nd Ave\, Columbus\, OH\, 43201\, United States
CATEGORIES:Trivia Night
ATTACH;FMTTYPE=image/jpeg:https://ohiobrewingcolumbus.com/wp-content/uploads/2025/06/Music-triv-thursday-2025.jpg
END:VEVENT
BEGIN:VEVENT
DTSTART;TZID=UTC:20290731T193000
DTEND;TZID=UTC:20290731T213000
DTSTAMP:20260423T082956
CREATED:20250825T191633Z
LAST-MODIFIED:20250825T191825Z
UID:10000806-1880220600-1880227800@ohiobrewingcolumbus.com
SUMMARY:Tuesday Night Trivia at Ohio Brewing Company
DESCRIPTION:Join us every Tuesday at 7:30 PM for a fun and challenging night of trivia at Ohio Brewing Company in partnership with I Drink & I Know Things Trivia! 🧠🍻 \nBring your friends\, test your knowledge\, and enjoy great food\, refreshing beers\, and a chance to win some awesome prizes. Whether you’re a trivia pro or just looking for a fun evening\, our trivia night is the perfect way to spice up your Tuesday night! \nWhen: Every Tuesday at 7:30 PM\nWhere: Ohio Brewing Company\, 421 E 2nd Ave\, Columbus\, OH\nPrizes: Awesome prizes for top teams! \nCome for the trivia\, stay for the great food and beer! See you there!
URL:https://ohiobrewingcolumbus.com/event/tuesday-night-trivia-at-ohio-brewing-company-2/2029-07-31/
LOCATION:Ohio Brewing Company\, 421 E 2nd Ave\, Columbus\, OH\, 43201\, United States
CATEGORIES:Trivia Night
ATTACH;FMTTYPE=image/jpeg:https://ohiobrewingcolumbus.com/wp-content/uploads/2024/10/OBC_Tuesday-Night-Trivia.jpg
END:VEVENT
END:VCALENDAR