BEGIN:VCALENDAR
VERSION:2.0
PRODID:-//Ohio Brewing Company Columbus - ECPv6.15.20//NONSGML v1.0//EN
CALSCALE:GREGORIAN
METHOD:PUBLISH
X-ORIGINAL-URL:https://ohiobrewingcolumbus.com
X-WR-CALDESC:Events for Ohio Brewing Company Columbus
REFRESH-INTERVAL;VALUE=DURATION:PT1H
X-Robots-Tag:noindex
X-PUBLISHED-TTL:PT1H
BEGIN:VTIMEZONE
TZID:UTC
BEGIN:STANDARD
TZOFFSETFROM:+0000
TZOFFSETTO:+0000
TZNAME:UTC
DTSTART:20280101T000000
END:STANDARD
END:VTIMEZONE
BEGIN:VEVENT
DTSTART;TZID=UTC:20291218T193000
DTEND;TZID=UTC:20291218T213000
DTSTAMP:20260423T230901
CREATED:20250825T191633Z
LAST-MODIFIED:20250825T191825Z
UID:10001352-1892316600-1892323800@ohiobrewingcolumbus.com
SUMMARY:Tuesday Night Trivia at Ohio Brewing Company
DESCRIPTION:Join us every Tuesday at 7:30 PM for a fun and challenging night of trivia at Ohio Brewing Company in partnership with I Drink & I Know Things Trivia! 🧠🍻 \nBring your friends\, test your knowledge\, and enjoy great food\, refreshing beers\, and a chance to win some awesome prizes. Whether you’re a trivia pro or just looking for a fun evening\, our trivia night is the perfect way to spice up your Tuesday night! \nWhen: Every Tuesday at 7:30 PM\nWhere: Ohio Brewing Company\, 421 E 2nd Ave\, Columbus\, OH\nPrizes: Awesome prizes for top teams! \nCome for the trivia\, stay for the great food and beer! See you there!
URL:https://ohiobrewingcolumbus.com/event/tuesday-night-trivia-at-ohio-brewing-company-2/2029-12-18/
LOCATION:Ohio Brewing Company\, 421 E 2nd Ave\, Columbus\, OH\, 43201\, United States
CATEGORIES:Trivia Night
ATTACH;FMTTYPE=image/jpeg:https://ohiobrewingcolumbus.com/wp-content/uploads/2024/10/OBC_Tuesday-Night-Trivia.jpg
END:VEVENT
BEGIN:VEVENT
DTSTART;TZID=UTC:20291220T190000
DTEND;TZID=UTC:20291220T200000
DTSTAMP:20260423T230901
CREATED:20250606T133623Z
LAST-MODIFIED:20250609T171919Z
UID:10001318-1892487600-1892491200@ohiobrewingcolumbus.com
SUMMARY:Weekly Thursday Music Trivia
DESCRIPTION:Join us for Thursday Music Trivia hosted by Sam OBC. Every Thursday at 7PM.
URL:https://ohiobrewingcolumbus.com/event/wednesday-music-trivia-2-2/2029-12-20/
LOCATION:Ohio Brewing Company\, 421 E 2nd Ave\, Columbus\, OH\, 43201\, United States
CATEGORIES:Trivia Night
ATTACH;FMTTYPE=image/jpeg:https://ohiobrewingcolumbus.com/wp-content/uploads/2025/06/Music-triv-thursday-2025.jpg
END:VEVENT
BEGIN:VEVENT
DTSTART;TZID=UTC:20291225T193000
DTEND;TZID=UTC:20291225T213000
DTSTAMP:20260423T230901
CREATED:20250825T191633Z
LAST-MODIFIED:20250825T191825Z
UID:10001353-1892921400-1892928600@ohiobrewingcolumbus.com
SUMMARY:Tuesday Night Trivia at Ohio Brewing Company
DESCRIPTION:Join us every Tuesday at 7:30 PM for a fun and challenging night of trivia at Ohio Brewing Company in partnership with I Drink & I Know Things Trivia! 🧠🍻 \nBring your friends\, test your knowledge\, and enjoy great food\, refreshing beers\, and a chance to win some awesome prizes. Whether you’re a trivia pro or just looking for a fun evening\, our trivia night is the perfect way to spice up your Tuesday night! \nWhen: Every Tuesday at 7:30 PM\nWhere: Ohio Brewing Company\, 421 E 2nd Ave\, Columbus\, OH\nPrizes: Awesome prizes for top teams! \nCome for the trivia\, stay for the great food and beer! See you there!
URL:https://ohiobrewingcolumbus.com/event/tuesday-night-trivia-at-ohio-brewing-company-2/2029-12-25/
LOCATION:Ohio Brewing Company\, 421 E 2nd Ave\, Columbus\, OH\, 43201\, United States
CATEGORIES:Trivia Night
ATTACH;FMTTYPE=image/jpeg:https://ohiobrewingcolumbus.com/wp-content/uploads/2024/10/OBC_Tuesday-Night-Trivia.jpg
END:VEVENT
BEGIN:VEVENT
DTSTART;TZID=UTC:20291227T190000
DTEND;TZID=UTC:20291227T200000
DTSTAMP:20260423T230901
CREATED:20250606T133623Z
LAST-MODIFIED:20250609T171919Z
UID:10001319-1893092400-1893096000@ohiobrewingcolumbus.com
SUMMARY:Weekly Thursday Music Trivia
DESCRIPTION:Join us for Thursday Music Trivia hosted by Sam OBC. Every Thursday at 7PM.
URL:https://ohiobrewingcolumbus.com/event/wednesday-music-trivia-2-2/2029-12-27/
LOCATION:Ohio Brewing Company\, 421 E 2nd Ave\, Columbus\, OH\, 43201\, United States
CATEGORIES:Trivia Night
ATTACH;FMTTYPE=image/jpeg:https://ohiobrewingcolumbus.com/wp-content/uploads/2025/06/Music-triv-thursday-2025.jpg
END:VEVENT
BEGIN:VEVENT
DTSTART;TZID=UTC:20300101T193000
DTEND;TZID=UTC:20300101T213000
DTSTAMP:20260423T230901
CREATED:20250825T191633Z
LAST-MODIFIED:20250825T191825Z
UID:10001354-1893526200-1893533400@ohiobrewingcolumbus.com
SUMMARY:Tuesday Night Trivia at Ohio Brewing Company
DESCRIPTION:Join us every Tuesday at 7:30 PM for a fun and challenging night of trivia at Ohio Brewing Company in partnership with I Drink & I Know Things Trivia! 🧠🍻 \nBring your friends\, test your knowledge\, and enjoy great food\, refreshing beers\, and a chance to win some awesome prizes. Whether you’re a trivia pro or just looking for a fun evening\, our trivia night is the perfect way to spice up your Tuesday night! \nWhen: Every Tuesday at 7:30 PM\nWhere: Ohio Brewing Company\, 421 E 2nd Ave\, Columbus\, OH\nPrizes: Awesome prizes for top teams! \nCome for the trivia\, stay for the great food and beer! See you there!
URL:https://ohiobrewingcolumbus.com/event/tuesday-night-trivia-at-ohio-brewing-company-2/2030-01-01/
LOCATION:Ohio Brewing Company\, 421 E 2nd Ave\, Columbus\, OH\, 43201\, United States
CATEGORIES:Trivia Night
ATTACH;FMTTYPE=image/jpeg:https://ohiobrewingcolumbus.com/wp-content/uploads/2024/10/OBC_Tuesday-Night-Trivia.jpg
END:VEVENT
BEGIN:VEVENT
DTSTART;TZID=UTC:20300103T190000
DTEND;TZID=UTC:20300103T200000
DTSTAMP:20260423T230901
CREATED:20250606T133623Z
LAST-MODIFIED:20250609T171919Z
UID:10001320-1893697200-1893700800@ohiobrewingcolumbus.com
SUMMARY:Weekly Thursday Music Trivia
DESCRIPTION:Join us for Thursday Music Trivia hosted by Sam OBC. Every Thursday at 7PM.
URL:https://ohiobrewingcolumbus.com/event/wednesday-music-trivia-2-2/2030-01-03/
LOCATION:Ohio Brewing Company\, 421 E 2nd Ave\, Columbus\, OH\, 43201\, United States
CATEGORIES:Trivia Night
ATTACH;FMTTYPE=image/jpeg:https://ohiobrewingcolumbus.com/wp-content/uploads/2025/06/Music-triv-thursday-2025.jpg
END:VEVENT
BEGIN:VEVENT
DTSTART;TZID=UTC:20300108T193000
DTEND;TZID=UTC:20300108T213000
DTSTAMP:20260423T230901
CREATED:20250825T191633Z
LAST-MODIFIED:20250825T191825Z
UID:10001355-1894131000-1894138200@ohiobrewingcolumbus.com
SUMMARY:Tuesday Night Trivia at Ohio Brewing Company
DESCRIPTION:Join us every Tuesday at 7:30 PM for a fun and challenging night of trivia at Ohio Brewing Company in partnership with I Drink & I Know Things Trivia! 🧠🍻 \nBring your friends\, test your knowledge\, and enjoy great food\, refreshing beers\, and a chance to win some awesome prizes. Whether you’re a trivia pro or just looking for a fun evening\, our trivia night is the perfect way to spice up your Tuesday night! \nWhen: Every Tuesday at 7:30 PM\nWhere: Ohio Brewing Company\, 421 E 2nd Ave\, Columbus\, OH\nPrizes: Awesome prizes for top teams! \nCome for the trivia\, stay for the great food and beer! See you there!
URL:https://ohiobrewingcolumbus.com/event/tuesday-night-trivia-at-ohio-brewing-company-2/2030-01-08/
LOCATION:Ohio Brewing Company\, 421 E 2nd Ave\, Columbus\, OH\, 43201\, United States
CATEGORIES:Trivia Night
ATTACH;FMTTYPE=image/jpeg:https://ohiobrewingcolumbus.com/wp-content/uploads/2024/10/OBC_Tuesday-Night-Trivia.jpg
END:VEVENT
BEGIN:VEVENT
DTSTART;TZID=UTC:20300110T190000
DTEND;TZID=UTC:20300110T200000
DTSTAMP:20260423T230901
CREATED:20250606T133623Z
LAST-MODIFIED:20250609T171919Z
UID:10001321-1894302000-1894305600@ohiobrewingcolumbus.com
SUMMARY:Weekly Thursday Music Trivia
DESCRIPTION:Join us for Thursday Music Trivia hosted by Sam OBC. Every Thursday at 7PM.
URL:https://ohiobrewingcolumbus.com/event/wednesday-music-trivia-2-2/2030-01-10/
LOCATION:Ohio Brewing Company\, 421 E 2nd Ave\, Columbus\, OH\, 43201\, United States
CATEGORIES:Trivia Night
ATTACH;FMTTYPE=image/jpeg:https://ohiobrewingcolumbus.com/wp-content/uploads/2025/06/Music-triv-thursday-2025.jpg
END:VEVENT
BEGIN:VEVENT
DTSTART;TZID=UTC:20300115T193000
DTEND;TZID=UTC:20300115T213000
DTSTAMP:20260423T230901
CREATED:20250825T191633Z
LAST-MODIFIED:20250825T191825Z
UID:10001356-1894735800-1894743000@ohiobrewingcolumbus.com
SUMMARY:Tuesday Night Trivia at Ohio Brewing Company
DESCRIPTION:Join us every Tuesday at 7:30 PM for a fun and challenging night of trivia at Ohio Brewing Company in partnership with I Drink & I Know Things Trivia! 🧠🍻 \nBring your friends\, test your knowledge\, and enjoy great food\, refreshing beers\, and a chance to win some awesome prizes. Whether you’re a trivia pro or just looking for a fun evening\, our trivia night is the perfect way to spice up your Tuesday night! \nWhen: Every Tuesday at 7:30 PM\nWhere: Ohio Brewing Company\, 421 E 2nd Ave\, Columbus\, OH\nPrizes: Awesome prizes for top teams! \nCome for the trivia\, stay for the great food and beer! See you there!
URL:https://ohiobrewingcolumbus.com/event/tuesday-night-trivia-at-ohio-brewing-company-2/2030-01-15/
LOCATION:Ohio Brewing Company\, 421 E 2nd Ave\, Columbus\, OH\, 43201\, United States
CATEGORIES:Trivia Night
ATTACH;FMTTYPE=image/jpeg:https://ohiobrewingcolumbus.com/wp-content/uploads/2024/10/OBC_Tuesday-Night-Trivia.jpg
END:VEVENT
BEGIN:VEVENT
DTSTART;TZID=UTC:20300117T190000
DTEND;TZID=UTC:20300117T200000
DTSTAMP:20260423T230901
CREATED:20250606T133623Z
LAST-MODIFIED:20250609T171919Z
UID:10001322-1894906800-1894910400@ohiobrewingcolumbus.com
SUMMARY:Weekly Thursday Music Trivia
DESCRIPTION:Join us for Thursday Music Trivia hosted by Sam OBC. Every Thursday at 7PM.
URL:https://ohiobrewingcolumbus.com/event/wednesday-music-trivia-2-2/2030-01-17/
LOCATION:Ohio Brewing Company\, 421 E 2nd Ave\, Columbus\, OH\, 43201\, United States
CATEGORIES:Trivia Night
ATTACH;FMTTYPE=image/jpeg:https://ohiobrewingcolumbus.com/wp-content/uploads/2025/06/Music-triv-thursday-2025.jpg
END:VEVENT
BEGIN:VEVENT
DTSTART;TZID=UTC:20300122T193000
DTEND;TZID=UTC:20300122T213000
DTSTAMP:20260423T230901
CREATED:20250825T191633Z
LAST-MODIFIED:20250825T191825Z
UID:10001357-1895340600-1895347800@ohiobrewingcolumbus.com
SUMMARY:Tuesday Night Trivia at Ohio Brewing Company
DESCRIPTION:Join us every Tuesday at 7:30 PM for a fun and challenging night of trivia at Ohio Brewing Company in partnership with I Drink & I Know Things Trivia! 🧠🍻 \nBring your friends\, test your knowledge\, and enjoy great food\, refreshing beers\, and a chance to win some awesome prizes. Whether you’re a trivia pro or just looking for a fun evening\, our trivia night is the perfect way to spice up your Tuesday night! \nWhen: Every Tuesday at 7:30 PM\nWhere: Ohio Brewing Company\, 421 E 2nd Ave\, Columbus\, OH\nPrizes: Awesome prizes for top teams! \nCome for the trivia\, stay for the great food and beer! See you there!
URL:https://ohiobrewingcolumbus.com/event/tuesday-night-trivia-at-ohio-brewing-company-2/2030-01-22/
LOCATION:Ohio Brewing Company\, 421 E 2nd Ave\, Columbus\, OH\, 43201\, United States
CATEGORIES:Trivia Night
ATTACH;FMTTYPE=image/jpeg:https://ohiobrewingcolumbus.com/wp-content/uploads/2024/10/OBC_Tuesday-Night-Trivia.jpg
END:VEVENT
BEGIN:VEVENT
DTSTART;TZID=UTC:20300124T190000
DTEND;TZID=UTC:20300124T200000
DTSTAMP:20260423T230901
CREATED:20250606T133623Z
LAST-MODIFIED:20250609T171919Z
UID:10001323-1895511600-1895515200@ohiobrewingcolumbus.com
SUMMARY:Weekly Thursday Music Trivia
DESCRIPTION:Join us for Thursday Music Trivia hosted by Sam OBC. Every Thursday at 7PM.
URL:https://ohiobrewingcolumbus.com/event/wednesday-music-trivia-2-2/2030-01-24/
LOCATION:Ohio Brewing Company\, 421 E 2nd Ave\, Columbus\, OH\, 43201\, United States
CATEGORIES:Trivia Night
ATTACH;FMTTYPE=image/jpeg:https://ohiobrewingcolumbus.com/wp-content/uploads/2025/06/Music-triv-thursday-2025.jpg
END:VEVENT
BEGIN:VEVENT
DTSTART;TZID=UTC:20300129T193000
DTEND;TZID=UTC:20300129T213000
DTSTAMP:20260423T230901
CREATED:20250825T191633Z
LAST-MODIFIED:20250825T191825Z
UID:10001358-1895945400-1895952600@ohiobrewingcolumbus.com
SUMMARY:Tuesday Night Trivia at Ohio Brewing Company
DESCRIPTION:Join us every Tuesday at 7:30 PM for a fun and challenging night of trivia at Ohio Brewing Company in partnership with I Drink & I Know Things Trivia! 🧠🍻 \nBring your friends\, test your knowledge\, and enjoy great food\, refreshing beers\, and a chance to win some awesome prizes. Whether you’re a trivia pro or just looking for a fun evening\, our trivia night is the perfect way to spice up your Tuesday night! \nWhen: Every Tuesday at 7:30 PM\nWhere: Ohio Brewing Company\, 421 E 2nd Ave\, Columbus\, OH\nPrizes: Awesome prizes for top teams! \nCome for the trivia\, stay for the great food and beer! See you there!
URL:https://ohiobrewingcolumbus.com/event/tuesday-night-trivia-at-ohio-brewing-company-2/2030-01-29/
LOCATION:Ohio Brewing Company\, 421 E 2nd Ave\, Columbus\, OH\, 43201\, United States
CATEGORIES:Trivia Night
ATTACH;FMTTYPE=image/jpeg:https://ohiobrewingcolumbus.com/wp-content/uploads/2024/10/OBC_Tuesday-Night-Trivia.jpg
END:VEVENT
BEGIN:VEVENT
DTSTART;TZID=UTC:20300131T190000
DTEND;TZID=UTC:20300131T200000
DTSTAMP:20260423T230901
CREATED:20250606T133623Z
LAST-MODIFIED:20250609T171919Z
UID:10001324-1896116400-1896120000@ohiobrewingcolumbus.com
SUMMARY:Weekly Thursday Music Trivia
DESCRIPTION:Join us for Thursday Music Trivia hosted by Sam OBC. Every Thursday at 7PM.
URL:https://ohiobrewingcolumbus.com/event/wednesday-music-trivia-2-2/2030-01-31/
LOCATION:Ohio Brewing Company\, 421 E 2nd Ave\, Columbus\, OH\, 43201\, United States
CATEGORIES:Trivia Night
ATTACH;FMTTYPE=image/jpeg:https://ohiobrewingcolumbus.com/wp-content/uploads/2025/06/Music-triv-thursday-2025.jpg
END:VEVENT
BEGIN:VEVENT
DTSTART;TZID=UTC:20300205T193000
DTEND;TZID=UTC:20300205T213000
DTSTAMP:20260423T230901
CREATED:20250825T191633Z
LAST-MODIFIED:20250825T191825Z
UID:10001359-1896550200-1896557400@ohiobrewingcolumbus.com
SUMMARY:Tuesday Night Trivia at Ohio Brewing Company
DESCRIPTION:Join us every Tuesday at 7:30 PM for a fun and challenging night of trivia at Ohio Brewing Company in partnership with I Drink & I Know Things Trivia! 🧠🍻 \nBring your friends\, test your knowledge\, and enjoy great food\, refreshing beers\, and a chance to win some awesome prizes. Whether you’re a trivia pro or just looking for a fun evening\, our trivia night is the perfect way to spice up your Tuesday night! \nWhen: Every Tuesday at 7:30 PM\nWhere: Ohio Brewing Company\, 421 E 2nd Ave\, Columbus\, OH\nPrizes: Awesome prizes for top teams! \nCome for the trivia\, stay for the great food and beer! See you there!
URL:https://ohiobrewingcolumbus.com/event/tuesday-night-trivia-at-ohio-brewing-company-2/2030-02-05/
LOCATION:Ohio Brewing Company\, 421 E 2nd Ave\, Columbus\, OH\, 43201\, United States
CATEGORIES:Trivia Night
ATTACH;FMTTYPE=image/jpeg:https://ohiobrewingcolumbus.com/wp-content/uploads/2024/10/OBC_Tuesday-Night-Trivia.jpg
END:VEVENT
BEGIN:VEVENT
DTSTART;TZID=UTC:20300207T190000
DTEND;TZID=UTC:20300207T200000
DTSTAMP:20260423T230901
CREATED:20250606T133623Z
LAST-MODIFIED:20250609T171919Z
UID:10001325-1896721200-1896724800@ohiobrewingcolumbus.com
SUMMARY:Weekly Thursday Music Trivia
DESCRIPTION:Join us for Thursday Music Trivia hosted by Sam OBC. Every Thursday at 7PM.
URL:https://ohiobrewingcolumbus.com/event/wednesday-music-trivia-2-2/2030-02-07/
LOCATION:Ohio Brewing Company\, 421 E 2nd Ave\, Columbus\, OH\, 43201\, United States
CATEGORIES:Trivia Night
ATTACH;FMTTYPE=image/jpeg:https://ohiobrewingcolumbus.com/wp-content/uploads/2025/06/Music-triv-thursday-2025.jpg
END:VEVENT
BEGIN:VEVENT
DTSTART;TZID=UTC:20300212T193000
DTEND;TZID=UTC:20300212T213000
DTSTAMP:20260423T230901
CREATED:20250825T191633Z
LAST-MODIFIED:20250825T191825Z
UID:10001360-1897155000-1897162200@ohiobrewingcolumbus.com
SUMMARY:Tuesday Night Trivia at Ohio Brewing Company
DESCRIPTION:Join us every Tuesday at 7:30 PM for a fun and challenging night of trivia at Ohio Brewing Company in partnership with I Drink & I Know Things Trivia! 🧠🍻 \nBring your friends\, test your knowledge\, and enjoy great food\, refreshing beers\, and a chance to win some awesome prizes. Whether you’re a trivia pro or just looking for a fun evening\, our trivia night is the perfect way to spice up your Tuesday night! \nWhen: Every Tuesday at 7:30 PM\nWhere: Ohio Brewing Company\, 421 E 2nd Ave\, Columbus\, OH\nPrizes: Awesome prizes for top teams! \nCome for the trivia\, stay for the great food and beer! See you there!
URL:https://ohiobrewingcolumbus.com/event/tuesday-night-trivia-at-ohio-brewing-company-2/2030-02-12/
LOCATION:Ohio Brewing Company\, 421 E 2nd Ave\, Columbus\, OH\, 43201\, United States
CATEGORIES:Trivia Night
ATTACH;FMTTYPE=image/jpeg:https://ohiobrewingcolumbus.com/wp-content/uploads/2024/10/OBC_Tuesday-Night-Trivia.jpg
END:VEVENT
BEGIN:VEVENT
DTSTART;TZID=UTC:20300214T190000
DTEND;TZID=UTC:20300214T200000
DTSTAMP:20260423T230901
CREATED:20250606T133623Z
LAST-MODIFIED:20250609T171919Z
UID:10001326-1897326000-1897329600@ohiobrewingcolumbus.com
SUMMARY:Weekly Thursday Music Trivia
DESCRIPTION:Join us for Thursday Music Trivia hosted by Sam OBC. Every Thursday at 7PM.
URL:https://ohiobrewingcolumbus.com/event/wednesday-music-trivia-2-2/2030-02-14/
LOCATION:Ohio Brewing Company\, 421 E 2nd Ave\, Columbus\, OH\, 43201\, United States
CATEGORIES:Trivia Night
ATTACH;FMTTYPE=image/jpeg:https://ohiobrewingcolumbus.com/wp-content/uploads/2025/06/Music-triv-thursday-2025.jpg
END:VEVENT
BEGIN:VEVENT
DTSTART;TZID=UTC:20300219T193000
DTEND;TZID=UTC:20300219T213000
DTSTAMP:20260423T230901
CREATED:20250825T191633Z
LAST-MODIFIED:20250825T191825Z
UID:10001361-1897759800-1897767000@ohiobrewingcolumbus.com
SUMMARY:Tuesday Night Trivia at Ohio Brewing Company
DESCRIPTION:Join us every Tuesday at 7:30 PM for a fun and challenging night of trivia at Ohio Brewing Company in partnership with I Drink & I Know Things Trivia! 🧠🍻 \nBring your friends\, test your knowledge\, and enjoy great food\, refreshing beers\, and a chance to win some awesome prizes. Whether you’re a trivia pro or just looking for a fun evening\, our trivia night is the perfect way to spice up your Tuesday night! \nWhen: Every Tuesday at 7:30 PM\nWhere: Ohio Brewing Company\, 421 E 2nd Ave\, Columbus\, OH\nPrizes: Awesome prizes for top teams! \nCome for the trivia\, stay for the great food and beer! See you there!
URL:https://ohiobrewingcolumbus.com/event/tuesday-night-trivia-at-ohio-brewing-company-2/2030-02-19/
LOCATION:Ohio Brewing Company\, 421 E 2nd Ave\, Columbus\, OH\, 43201\, United States
CATEGORIES:Trivia Night
ATTACH;FMTTYPE=image/jpeg:https://ohiobrewingcolumbus.com/wp-content/uploads/2024/10/OBC_Tuesday-Night-Trivia.jpg
END:VEVENT
BEGIN:VEVENT
DTSTART;TZID=UTC:20300221T190000
DTEND;TZID=UTC:20300221T200000
DTSTAMP:20260423T230901
CREATED:20250606T133623Z
LAST-MODIFIED:20250609T171919Z
UID:10001327-1897930800-1897934400@ohiobrewingcolumbus.com
SUMMARY:Weekly Thursday Music Trivia
DESCRIPTION:Join us for Thursday Music Trivia hosted by Sam OBC. Every Thursday at 7PM.
URL:https://ohiobrewingcolumbus.com/event/wednesday-music-trivia-2-2/2030-02-21/
LOCATION:Ohio Brewing Company\, 421 E 2nd Ave\, Columbus\, OH\, 43201\, United States
CATEGORIES:Trivia Night
ATTACH;FMTTYPE=image/jpeg:https://ohiobrewingcolumbus.com/wp-content/uploads/2025/06/Music-triv-thursday-2025.jpg
END:VEVENT
BEGIN:VEVENT
DTSTART;TZID=UTC:20300226T193000
DTEND;TZID=UTC:20300226T213000
DTSTAMP:20260423T230901
CREATED:20250825T191633Z
LAST-MODIFIED:20250825T191825Z
UID:10001362-1898364600-1898371800@ohiobrewingcolumbus.com
SUMMARY:Tuesday Night Trivia at Ohio Brewing Company
DESCRIPTION:Join us every Tuesday at 7:30 PM for a fun and challenging night of trivia at Ohio Brewing Company in partnership with I Drink & I Know Things Trivia! 🧠🍻 \nBring your friends\, test your knowledge\, and enjoy great food\, refreshing beers\, and a chance to win some awesome prizes. Whether you’re a trivia pro or just looking for a fun evening\, our trivia night is the perfect way to spice up your Tuesday night! \nWhen: Every Tuesday at 7:30 PM\nWhere: Ohio Brewing Company\, 421 E 2nd Ave\, Columbus\, OH\nPrizes: Awesome prizes for top teams! \nCome for the trivia\, stay for the great food and beer! See you there!
URL:https://ohiobrewingcolumbus.com/event/tuesday-night-trivia-at-ohio-brewing-company-2/2030-02-26/
LOCATION:Ohio Brewing Company\, 421 E 2nd Ave\, Columbus\, OH\, 43201\, United States
CATEGORIES:Trivia Night
ATTACH;FMTTYPE=image/jpeg:https://ohiobrewingcolumbus.com/wp-content/uploads/2024/10/OBC_Tuesday-Night-Trivia.jpg
END:VEVENT
BEGIN:VEVENT
DTSTART;TZID=UTC:20300228T190000
DTEND;TZID=UTC:20300228T200000
DTSTAMP:20260423T230901
CREATED:20250606T133623Z
LAST-MODIFIED:20250609T171919Z
UID:10001328-1898535600-1898539200@ohiobrewingcolumbus.com
SUMMARY:Weekly Thursday Music Trivia
DESCRIPTION:Join us for Thursday Music Trivia hosted by Sam OBC. Every Thursday at 7PM.
URL:https://ohiobrewingcolumbus.com/event/wednesday-music-trivia-2-2/2030-02-28/
LOCATION:Ohio Brewing Company\, 421 E 2nd Ave\, Columbus\, OH\, 43201\, United States
CATEGORIES:Trivia Night
ATTACH;FMTTYPE=image/jpeg:https://ohiobrewingcolumbus.com/wp-content/uploads/2025/06/Music-triv-thursday-2025.jpg
END:VEVENT
BEGIN:VEVENT
DTSTART;TZID=UTC:20300305T193000
DTEND;TZID=UTC:20300305T213000
DTSTAMP:20260423T230901
CREATED:20250825T191633Z
LAST-MODIFIED:20250825T191825Z
UID:10001363-1898969400-1898976600@ohiobrewingcolumbus.com
SUMMARY:Tuesday Night Trivia at Ohio Brewing Company
DESCRIPTION:Join us every Tuesday at 7:30 PM for a fun and challenging night of trivia at Ohio Brewing Company in partnership with I Drink & I Know Things Trivia! 🧠🍻 \nBring your friends\, test your knowledge\, and enjoy great food\, refreshing beers\, and a chance to win some awesome prizes. Whether you’re a trivia pro or just looking for a fun evening\, our trivia night is the perfect way to spice up your Tuesday night! \nWhen: Every Tuesday at 7:30 PM\nWhere: Ohio Brewing Company\, 421 E 2nd Ave\, Columbus\, OH\nPrizes: Awesome prizes for top teams! \nCome for the trivia\, stay for the great food and beer! See you there!
URL:https://ohiobrewingcolumbus.com/event/tuesday-night-trivia-at-ohio-brewing-company-2/2030-03-05/
LOCATION:Ohio Brewing Company\, 421 E 2nd Ave\, Columbus\, OH\, 43201\, United States
CATEGORIES:Trivia Night
ATTACH;FMTTYPE=image/jpeg:https://ohiobrewingcolumbus.com/wp-content/uploads/2024/10/OBC_Tuesday-Night-Trivia.jpg
END:VEVENT
BEGIN:VEVENT
DTSTART;TZID=UTC:20300307T190000
DTEND;TZID=UTC:20300307T200000
DTSTAMP:20260423T230902
CREATED:20250606T133623Z
LAST-MODIFIED:20250609T171919Z
UID:10001329-1899140400-1899144000@ohiobrewingcolumbus.com
SUMMARY:Weekly Thursday Music Trivia
DESCRIPTION:Join us for Thursday Music Trivia hosted by Sam OBC. Every Thursday at 7PM.
URL:https://ohiobrewingcolumbus.com/event/wednesday-music-trivia-2-2/2030-03-07/
LOCATION:Ohio Brewing Company\, 421 E 2nd Ave\, Columbus\, OH\, 43201\, United States
CATEGORIES:Trivia Night
ATTACH;FMTTYPE=image/jpeg:https://ohiobrewingcolumbus.com/wp-content/uploads/2025/06/Music-triv-thursday-2025.jpg
END:VEVENT
BEGIN:VEVENT
DTSTART;TZID=UTC:20300312T193000
DTEND;TZID=UTC:20300312T213000
DTSTAMP:20260423T230902
CREATED:20250825T191633Z
LAST-MODIFIED:20250825T191825Z
UID:10001364-1899574200-1899581400@ohiobrewingcolumbus.com
SUMMARY:Tuesday Night Trivia at Ohio Brewing Company
DESCRIPTION:Join us every Tuesday at 7:30 PM for a fun and challenging night of trivia at Ohio Brewing Company in partnership with I Drink & I Know Things Trivia! 🧠🍻 \nBring your friends\, test your knowledge\, and enjoy great food\, refreshing beers\, and a chance to win some awesome prizes. Whether you’re a trivia pro or just looking for a fun evening\, our trivia night is the perfect way to spice up your Tuesday night! \nWhen: Every Tuesday at 7:30 PM\nWhere: Ohio Brewing Company\, 421 E 2nd Ave\, Columbus\, OH\nPrizes: Awesome prizes for top teams! \nCome for the trivia\, stay for the great food and beer! See you there!
URL:https://ohiobrewingcolumbus.com/event/tuesday-night-trivia-at-ohio-brewing-company-2/2030-03-12/
LOCATION:Ohio Brewing Company\, 421 E 2nd Ave\, Columbus\, OH\, 43201\, United States
CATEGORIES:Trivia Night
ATTACH;FMTTYPE=image/jpeg:https://ohiobrewingcolumbus.com/wp-content/uploads/2024/10/OBC_Tuesday-Night-Trivia.jpg
END:VEVENT
BEGIN:VEVENT
DTSTART;TZID=UTC:20300314T190000
DTEND;TZID=UTC:20300314T200000
DTSTAMP:20260423T230902
CREATED:20250606T133623Z
LAST-MODIFIED:20250609T171919Z
UID:10001330-1899745200-1899748800@ohiobrewingcolumbus.com
SUMMARY:Weekly Thursday Music Trivia
DESCRIPTION:Join us for Thursday Music Trivia hosted by Sam OBC. Every Thursday at 7PM.
URL:https://ohiobrewingcolumbus.com/event/wednesday-music-trivia-2-2/2030-03-14/
LOCATION:Ohio Brewing Company\, 421 E 2nd Ave\, Columbus\, OH\, 43201\, United States
CATEGORIES:Trivia Night
ATTACH;FMTTYPE=image/jpeg:https://ohiobrewingcolumbus.com/wp-content/uploads/2025/06/Music-triv-thursday-2025.jpg
END:VEVENT
BEGIN:VEVENT
DTSTART;TZID=UTC:20300319T193000
DTEND;TZID=UTC:20300319T213000
DTSTAMP:20260423T230902
CREATED:20250825T191633Z
LAST-MODIFIED:20250825T191825Z
UID:10001365-1900179000-1900186200@ohiobrewingcolumbus.com
SUMMARY:Tuesday Night Trivia at Ohio Brewing Company
DESCRIPTION:Join us every Tuesday at 7:30 PM for a fun and challenging night of trivia at Ohio Brewing Company in partnership with I Drink & I Know Things Trivia! 🧠🍻 \nBring your friends\, test your knowledge\, and enjoy great food\, refreshing beers\, and a chance to win some awesome prizes. Whether you’re a trivia pro or just looking for a fun evening\, our trivia night is the perfect way to spice up your Tuesday night! \nWhen: Every Tuesday at 7:30 PM\nWhere: Ohio Brewing Company\, 421 E 2nd Ave\, Columbus\, OH\nPrizes: Awesome prizes for top teams! \nCome for the trivia\, stay for the great food and beer! See you there!
URL:https://ohiobrewingcolumbus.com/event/tuesday-night-trivia-at-ohio-brewing-company-2/2030-03-19/
LOCATION:Ohio Brewing Company\, 421 E 2nd Ave\, Columbus\, OH\, 43201\, United States
CATEGORIES:Trivia Night
ATTACH;FMTTYPE=image/jpeg:https://ohiobrewingcolumbus.com/wp-content/uploads/2024/10/OBC_Tuesday-Night-Trivia.jpg
END:VEVENT
BEGIN:VEVENT
DTSTART;TZID=UTC:20300321T190000
DTEND;TZID=UTC:20300321T200000
DTSTAMP:20260423T230902
CREATED:20250606T133623Z
LAST-MODIFIED:20250609T171919Z
UID:10001331-1900350000-1900353600@ohiobrewingcolumbus.com
SUMMARY:Weekly Thursday Music Trivia
DESCRIPTION:Join us for Thursday Music Trivia hosted by Sam OBC. Every Thursday at 7PM.
URL:https://ohiobrewingcolumbus.com/event/wednesday-music-trivia-2-2/2030-03-21/
LOCATION:Ohio Brewing Company\, 421 E 2nd Ave\, Columbus\, OH\, 43201\, United States
CATEGORIES:Trivia Night
ATTACH;FMTTYPE=image/jpeg:https://ohiobrewingcolumbus.com/wp-content/uploads/2025/06/Music-triv-thursday-2025.jpg
END:VEVENT
BEGIN:VEVENT
DTSTART;TZID=UTC:20300326T193000
DTEND;TZID=UTC:20300326T213000
DTSTAMP:20260423T230902
CREATED:20250825T191633Z
LAST-MODIFIED:20250825T191825Z
UID:10001366-1900783800-1900791000@ohiobrewingcolumbus.com
SUMMARY:Tuesday Night Trivia at Ohio Brewing Company
DESCRIPTION:Join us every Tuesday at 7:30 PM for a fun and challenging night of trivia at Ohio Brewing Company in partnership with I Drink & I Know Things Trivia! 🧠🍻 \nBring your friends\, test your knowledge\, and enjoy great food\, refreshing beers\, and a chance to win some awesome prizes. Whether you’re a trivia pro or just looking for a fun evening\, our trivia night is the perfect way to spice up your Tuesday night! \nWhen: Every Tuesday at 7:30 PM\nWhere: Ohio Brewing Company\, 421 E 2nd Ave\, Columbus\, OH\nPrizes: Awesome prizes for top teams! \nCome for the trivia\, stay for the great food and beer! See you there!
URL:https://ohiobrewingcolumbus.com/event/tuesday-night-trivia-at-ohio-brewing-company-2/2030-03-26/
LOCATION:Ohio Brewing Company\, 421 E 2nd Ave\, Columbus\, OH\, 43201\, United States
CATEGORIES:Trivia Night
ATTACH;FMTTYPE=image/jpeg:https://ohiobrewingcolumbus.com/wp-content/uploads/2024/10/OBC_Tuesday-Night-Trivia.jpg
END:VEVENT
BEGIN:VEVENT
DTSTART;TZID=UTC:20300328T190000
DTEND;TZID=UTC:20300328T200000
DTSTAMP:20260423T230902
CREATED:20250606T133623Z
LAST-MODIFIED:20250609T171919Z
UID:10001332-1900954800-1900958400@ohiobrewingcolumbus.com
SUMMARY:Weekly Thursday Music Trivia
DESCRIPTION:Join us for Thursday Music Trivia hosted by Sam OBC. Every Thursday at 7PM.
URL:https://ohiobrewingcolumbus.com/event/wednesday-music-trivia-2-2/2030-03-28/
LOCATION:Ohio Brewing Company\, 421 E 2nd Ave\, Columbus\, OH\, 43201\, United States
CATEGORIES:Trivia Night
ATTACH;FMTTYPE=image/jpeg:https://ohiobrewingcolumbus.com/wp-content/uploads/2025/06/Music-triv-thursday-2025.jpg
END:VEVENT
END:VCALENDAR