BEGIN:VCALENDAR
VERSION:2.0
PRODID:-//Ohio Brewing Company Columbus - ECPv6.15.20//NONSGML v1.0//EN
CALSCALE:GREGORIAN
METHOD:PUBLISH
X-WR-CALNAME:Ohio Brewing Company Columbus
X-ORIGINAL-URL:https://ohiobrewingcolumbus.com
X-WR-CALDESC:Events for Ohio Brewing Company Columbus
REFRESH-INTERVAL;VALUE=DURATION:PT1H
X-Robots-Tag:noindex
X-PUBLISHED-TTL:PT1H
BEGIN:VTIMEZONE
TZID:UTC
BEGIN:STANDARD
TZOFFSETFROM:+0000
TZOFFSETTO:+0000
TZNAME:UTC
DTSTART:20240101T000000
END:STANDARD
END:VTIMEZONE
BEGIN:VEVENT
DTSTART;TZID=UTC:20250402T190000
DTEND;TZID=UTC:20250402T200000
DTSTAMP:20260422T013019
CREATED:20240513T173402Z
LAST-MODIFIED:20240515T011850Z
UID:10000049-1743620400-1743624000@ohiobrewingcolumbus.com
SUMMARY:Wednesday Music Trivia
DESCRIPTION:Join us for Wednesday Music Trivia hosted by Sam OBC. Every Wednesday at 7PM.
URL:https://ohiobrewingcolumbus.com/event/wednesday-music-trivia/2025-04-02/
LOCATION:OH
CATEGORIES:Trivia Night
ATTACH;FMTTYPE=image/png:https://ohiobrewingcolumbus.com/wp-content/uploads/2024/05/Music-triv-1.png
END:VEVENT
BEGIN:VEVENT
DTSTART;TZID=UTC:20250408T193000
DTEND;TZID=UTC:20250408T213000
DTSTAMP:20260422T013019
CREATED:20241029T193947Z
LAST-MODIFIED:20241029T193947Z
UID:10000581-1744140600-1744147800@ohiobrewingcolumbus.com
SUMMARY:Tuesday Night Trivia at Ohio Brewing Company
DESCRIPTION:Join us every Tuesday at 7:30 PM for a fun and challenging night of trivia at Ohio Brewing Company in partnership with I Drink & I Know Things Trivia! 🧠🍻 \nBring your friends\, test your knowledge\, and enjoy great food\, refreshing beers\, and a chance to win some awesome prizes. Whether you’re a trivia pro or just looking for a fun evening\, our trivia night is the perfect way to spice up your Tuesday night! \nWhen: Every Tuesday at 7:30 PM\nWhere: Ohio Brewing Company\, 421 E 2nd Ave\, Columbus\, OH\nPrizes: Awesome prizes for top teams! \nCome for the trivia\, stay for the great food and beer! See you there!
URL:https://ohiobrewingcolumbus.com/event/tuesday-night-trivia-at-ohio-brewing-company/2025-04-08/
LOCATION:Ohio Brewing Company\, 421 E 2nd Ave\, Columbus\, OH\, 43201\, United States
CATEGORIES:Trivia Night
ATTACH;FMTTYPE=image/jpeg:https://ohiobrewingcolumbus.com/wp-content/uploads/2024/10/OBC_Tuesday-Night-Trivia.jpg
END:VEVENT
BEGIN:VEVENT
DTSTART;TZID=UTC:20250409T190000
DTEND;TZID=UTC:20250409T200000
DTSTAMP:20260422T013019
CREATED:20240513T173402Z
LAST-MODIFIED:20240515T011850Z
UID:10000050-1744225200-1744228800@ohiobrewingcolumbus.com
SUMMARY:Wednesday Music Trivia
DESCRIPTION:Join us for Wednesday Music Trivia hosted by Sam OBC. Every Wednesday at 7PM.
URL:https://ohiobrewingcolumbus.com/event/wednesday-music-trivia/2025-04-09/
LOCATION:OH
CATEGORIES:Trivia Night
ATTACH;FMTTYPE=image/png:https://ohiobrewingcolumbus.com/wp-content/uploads/2024/05/Music-triv-1.png
END:VEVENT
BEGIN:VEVENT
DTSTART;TZID=UTC:20250415T193000
DTEND;TZID=UTC:20250415T213000
DTSTAMP:20260422T013019
CREATED:20241029T193947Z
LAST-MODIFIED:20241029T193947Z
UID:10000582-1744745400-1744752600@ohiobrewingcolumbus.com
SUMMARY:Tuesday Night Trivia at Ohio Brewing Company
DESCRIPTION:Join us every Tuesday at 7:30 PM for a fun and challenging night of trivia at Ohio Brewing Company in partnership with I Drink & I Know Things Trivia! 🧠🍻 \nBring your friends\, test your knowledge\, and enjoy great food\, refreshing beers\, and a chance to win some awesome prizes. Whether you’re a trivia pro or just looking for a fun evening\, our trivia night is the perfect way to spice up your Tuesday night! \nWhen: Every Tuesday at 7:30 PM\nWhere: Ohio Brewing Company\, 421 E 2nd Ave\, Columbus\, OH\nPrizes: Awesome prizes for top teams! \nCome for the trivia\, stay for the great food and beer! See you there!
URL:https://ohiobrewingcolumbus.com/event/tuesday-night-trivia-at-ohio-brewing-company/2025-04-15/
LOCATION:Ohio Brewing Company\, 421 E 2nd Ave\, Columbus\, OH\, 43201\, United States
CATEGORIES:Trivia Night
ATTACH;FMTTYPE=image/jpeg:https://ohiobrewingcolumbus.com/wp-content/uploads/2024/10/OBC_Tuesday-Night-Trivia.jpg
END:VEVENT
BEGIN:VEVENT
DTSTART;TZID=UTC:20250416T190000
DTEND;TZID=UTC:20250416T200000
DTSTAMP:20260422T013019
CREATED:20240513T173402Z
LAST-MODIFIED:20240515T011850Z
UID:10000051-1744830000-1744833600@ohiobrewingcolumbus.com
SUMMARY:Wednesday Music Trivia
DESCRIPTION:Join us for Wednesday Music Trivia hosted by Sam OBC. Every Wednesday at 7PM.
URL:https://ohiobrewingcolumbus.com/event/wednesday-music-trivia/2025-04-16/
LOCATION:OH
CATEGORIES:Trivia Night
ATTACH;FMTTYPE=image/png:https://ohiobrewingcolumbus.com/wp-content/uploads/2024/05/Music-triv-1.png
END:VEVENT
BEGIN:VEVENT
DTSTART;TZID=UTC:20250422T193000
DTEND;TZID=UTC:20250422T213000
DTSTAMP:20260422T013019
CREATED:20241029T193947Z
LAST-MODIFIED:20241029T193947Z
UID:10000583-1745350200-1745357400@ohiobrewingcolumbus.com
SUMMARY:Tuesday Night Trivia at Ohio Brewing Company
DESCRIPTION:Join us every Tuesday at 7:30 PM for a fun and challenging night of trivia at Ohio Brewing Company in partnership with I Drink & I Know Things Trivia! 🧠🍻 \nBring your friends\, test your knowledge\, and enjoy great food\, refreshing beers\, and a chance to win some awesome prizes. Whether you’re a trivia pro or just looking for a fun evening\, our trivia night is the perfect way to spice up your Tuesday night! \nWhen: Every Tuesday at 7:30 PM\nWhere: Ohio Brewing Company\, 421 E 2nd Ave\, Columbus\, OH\nPrizes: Awesome prizes for top teams! \nCome for the trivia\, stay for the great food and beer! See you there!
URL:https://ohiobrewingcolumbus.com/event/tuesday-night-trivia-at-ohio-brewing-company/2025-04-22/
LOCATION:Ohio Brewing Company\, 421 E 2nd Ave\, Columbus\, OH\, 43201\, United States
CATEGORIES:Trivia Night
ATTACH;FMTTYPE=image/jpeg:https://ohiobrewingcolumbus.com/wp-content/uploads/2024/10/OBC_Tuesday-Night-Trivia.jpg
END:VEVENT
BEGIN:VEVENT
DTSTART;TZID=UTC:20250423T190000
DTEND;TZID=UTC:20250423T200000
DTSTAMP:20260422T013019
CREATED:20240513T173402Z
LAST-MODIFIED:20240515T011850Z
UID:10000052-1745434800-1745438400@ohiobrewingcolumbus.com
SUMMARY:Wednesday Music Trivia
DESCRIPTION:Join us for Wednesday Music Trivia hosted by Sam OBC. Every Wednesday at 7PM.
URL:https://ohiobrewingcolumbus.com/event/wednesday-music-trivia/2025-04-23/
LOCATION:OH
CATEGORIES:Trivia Night
ATTACH;FMTTYPE=image/png:https://ohiobrewingcolumbus.com/wp-content/uploads/2024/05/Music-triv-1.png
END:VEVENT
BEGIN:VEVENT
DTSTART;TZID=UTC:20250429T193000
DTEND;TZID=UTC:20250429T213000
DTSTAMP:20260422T013019
CREATED:20241029T193947Z
LAST-MODIFIED:20241029T193947Z
UID:10000584-1745955000-1745962200@ohiobrewingcolumbus.com
SUMMARY:Tuesday Night Trivia at Ohio Brewing Company
DESCRIPTION:Join us every Tuesday at 7:30 PM for a fun and challenging night of trivia at Ohio Brewing Company in partnership with I Drink & I Know Things Trivia! 🧠🍻 \nBring your friends\, test your knowledge\, and enjoy great food\, refreshing beers\, and a chance to win some awesome prizes. Whether you’re a trivia pro or just looking for a fun evening\, our trivia night is the perfect way to spice up your Tuesday night! \nWhen: Every Tuesday at 7:30 PM\nWhere: Ohio Brewing Company\, 421 E 2nd Ave\, Columbus\, OH\nPrizes: Awesome prizes for top teams! \nCome for the trivia\, stay for the great food and beer! See you there!
URL:https://ohiobrewingcolumbus.com/event/tuesday-night-trivia-at-ohio-brewing-company/2025-04-29/
LOCATION:Ohio Brewing Company\, 421 E 2nd Ave\, Columbus\, OH\, 43201\, United States
CATEGORIES:Trivia Night
ATTACH;FMTTYPE=image/jpeg:https://ohiobrewingcolumbus.com/wp-content/uploads/2024/10/OBC_Tuesday-Night-Trivia.jpg
END:VEVENT
BEGIN:VEVENT
DTSTART;TZID=UTC:20250430T190000
DTEND;TZID=UTC:20250430T200000
DTSTAMP:20260422T013019
CREATED:20240513T173402Z
LAST-MODIFIED:20240515T011850Z
UID:10000053-1746039600-1746043200@ohiobrewingcolumbus.com
SUMMARY:Wednesday Music Trivia
DESCRIPTION:Join us for Wednesday Music Trivia hosted by Sam OBC. Every Wednesday at 7PM.
URL:https://ohiobrewingcolumbus.com/event/wednesday-music-trivia/2025-04-30/
LOCATION:OH
CATEGORIES:Trivia Night
ATTACH;FMTTYPE=image/png:https://ohiobrewingcolumbus.com/wp-content/uploads/2024/05/Music-triv-1.png
END:VEVENT
BEGIN:VEVENT
DTSTART;TZID=UTC:20250506T193000
DTEND;TZID=UTC:20250506T213000
DTSTAMP:20260422T013019
CREATED:20241029T193947Z
LAST-MODIFIED:20241029T193947Z
UID:10000585-1746559800-1746567000@ohiobrewingcolumbus.com
SUMMARY:Tuesday Night Trivia at Ohio Brewing Company
DESCRIPTION:Join us every Tuesday at 7:30 PM for a fun and challenging night of trivia at Ohio Brewing Company in partnership with I Drink & I Know Things Trivia! 🧠🍻 \nBring your friends\, test your knowledge\, and enjoy great food\, refreshing beers\, and a chance to win some awesome prizes. Whether you’re a trivia pro or just looking for a fun evening\, our trivia night is the perfect way to spice up your Tuesday night! \nWhen: Every Tuesday at 7:30 PM\nWhere: Ohio Brewing Company\, 421 E 2nd Ave\, Columbus\, OH\nPrizes: Awesome prizes for top teams! \nCome for the trivia\, stay for the great food and beer! See you there!
URL:https://ohiobrewingcolumbus.com/event/tuesday-night-trivia-at-ohio-brewing-company/2025-05-06/
LOCATION:Ohio Brewing Company\, 421 E 2nd Ave\, Columbus\, OH\, 43201\, United States
CATEGORIES:Trivia Night
ATTACH;FMTTYPE=image/jpeg:https://ohiobrewingcolumbus.com/wp-content/uploads/2024/10/OBC_Tuesday-Night-Trivia.jpg
END:VEVENT
BEGIN:VEVENT
DTSTART;TZID=UTC:20250507T190000
DTEND;TZID=UTC:20250507T200000
DTSTAMP:20260422T013019
CREATED:20240513T173402Z
LAST-MODIFIED:20240515T011850Z
UID:10000054-1746644400-1746648000@ohiobrewingcolumbus.com
SUMMARY:Wednesday Music Trivia
DESCRIPTION:Join us for Wednesday Music Trivia hosted by Sam OBC. Every Wednesday at 7PM.
URL:https://ohiobrewingcolumbus.com/event/wednesday-music-trivia/2025-05-07/
LOCATION:OH
CATEGORIES:Trivia Night
ATTACH;FMTTYPE=image/png:https://ohiobrewingcolumbus.com/wp-content/uploads/2024/05/Music-triv-1.png
END:VEVENT
BEGIN:VEVENT
DTSTART;TZID=UTC:20250513T193000
DTEND;TZID=UTC:20250513T213000
DTSTAMP:20260422T013019
CREATED:20241029T193947Z
LAST-MODIFIED:20241029T193947Z
UID:10000586-1747164600-1747171800@ohiobrewingcolumbus.com
SUMMARY:Tuesday Night Trivia at Ohio Brewing Company
DESCRIPTION:Join us every Tuesday at 7:30 PM for a fun and challenging night of trivia at Ohio Brewing Company in partnership with I Drink & I Know Things Trivia! 🧠🍻 \nBring your friends\, test your knowledge\, and enjoy great food\, refreshing beers\, and a chance to win some awesome prizes. Whether you’re a trivia pro or just looking for a fun evening\, our trivia night is the perfect way to spice up your Tuesday night! \nWhen: Every Tuesday at 7:30 PM\nWhere: Ohio Brewing Company\, 421 E 2nd Ave\, Columbus\, OH\nPrizes: Awesome prizes for top teams! \nCome for the trivia\, stay for the great food and beer! See you there!
URL:https://ohiobrewingcolumbus.com/event/tuesday-night-trivia-at-ohio-brewing-company/2025-05-13/
LOCATION:Ohio Brewing Company\, 421 E 2nd Ave\, Columbus\, OH\, 43201\, United States
CATEGORIES:Trivia Night
ATTACH;FMTTYPE=image/jpeg:https://ohiobrewingcolumbus.com/wp-content/uploads/2024/10/OBC_Tuesday-Night-Trivia.jpg
END:VEVENT
BEGIN:VEVENT
DTSTART;TZID=UTC:20250514T190000
DTEND;TZID=UTC:20250514T200000
DTSTAMP:20260422T013019
CREATED:20240513T173402Z
LAST-MODIFIED:20240515T011850Z
UID:10000055-1747249200-1747252800@ohiobrewingcolumbus.com
SUMMARY:Wednesday Music Trivia
DESCRIPTION:Join us for Wednesday Music Trivia hosted by Sam OBC. Every Wednesday at 7PM.
URL:https://ohiobrewingcolumbus.com/event/wednesday-music-trivia/2025-05-14/
LOCATION:OH
CATEGORIES:Trivia Night
ATTACH;FMTTYPE=image/png:https://ohiobrewingcolumbus.com/wp-content/uploads/2024/05/Music-triv-1.png
END:VEVENT
BEGIN:VEVENT
DTSTART;TZID=UTC:20250520T193000
DTEND;TZID=UTC:20250520T213000
DTSTAMP:20260422T013019
CREATED:20241029T193947Z
LAST-MODIFIED:20241029T193947Z
UID:10000587-1747769400-1747776600@ohiobrewingcolumbus.com
SUMMARY:Tuesday Night Trivia at Ohio Brewing Company
DESCRIPTION:Join us every Tuesday at 7:30 PM for a fun and challenging night of trivia at Ohio Brewing Company in partnership with I Drink & I Know Things Trivia! 🧠🍻 \nBring your friends\, test your knowledge\, and enjoy great food\, refreshing beers\, and a chance to win some awesome prizes. Whether you’re a trivia pro or just looking for a fun evening\, our trivia night is the perfect way to spice up your Tuesday night! \nWhen: Every Tuesday at 7:30 PM\nWhere: Ohio Brewing Company\, 421 E 2nd Ave\, Columbus\, OH\nPrizes: Awesome prizes for top teams! \nCome for the trivia\, stay for the great food and beer! See you there!
URL:https://ohiobrewingcolumbus.com/event/tuesday-night-trivia-at-ohio-brewing-company/2025-05-20/
LOCATION:Ohio Brewing Company\, 421 E 2nd Ave\, Columbus\, OH\, 43201\, United States
CATEGORIES:Trivia Night
ATTACH;FMTTYPE=image/jpeg:https://ohiobrewingcolumbus.com/wp-content/uploads/2024/10/OBC_Tuesday-Night-Trivia.jpg
END:VEVENT
BEGIN:VEVENT
DTSTART;TZID=UTC:20250521T190000
DTEND;TZID=UTC:20250521T200000
DTSTAMP:20260422T013019
CREATED:20240513T173402Z
LAST-MODIFIED:20240515T011850Z
UID:10000056-1747854000-1747857600@ohiobrewingcolumbus.com
SUMMARY:Wednesday Music Trivia
DESCRIPTION:Join us for Wednesday Music Trivia hosted by Sam OBC. Every Wednesday at 7PM.
URL:https://ohiobrewingcolumbus.com/event/wednesday-music-trivia/2025-05-21/
LOCATION:OH
CATEGORIES:Trivia Night
ATTACH;FMTTYPE=image/png:https://ohiobrewingcolumbus.com/wp-content/uploads/2024/05/Music-triv-1.png
END:VEVENT
BEGIN:VEVENT
DTSTART;TZID=UTC:20250527T193000
DTEND;TZID=UTC:20250527T213000
DTSTAMP:20260422T013019
CREATED:20241029T193947Z
LAST-MODIFIED:20241029T193947Z
UID:10000588-1748374200-1748381400@ohiobrewingcolumbus.com
SUMMARY:Tuesday Night Trivia at Ohio Brewing Company
DESCRIPTION:Join us every Tuesday at 7:30 PM for a fun and challenging night of trivia at Ohio Brewing Company in partnership with I Drink & I Know Things Trivia! 🧠🍻 \nBring your friends\, test your knowledge\, and enjoy great food\, refreshing beers\, and a chance to win some awesome prizes. Whether you’re a trivia pro or just looking for a fun evening\, our trivia night is the perfect way to spice up your Tuesday night! \nWhen: Every Tuesday at 7:30 PM\nWhere: Ohio Brewing Company\, 421 E 2nd Ave\, Columbus\, OH\nPrizes: Awesome prizes for top teams! \nCome for the trivia\, stay for the great food and beer! See you there!
URL:https://ohiobrewingcolumbus.com/event/tuesday-night-trivia-at-ohio-brewing-company/2025-05-27/
LOCATION:Ohio Brewing Company\, 421 E 2nd Ave\, Columbus\, OH\, 43201\, United States
CATEGORIES:Trivia Night
ATTACH;FMTTYPE=image/jpeg:https://ohiobrewingcolumbus.com/wp-content/uploads/2024/10/OBC_Tuesday-Night-Trivia.jpg
END:VEVENT
BEGIN:VEVENT
DTSTART;TZID=UTC:20250528T190000
DTEND;TZID=UTC:20250528T200000
DTSTAMP:20260422T013019
CREATED:20240513T173402Z
LAST-MODIFIED:20240515T011850Z
UID:10000057-1748458800-1748462400@ohiobrewingcolumbus.com
SUMMARY:Wednesday Music Trivia
DESCRIPTION:Join us for Wednesday Music Trivia hosted by Sam OBC. Every Wednesday at 7PM.
URL:https://ohiobrewingcolumbus.com/event/wednesday-music-trivia/2025-05-28/
LOCATION:OH
CATEGORIES:Trivia Night
ATTACH;FMTTYPE=image/png:https://ohiobrewingcolumbus.com/wp-content/uploads/2024/05/Music-triv-1.png
END:VEVENT
BEGIN:VEVENT
DTSTART;TZID=UTC:20250603T193000
DTEND;TZID=UTC:20250603T213000
DTSTAMP:20260422T013019
CREATED:20241029T193947Z
LAST-MODIFIED:20241029T193947Z
UID:10000589-1748979000-1748986200@ohiobrewingcolumbus.com
SUMMARY:Tuesday Night Trivia at Ohio Brewing Company
DESCRIPTION:Join us every Tuesday at 7:30 PM for a fun and challenging night of trivia at Ohio Brewing Company in partnership with I Drink & I Know Things Trivia! 🧠🍻 \nBring your friends\, test your knowledge\, and enjoy great food\, refreshing beers\, and a chance to win some awesome prizes. Whether you’re a trivia pro or just looking for a fun evening\, our trivia night is the perfect way to spice up your Tuesday night! \nWhen: Every Tuesday at 7:30 PM\nWhere: Ohio Brewing Company\, 421 E 2nd Ave\, Columbus\, OH\nPrizes: Awesome prizes for top teams! \nCome for the trivia\, stay for the great food and beer! See you there!
URL:https://ohiobrewingcolumbus.com/event/tuesday-night-trivia-at-ohio-brewing-company/2025-06-03/
LOCATION:Ohio Brewing Company\, 421 E 2nd Ave\, Columbus\, OH\, 43201\, United States
CATEGORIES:Trivia Night
ATTACH;FMTTYPE=image/jpeg:https://ohiobrewingcolumbus.com/wp-content/uploads/2024/10/OBC_Tuesday-Night-Trivia.jpg
END:VEVENT
BEGIN:VEVENT
DTSTART;TZID=UTC:20250604T190000
DTEND;TZID=UTC:20250604T200000
DTSTAMP:20260422T013019
CREATED:20240513T173402Z
LAST-MODIFIED:20240515T011850Z
UID:10000058-1749063600-1749067200@ohiobrewingcolumbus.com
SUMMARY:Wednesday Music Trivia
DESCRIPTION:Join us for Wednesday Music Trivia hosted by Sam OBC. Every Wednesday at 7PM.
URL:https://ohiobrewingcolumbus.com/event/wednesday-music-trivia/2025-06-04/
LOCATION:OH
CATEGORIES:Trivia Night
ATTACH;FMTTYPE=image/png:https://ohiobrewingcolumbus.com/wp-content/uploads/2024/05/Music-triv-1.png
END:VEVENT
BEGIN:VEVENT
DTSTART;TZID=UTC:20250606T080000
DTEND;TZID=UTC:20250606T170000
DTSTAMP:20260422T013019
CREATED:20250606T134351Z
LAST-MODIFIED:20250606T134546Z
UID:10001343-1749196800-1749229200@ohiobrewingcolumbus.com
SUMMARY:Flea | Art | Beer Summer Market 2025 at OBC
DESCRIPTION:Join us for the F.A.B. Summer Market on Saturday\, July 26 from 10 AM to 4 PM at Ohio Brewing Company Columbus. This is your chance to explore an exciting selection of local vendors selling everything from art and jewelry to vintage clothing\, home decor\, and more. \nEnjoy great beer\, delicious food\, and a fun and relaxed atmosphere. Our brewery has plenty of free parking\, indoor and outdoor space\, and is centrally located in Columbus. \nInterested in becoming a vendor? We are now accepting applications. Apply here and share your work with a vibrant community of shoppers. \n \n 
URL:https://ohiobrewingcolumbus.com/event/flea-art-beer-summer-market-2025-at-obc/
LOCATION:OH
CATEGORIES:Flea | Art | Beer Market
ATTACH;FMTTYPE=image/png:https://ohiobrewingcolumbus.com/wp-content/uploads/2025/06/OBC-Flea-Market-1123-x-1404-px-1.png
END:VEVENT
BEGIN:VEVENT
DTSTART;TZID=UTC:20250610T193000
DTEND;TZID=UTC:20250610T213000
DTSTAMP:20260422T013019
CREATED:20241029T193947Z
LAST-MODIFIED:20241029T193947Z
UID:10000590-1749583800-1749591000@ohiobrewingcolumbus.com
SUMMARY:Tuesday Night Trivia at Ohio Brewing Company
DESCRIPTION:Join us every Tuesday at 7:30 PM for a fun and challenging night of trivia at Ohio Brewing Company in partnership with I Drink & I Know Things Trivia! 🧠🍻 \nBring your friends\, test your knowledge\, and enjoy great food\, refreshing beers\, and a chance to win some awesome prizes. Whether you’re a trivia pro or just looking for a fun evening\, our trivia night is the perfect way to spice up your Tuesday night! \nWhen: Every Tuesday at 7:30 PM\nWhere: Ohio Brewing Company\, 421 E 2nd Ave\, Columbus\, OH\nPrizes: Awesome prizes for top teams! \nCome for the trivia\, stay for the great food and beer! See you there!
URL:https://ohiobrewingcolumbus.com/event/tuesday-night-trivia-at-ohio-brewing-company/2025-06-10/
LOCATION:Ohio Brewing Company\, 421 E 2nd Ave\, Columbus\, OH\, 43201\, United States
CATEGORIES:Trivia Night
ATTACH;FMTTYPE=image/jpeg:https://ohiobrewingcolumbus.com/wp-content/uploads/2024/10/OBC_Tuesday-Night-Trivia.jpg
END:VEVENT
BEGIN:VEVENT
DTSTART;TZID=UTC:20250612T190000
DTEND;TZID=UTC:20250612T200000
DTSTAMP:20260422T013019
CREATED:20250606T133623Z
LAST-MODIFIED:20250609T171919Z
UID:10001082-1749754800-1749758400@ohiobrewingcolumbus.com
SUMMARY:Weekly Thursday Music Trivia
DESCRIPTION:Join us for Thursday Music Trivia hosted by Sam OBC. Every Thursday at 7PM.
URL:https://ohiobrewingcolumbus.com/event/wednesday-music-trivia-2-2/2025-06-12/
LOCATION:Ohio Brewing Company\, 421 E 2nd Ave\, Columbus\, OH\, 43201\, United States
CATEGORIES:Trivia Night
ATTACH;FMTTYPE=image/jpeg:https://ohiobrewingcolumbus.com/wp-content/uploads/2025/06/Music-triv-thursday-2025.jpg
END:VEVENT
BEGIN:VEVENT
DTSTART;TZID=UTC:20250617T193000
DTEND;TZID=UTC:20250617T213000
DTSTAMP:20260422T013019
CREATED:20241029T193947Z
LAST-MODIFIED:20241029T193947Z
UID:10000591-1750188600-1750195800@ohiobrewingcolumbus.com
SUMMARY:Tuesday Night Trivia at Ohio Brewing Company
DESCRIPTION:Join us every Tuesday at 7:30 PM for a fun and challenging night of trivia at Ohio Brewing Company in partnership with I Drink & I Know Things Trivia! 🧠🍻 \nBring your friends\, test your knowledge\, and enjoy great food\, refreshing beers\, and a chance to win some awesome prizes. Whether you’re a trivia pro or just looking for a fun evening\, our trivia night is the perfect way to spice up your Tuesday night! \nWhen: Every Tuesday at 7:30 PM\nWhere: Ohio Brewing Company\, 421 E 2nd Ave\, Columbus\, OH\nPrizes: Awesome prizes for top teams! \nCome for the trivia\, stay for the great food and beer! See you there!
URL:https://ohiobrewingcolumbus.com/event/tuesday-night-trivia-at-ohio-brewing-company/2025-06-17/
LOCATION:Ohio Brewing Company\, 421 E 2nd Ave\, Columbus\, OH\, 43201\, United States
CATEGORIES:Trivia Night
ATTACH;FMTTYPE=image/jpeg:https://ohiobrewingcolumbus.com/wp-content/uploads/2024/10/OBC_Tuesday-Night-Trivia.jpg
END:VEVENT
BEGIN:VEVENT
DTSTART;TZID=UTC:20250619T190000
DTEND;TZID=UTC:20250619T200000
DTSTAMP:20260422T013019
CREATED:20250606T133623Z
LAST-MODIFIED:20250609T171919Z
UID:10001083-1750359600-1750363200@ohiobrewingcolumbus.com
SUMMARY:Weekly Thursday Music Trivia
DESCRIPTION:Join us for Thursday Music Trivia hosted by Sam OBC. Every Thursday at 7PM.
URL:https://ohiobrewingcolumbus.com/event/wednesday-music-trivia-2-2/2025-06-19/
LOCATION:Ohio Brewing Company\, 421 E 2nd Ave\, Columbus\, OH\, 43201\, United States
CATEGORIES:Trivia Night
ATTACH;FMTTYPE=image/jpeg:https://ohiobrewingcolumbus.com/wp-content/uploads/2025/06/Music-triv-thursday-2025.jpg
END:VEVENT
BEGIN:VEVENT
DTSTART;TZID=UTC:20250624T193000
DTEND;TZID=UTC:20250624T213000
DTSTAMP:20260422T013019
CREATED:20241029T193947Z
LAST-MODIFIED:20241029T193947Z
UID:10000592-1750793400-1750800600@ohiobrewingcolumbus.com
SUMMARY:Tuesday Night Trivia at Ohio Brewing Company
DESCRIPTION:Join us every Tuesday at 7:30 PM for a fun and challenging night of trivia at Ohio Brewing Company in partnership with I Drink & I Know Things Trivia! 🧠🍻 \nBring your friends\, test your knowledge\, and enjoy great food\, refreshing beers\, and a chance to win some awesome prizes. Whether you’re a trivia pro or just looking for a fun evening\, our trivia night is the perfect way to spice up your Tuesday night! \nWhen: Every Tuesday at 7:30 PM\nWhere: Ohio Brewing Company\, 421 E 2nd Ave\, Columbus\, OH\nPrizes: Awesome prizes for top teams! \nCome for the trivia\, stay for the great food and beer! See you there!
URL:https://ohiobrewingcolumbus.com/event/tuesday-night-trivia-at-ohio-brewing-company/2025-06-24/
LOCATION:Ohio Brewing Company\, 421 E 2nd Ave\, Columbus\, OH\, 43201\, United States
CATEGORIES:Trivia Night
ATTACH;FMTTYPE=image/jpeg:https://ohiobrewingcolumbus.com/wp-content/uploads/2024/10/OBC_Tuesday-Night-Trivia.jpg
END:VEVENT
BEGIN:VEVENT
DTSTART;TZID=UTC:20250626T190000
DTEND;TZID=UTC:20250626T200000
DTSTAMP:20260422T013019
CREATED:20250606T133623Z
LAST-MODIFIED:20250609T171919Z
UID:10001084-1750964400-1750968000@ohiobrewingcolumbus.com
SUMMARY:Weekly Thursday Music Trivia
DESCRIPTION:Join us for Thursday Music Trivia hosted by Sam OBC. Every Thursday at 7PM.
URL:https://ohiobrewingcolumbus.com/event/wednesday-music-trivia-2-2/2025-06-26/
LOCATION:Ohio Brewing Company\, 421 E 2nd Ave\, Columbus\, OH\, 43201\, United States
CATEGORIES:Trivia Night
ATTACH;FMTTYPE=image/jpeg:https://ohiobrewingcolumbus.com/wp-content/uploads/2025/06/Music-triv-thursday-2025.jpg
END:VEVENT
BEGIN:VEVENT
DTSTART;TZID=UTC:20250629T170000
DTEND;TZID=UTC:20250629T200000
DTSTAMP:20260422T013019
CREATED:20250514T174012Z
LAST-MODIFIED:20250514T174040Z
UID:10000822-1751216400-1751227200@ohiobrewingcolumbus.com
SUMMARY:Mission Warmth Summer Fundraiser
DESCRIPTION:Warm Vibes & Cold Brews\n\nJoin Mission Warmth for an evening filled with entertainment and fun. You don’t want to miss our BIGGEST fundraiser YET!\nFeaturing…\n– LIVE MUSIC from Audio5onic – enjoy pop/rock music from the 1990s/2000s! Including hits from the Goo Goo Dolls\, Blink-182\, Matchbox Twenty\, the Killers\, and more!– Raffle baskets with amazing PRIZES sponsored by local businesses– Mission Warmth MERCHANDISE available for a limited time at this event! Including some brand new items!– Local craft beer from our host\, Ohio Brewing Company – $1 from every beer is donated back to Mission Warmth– And more! Stay tuned for more things to get excited about!\nOur fundraising committee is counting on YOU to mark your calendars and bring your friends. The more\, the merrier!
URL:https://ohiobrewingcolumbus.com/event/mission-warmth-summer-fundraiser/
LOCATION:Ohio Brewing Company\, 421 E 2nd Ave\, Columbus\, OH\, 43201\, United States
CATEGORIES:Special Event
ATTACH;FMTTYPE=image/png:https://ohiobrewingcolumbus.com/wp-content/uploads/2025/05/6.29-Save-the-Date.png
END:VEVENT
BEGIN:VEVENT
DTSTART;TZID=UTC:20250701T193000
DTEND;TZID=UTC:20250701T213000
DTSTAMP:20260422T013019
CREATED:20241029T193947Z
LAST-MODIFIED:20241029T193947Z
UID:10000593-1751398200-1751405400@ohiobrewingcolumbus.com
SUMMARY:Tuesday Night Trivia at Ohio Brewing Company
DESCRIPTION:Join us every Tuesday at 7:30 PM for a fun and challenging night of trivia at Ohio Brewing Company in partnership with I Drink & I Know Things Trivia! 🧠🍻 \nBring your friends\, test your knowledge\, and enjoy great food\, refreshing beers\, and a chance to win some awesome prizes. Whether you’re a trivia pro or just looking for a fun evening\, our trivia night is the perfect way to spice up your Tuesday night! \nWhen: Every Tuesday at 7:30 PM\nWhere: Ohio Brewing Company\, 421 E 2nd Ave\, Columbus\, OH\nPrizes: Awesome prizes for top teams! \nCome for the trivia\, stay for the great food and beer! See you there!
URL:https://ohiobrewingcolumbus.com/event/tuesday-night-trivia-at-ohio-brewing-company/2025-07-01/
LOCATION:Ohio Brewing Company\, 421 E 2nd Ave\, Columbus\, OH\, 43201\, United States
CATEGORIES:Trivia Night
ATTACH;FMTTYPE=image/jpeg:https://ohiobrewingcolumbus.com/wp-content/uploads/2024/10/OBC_Tuesday-Night-Trivia.jpg
END:VEVENT
BEGIN:VEVENT
DTSTART;TZID=UTC:20250703T190000
DTEND;TZID=UTC:20250703T200000
DTSTAMP:20260422T013019
CREATED:20250606T133623Z
LAST-MODIFIED:20250609T171919Z
UID:10001085-1751569200-1751572800@ohiobrewingcolumbus.com
SUMMARY:Weekly Thursday Music Trivia
DESCRIPTION:Join us for Thursday Music Trivia hosted by Sam OBC. Every Thursday at 7PM.
URL:https://ohiobrewingcolumbus.com/event/wednesday-music-trivia-2-2/2025-07-03/
LOCATION:Ohio Brewing Company\, 421 E 2nd Ave\, Columbus\, OH\, 43201\, United States
CATEGORIES:Trivia Night
ATTACH;FMTTYPE=image/jpeg:https://ohiobrewingcolumbus.com/wp-content/uploads/2025/06/Music-triv-thursday-2025.jpg
END:VEVENT
BEGIN:VEVENT
DTSTART;TZID=UTC:20250708T193000
DTEND;TZID=UTC:20250708T213000
DTSTAMP:20260422T013019
CREATED:20241029T193947Z
LAST-MODIFIED:20241029T193947Z
UID:10000594-1752003000-1752010200@ohiobrewingcolumbus.com
SUMMARY:Tuesday Night Trivia at Ohio Brewing Company
DESCRIPTION:Join us every Tuesday at 7:30 PM for a fun and challenging night of trivia at Ohio Brewing Company in partnership with I Drink & I Know Things Trivia! 🧠🍻 \nBring your friends\, test your knowledge\, and enjoy great food\, refreshing beers\, and a chance to win some awesome prizes. Whether you’re a trivia pro or just looking for a fun evening\, our trivia night is the perfect way to spice up your Tuesday night! \nWhen: Every Tuesday at 7:30 PM\nWhere: Ohio Brewing Company\, 421 E 2nd Ave\, Columbus\, OH\nPrizes: Awesome prizes for top teams! \nCome for the trivia\, stay for the great food and beer! See you there!
URL:https://ohiobrewingcolumbus.com/event/tuesday-night-trivia-at-ohio-brewing-company/2025-07-08/
LOCATION:Ohio Brewing Company\, 421 E 2nd Ave\, Columbus\, OH\, 43201\, United States
CATEGORIES:Trivia Night
ATTACH;FMTTYPE=image/jpeg:https://ohiobrewingcolumbus.com/wp-content/uploads/2024/10/OBC_Tuesday-Night-Trivia.jpg
END:VEVENT
END:VCALENDAR