BEGIN:VCALENDAR
VERSION:2.0
PRODID:-//Ohio Brewing Company Columbus - ECPv6.15.20//NONSGML v1.0//EN
CALSCALE:GREGORIAN
METHOD:PUBLISH
X-WR-CALNAME:Ohio Brewing Company Columbus
X-ORIGINAL-URL:https://ohiobrewingcolumbus.com
X-WR-CALDESC:Events for Ohio Brewing Company Columbus
REFRESH-INTERVAL;VALUE=DURATION:PT1H
X-Robots-Tag:noindex
X-PUBLISHED-TTL:PT1H
BEGIN:VTIMEZONE
TZID:UTC
BEGIN:STANDARD
TZOFFSETFROM:+0000
TZOFFSETTO:+0000
TZNAME:UTC
DTSTART:20230101T000000
END:STANDARD
END:VTIMEZONE
BEGIN:VEVENT
DTSTART;TZID=UTC:20241105T193000
DTEND;TZID=UTC:20241105T213000
DTSTAMP:20260422T153107
CREATED:20241029T193947Z
LAST-MODIFIED:20241029T193947Z
UID:10000559-1730835000-1730842200@ohiobrewingcolumbus.com
SUMMARY:Tuesday Night Trivia at Ohio Brewing Company
DESCRIPTION:Join us every Tuesday at 7:30 PM for a fun and challenging night of trivia at Ohio Brewing Company in partnership with I Drink & I Know Things Trivia! 🧠🍻 \nBring your friends\, test your knowledge\, and enjoy great food\, refreshing beers\, and a chance to win some awesome prizes. Whether you’re a trivia pro or just looking for a fun evening\, our trivia night is the perfect way to spice up your Tuesday night! \nWhen: Every Tuesday at 7:30 PM\nWhere: Ohio Brewing Company\, 421 E 2nd Ave\, Columbus\, OH\nPrizes: Awesome prizes for top teams! \nCome for the trivia\, stay for the great food and beer! See you there!
URL:https://ohiobrewingcolumbus.com/event/tuesday-night-trivia-at-ohio-brewing-company/2024-11-05/
LOCATION:Ohio Brewing Company\, 421 E 2nd Ave\, Columbus\, OH\, 43201\, United States
CATEGORIES:Trivia Night
ATTACH;FMTTYPE=image/jpeg:https://ohiobrewingcolumbus.com/wp-content/uploads/2024/10/OBC_Tuesday-Night-Trivia.jpg
END:VEVENT
BEGIN:VEVENT
DTSTART;TZID=UTC:20241106T190000
DTEND;TZID=UTC:20241106T200000
DTSTAMP:20260422T153107
CREATED:20240513T173402Z
LAST-MODIFIED:20240515T011850Z
UID:10000028-1730919600-1730923200@ohiobrewingcolumbus.com
SUMMARY:Wednesday Music Trivia
DESCRIPTION:Join us for Wednesday Music Trivia hosted by Sam OBC. Every Wednesday at 7PM.
URL:https://ohiobrewingcolumbus.com/event/wednesday-music-trivia/2024-11-06/
LOCATION:OH
CATEGORIES:Trivia Night
ATTACH;FMTTYPE=image/png:https://ohiobrewingcolumbus.com/wp-content/uploads/2024/05/Music-triv-1.png
END:VEVENT
BEGIN:VEVENT
DTSTART;TZID=UTC:20241112T193000
DTEND;TZID=UTC:20241112T213000
DTSTAMP:20260422T153107
CREATED:20241029T193947Z
LAST-MODIFIED:20241029T193947Z
UID:10000560-1731439800-1731447000@ohiobrewingcolumbus.com
SUMMARY:Tuesday Night Trivia at Ohio Brewing Company
DESCRIPTION:Join us every Tuesday at 7:30 PM for a fun and challenging night of trivia at Ohio Brewing Company in partnership with I Drink & I Know Things Trivia! 🧠🍻 \nBring your friends\, test your knowledge\, and enjoy great food\, refreshing beers\, and a chance to win some awesome prizes. Whether you’re a trivia pro or just looking for a fun evening\, our trivia night is the perfect way to spice up your Tuesday night! \nWhen: Every Tuesday at 7:30 PM\nWhere: Ohio Brewing Company\, 421 E 2nd Ave\, Columbus\, OH\nPrizes: Awesome prizes for top teams! \nCome for the trivia\, stay for the great food and beer! See you there!
URL:https://ohiobrewingcolumbus.com/event/tuesday-night-trivia-at-ohio-brewing-company/2024-11-12/
LOCATION:Ohio Brewing Company\, 421 E 2nd Ave\, Columbus\, OH\, 43201\, United States
CATEGORIES:Trivia Night
ATTACH;FMTTYPE=image/jpeg:https://ohiobrewingcolumbus.com/wp-content/uploads/2024/10/OBC_Tuesday-Night-Trivia.jpg
END:VEVENT
BEGIN:VEVENT
DTSTART;TZID=UTC:20241113T190000
DTEND;TZID=UTC:20241113T200000
DTSTAMP:20260422T153107
CREATED:20240513T173402Z
LAST-MODIFIED:20240515T011850Z
UID:10000029-1731524400-1731528000@ohiobrewingcolumbus.com
SUMMARY:Wednesday Music Trivia
DESCRIPTION:Join us for Wednesday Music Trivia hosted by Sam OBC. Every Wednesday at 7PM.
URL:https://ohiobrewingcolumbus.com/event/wednesday-music-trivia/2024-11-13/
LOCATION:OH
CATEGORIES:Trivia Night
ATTACH;FMTTYPE=image/png:https://ohiobrewingcolumbus.com/wp-content/uploads/2024/05/Music-triv-1.png
END:VEVENT
BEGIN:VEVENT
DTSTART;TZID=UTC:20241119T193000
DTEND;TZID=UTC:20241119T213000
DTSTAMP:20260422T153107
CREATED:20241029T193947Z
LAST-MODIFIED:20241029T193947Z
UID:10000561-1732044600-1732051800@ohiobrewingcolumbus.com
SUMMARY:Tuesday Night Trivia at Ohio Brewing Company
DESCRIPTION:Join us every Tuesday at 7:30 PM for a fun and challenging night of trivia at Ohio Brewing Company in partnership with I Drink & I Know Things Trivia! 🧠🍻 \nBring your friends\, test your knowledge\, and enjoy great food\, refreshing beers\, and a chance to win some awesome prizes. Whether you’re a trivia pro or just looking for a fun evening\, our trivia night is the perfect way to spice up your Tuesday night! \nWhen: Every Tuesday at 7:30 PM\nWhere: Ohio Brewing Company\, 421 E 2nd Ave\, Columbus\, OH\nPrizes: Awesome prizes for top teams! \nCome for the trivia\, stay for the great food and beer! See you there!
URL:https://ohiobrewingcolumbus.com/event/tuesday-night-trivia-at-ohio-brewing-company/2024-11-19/
LOCATION:Ohio Brewing Company\, 421 E 2nd Ave\, Columbus\, OH\, 43201\, United States
CATEGORIES:Trivia Night
ATTACH;FMTTYPE=image/jpeg:https://ohiobrewingcolumbus.com/wp-content/uploads/2024/10/OBC_Tuesday-Night-Trivia.jpg
END:VEVENT
BEGIN:VEVENT
DTSTART;TZID=UTC:20241120T190000
DTEND;TZID=UTC:20241120T200000
DTSTAMP:20260422T153107
CREATED:20240513T173402Z
LAST-MODIFIED:20240515T011850Z
UID:10000030-1732129200-1732132800@ohiobrewingcolumbus.com
SUMMARY:Wednesday Music Trivia
DESCRIPTION:Join us for Wednesday Music Trivia hosted by Sam OBC. Every Wednesday at 7PM.
URL:https://ohiobrewingcolumbus.com/event/wednesday-music-trivia/2024-11-20/
LOCATION:OH
CATEGORIES:Trivia Night
ATTACH;FMTTYPE=image/png:https://ohiobrewingcolumbus.com/wp-content/uploads/2024/05/Music-triv-1.png
END:VEVENT
BEGIN:VEVENT
DTSTART;TZID=UTC:20241126T193000
DTEND;TZID=UTC:20241126T213000
DTSTAMP:20260422T153107
CREATED:20241029T193947Z
LAST-MODIFIED:20241029T193947Z
UID:10000562-1732649400-1732656600@ohiobrewingcolumbus.com
SUMMARY:Tuesday Night Trivia at Ohio Brewing Company
DESCRIPTION:Join us every Tuesday at 7:30 PM for a fun and challenging night of trivia at Ohio Brewing Company in partnership with I Drink & I Know Things Trivia! 🧠🍻 \nBring your friends\, test your knowledge\, and enjoy great food\, refreshing beers\, and a chance to win some awesome prizes. Whether you’re a trivia pro or just looking for a fun evening\, our trivia night is the perfect way to spice up your Tuesday night! \nWhen: Every Tuesday at 7:30 PM\nWhere: Ohio Brewing Company\, 421 E 2nd Ave\, Columbus\, OH\nPrizes: Awesome prizes for top teams! \nCome for the trivia\, stay for the great food and beer! See you there!
URL:https://ohiobrewingcolumbus.com/event/tuesday-night-trivia-at-ohio-brewing-company/2024-11-26/
LOCATION:Ohio Brewing Company\, 421 E 2nd Ave\, Columbus\, OH\, 43201\, United States
CATEGORIES:Trivia Night
ATTACH;FMTTYPE=image/jpeg:https://ohiobrewingcolumbus.com/wp-content/uploads/2024/10/OBC_Tuesday-Night-Trivia.jpg
END:VEVENT
BEGIN:VEVENT
DTSTART;TZID=UTC:20241127T190000
DTEND;TZID=UTC:20241127T200000
DTSTAMP:20260422T153107
CREATED:20240513T173402Z
LAST-MODIFIED:20240515T011850Z
UID:10000031-1732734000-1732737600@ohiobrewingcolumbus.com
SUMMARY:Wednesday Music Trivia
DESCRIPTION:Join us for Wednesday Music Trivia hosted by Sam OBC. Every Wednesday at 7PM.
URL:https://ohiobrewingcolumbus.com/event/wednesday-music-trivia/2024-11-27/
LOCATION:OH
CATEGORIES:Trivia Night
ATTACH;FMTTYPE=image/png:https://ohiobrewingcolumbus.com/wp-content/uploads/2024/05/Music-triv-1.png
END:VEVENT
END:VCALENDAR