BEGIN:VCALENDAR
VERSION:2.0
PRODID:-//Ohio Brewing Company Columbus - ECPv6.15.20//NONSGML v1.0//EN
CALSCALE:GREGORIAN
METHOD:PUBLISH
X-WR-CALNAME:Ohio Brewing Company Columbus
X-ORIGINAL-URL:https://ohiobrewingcolumbus.com
X-WR-CALDESC:Events for Ohio Brewing Company Columbus
REFRESH-INTERVAL;VALUE=DURATION:PT1H
X-Robots-Tag:noindex
X-PUBLISHED-TTL:PT1H
BEGIN:VTIMEZONE
TZID:UTC
BEGIN:STANDARD
TZOFFSETFROM:+0000
TZOFFSETTO:+0000
TZNAME:UTC
DTSTART:20240101T000000
END:STANDARD
END:VTIMEZONE
BEGIN:VEVENT
DTSTART;TZID=UTC:20250204T193000
DTEND;TZID=UTC:20250204T213000
DTSTAMP:20260423T003513
CREATED:20241029T193947Z
LAST-MODIFIED:20241029T193947Z
UID:10000572-1738697400-1738704600@ohiobrewingcolumbus.com
SUMMARY:Tuesday Night Trivia at Ohio Brewing Company
DESCRIPTION:Join us every Tuesday at 7:30 PM for a fun and challenging night of trivia at Ohio Brewing Company in partnership with I Drink & I Know Things Trivia! 🧠🍻 \nBring your friends\, test your knowledge\, and enjoy great food\, refreshing beers\, and a chance to win some awesome prizes. Whether you’re a trivia pro or just looking for a fun evening\, our trivia night is the perfect way to spice up your Tuesday night! \nWhen: Every Tuesday at 7:30 PM\nWhere: Ohio Brewing Company\, 421 E 2nd Ave\, Columbus\, OH\nPrizes: Awesome prizes for top teams! \nCome for the trivia\, stay for the great food and beer! See you there!
URL:https://ohiobrewingcolumbus.com/event/tuesday-night-trivia-at-ohio-brewing-company/2025-02-04/
LOCATION:Ohio Brewing Company\, 421 E 2nd Ave\, Columbus\, OH\, 43201\, United States
CATEGORIES:Trivia Night
ATTACH;FMTTYPE=image/jpeg:https://ohiobrewingcolumbus.com/wp-content/uploads/2024/10/OBC_Tuesday-Night-Trivia.jpg
END:VEVENT
BEGIN:VEVENT
DTSTART;TZID=UTC:20250205T190000
DTEND;TZID=UTC:20250205T200000
DTSTAMP:20260423T003513
CREATED:20240513T173402Z
LAST-MODIFIED:20240515T011850Z
UID:10000041-1738782000-1738785600@ohiobrewingcolumbus.com
SUMMARY:Wednesday Music Trivia
DESCRIPTION:Join us for Wednesday Music Trivia hosted by Sam OBC. Every Wednesday at 7PM.
URL:https://ohiobrewingcolumbus.com/event/wednesday-music-trivia/2025-02-05/
LOCATION:OH
CATEGORIES:Trivia Night
ATTACH;FMTTYPE=image/png:https://ohiobrewingcolumbus.com/wp-content/uploads/2024/05/Music-triv-1.png
END:VEVENT
BEGIN:VEVENT
DTSTART;TZID=UTC:20250211T193000
DTEND;TZID=UTC:20250211T213000
DTSTAMP:20260423T003513
CREATED:20241029T193947Z
LAST-MODIFIED:20241029T193947Z
UID:10000573-1739302200-1739309400@ohiobrewingcolumbus.com
SUMMARY:Tuesday Night Trivia at Ohio Brewing Company
DESCRIPTION:Join us every Tuesday at 7:30 PM for a fun and challenging night of trivia at Ohio Brewing Company in partnership with I Drink & I Know Things Trivia! 🧠🍻 \nBring your friends\, test your knowledge\, and enjoy great food\, refreshing beers\, and a chance to win some awesome prizes. Whether you’re a trivia pro or just looking for a fun evening\, our trivia night is the perfect way to spice up your Tuesday night! \nWhen: Every Tuesday at 7:30 PM\nWhere: Ohio Brewing Company\, 421 E 2nd Ave\, Columbus\, OH\nPrizes: Awesome prizes for top teams! \nCome for the trivia\, stay for the great food and beer! See you there!
URL:https://ohiobrewingcolumbus.com/event/tuesday-night-trivia-at-ohio-brewing-company/2025-02-11/
LOCATION:Ohio Brewing Company\, 421 E 2nd Ave\, Columbus\, OH\, 43201\, United States
CATEGORIES:Trivia Night
ATTACH;FMTTYPE=image/jpeg:https://ohiobrewingcolumbus.com/wp-content/uploads/2024/10/OBC_Tuesday-Night-Trivia.jpg
END:VEVENT
BEGIN:VEVENT
DTSTART;TZID=UTC:20250212T190000
DTEND;TZID=UTC:20250212T200000
DTSTAMP:20260423T003513
CREATED:20240513T173402Z
LAST-MODIFIED:20240515T011850Z
UID:10000042-1739386800-1739390400@ohiobrewingcolumbus.com
SUMMARY:Wednesday Music Trivia
DESCRIPTION:Join us for Wednesday Music Trivia hosted by Sam OBC. Every Wednesday at 7PM.
URL:https://ohiobrewingcolumbus.com/event/wednesday-music-trivia/2025-02-12/
LOCATION:OH
CATEGORIES:Trivia Night
ATTACH;FMTTYPE=image/png:https://ohiobrewingcolumbus.com/wp-content/uploads/2024/05/Music-triv-1.png
END:VEVENT
BEGIN:VEVENT
DTSTART;TZID=UTC:20250218T193000
DTEND;TZID=UTC:20250218T213000
DTSTAMP:20260423T003513
CREATED:20241029T193947Z
LAST-MODIFIED:20241029T193947Z
UID:10000574-1739907000-1739914200@ohiobrewingcolumbus.com
SUMMARY:Tuesday Night Trivia at Ohio Brewing Company
DESCRIPTION:Join us every Tuesday at 7:30 PM for a fun and challenging night of trivia at Ohio Brewing Company in partnership with I Drink & I Know Things Trivia! 🧠🍻 \nBring your friends\, test your knowledge\, and enjoy great food\, refreshing beers\, and a chance to win some awesome prizes. Whether you’re a trivia pro or just looking for a fun evening\, our trivia night is the perfect way to spice up your Tuesday night! \nWhen: Every Tuesday at 7:30 PM\nWhere: Ohio Brewing Company\, 421 E 2nd Ave\, Columbus\, OH\nPrizes: Awesome prizes for top teams! \nCome for the trivia\, stay for the great food and beer! See you there!
URL:https://ohiobrewingcolumbus.com/event/tuesday-night-trivia-at-ohio-brewing-company/2025-02-18/
LOCATION:Ohio Brewing Company\, 421 E 2nd Ave\, Columbus\, OH\, 43201\, United States
CATEGORIES:Trivia Night
ATTACH;FMTTYPE=image/jpeg:https://ohiobrewingcolumbus.com/wp-content/uploads/2024/10/OBC_Tuesday-Night-Trivia.jpg
END:VEVENT
BEGIN:VEVENT
DTSTART;TZID=UTC:20250219T190000
DTEND;TZID=UTC:20250219T200000
DTSTAMP:20260423T003513
CREATED:20240513T173402Z
LAST-MODIFIED:20240515T011850Z
UID:10000043-1739991600-1739995200@ohiobrewingcolumbus.com
SUMMARY:Wednesday Music Trivia
DESCRIPTION:Join us for Wednesday Music Trivia hosted by Sam OBC. Every Wednesday at 7PM.
URL:https://ohiobrewingcolumbus.com/event/wednesday-music-trivia/2025-02-19/
LOCATION:OH
CATEGORIES:Trivia Night
ATTACH;FMTTYPE=image/png:https://ohiobrewingcolumbus.com/wp-content/uploads/2024/05/Music-triv-1.png
END:VEVENT
BEGIN:VEVENT
DTSTART;TZID=UTC:20250225T193000
DTEND;TZID=UTC:20250225T213000
DTSTAMP:20260423T003513
CREATED:20241029T193947Z
LAST-MODIFIED:20241029T193947Z
UID:10000575-1740511800-1740519000@ohiobrewingcolumbus.com
SUMMARY:Tuesday Night Trivia at Ohio Brewing Company
DESCRIPTION:Join us every Tuesday at 7:30 PM for a fun and challenging night of trivia at Ohio Brewing Company in partnership with I Drink & I Know Things Trivia! 🧠🍻 \nBring your friends\, test your knowledge\, and enjoy great food\, refreshing beers\, and a chance to win some awesome prizes. Whether you’re a trivia pro or just looking for a fun evening\, our trivia night is the perfect way to spice up your Tuesday night! \nWhen: Every Tuesday at 7:30 PM\nWhere: Ohio Brewing Company\, 421 E 2nd Ave\, Columbus\, OH\nPrizes: Awesome prizes for top teams! \nCome for the trivia\, stay for the great food and beer! See you there!
URL:https://ohiobrewingcolumbus.com/event/tuesday-night-trivia-at-ohio-brewing-company/2025-02-25/
LOCATION:Ohio Brewing Company\, 421 E 2nd Ave\, Columbus\, OH\, 43201\, United States
CATEGORIES:Trivia Night
ATTACH;FMTTYPE=image/jpeg:https://ohiobrewingcolumbus.com/wp-content/uploads/2024/10/OBC_Tuesday-Night-Trivia.jpg
END:VEVENT
BEGIN:VEVENT
DTSTART;TZID=UTC:20250226T190000
DTEND;TZID=UTC:20250226T200000
DTSTAMP:20260423T003513
CREATED:20240513T173402Z
LAST-MODIFIED:20240515T011850Z
UID:10000044-1740596400-1740600000@ohiobrewingcolumbus.com
SUMMARY:Wednesday Music Trivia
DESCRIPTION:Join us for Wednesday Music Trivia hosted by Sam OBC. Every Wednesday at 7PM.
URL:https://ohiobrewingcolumbus.com/event/wednesday-music-trivia/2025-02-26/
LOCATION:OH
CATEGORIES:Trivia Night
ATTACH;FMTTYPE=image/png:https://ohiobrewingcolumbus.com/wp-content/uploads/2024/05/Music-triv-1.png
END:VEVENT
END:VCALENDAR