BEGIN:VCALENDAR
VERSION:2.0
PRODID:-//Ohio Brewing Company Columbus - ECPv6.15.20//NONSGML v1.0//EN
CALSCALE:GREGORIAN
METHOD:PUBLISH
X-ORIGINAL-URL:https://ohiobrewingcolumbus.com
X-WR-CALDESC:Events for Ohio Brewing Company Columbus
REFRESH-INTERVAL;VALUE=DURATION:PT1H
X-Robots-Tag:noindex
X-PUBLISHED-TTL:PT1H
BEGIN:VTIMEZONE
TZID:UTC
BEGIN:STANDARD
TZOFFSETFROM:+0000
TZOFFSETTO:+0000
TZNAME:UTC
DTSTART:20250101T000000
END:STANDARD
END:VTIMEZONE
BEGIN:VEVENT
DTSTART;TZID=UTC:20260505T193000
DTEND;TZID=UTC:20260505T213000
DTSTAMP:20260421T132634
CREATED:20250825T191633Z
LAST-MODIFIED:20250825T191825Z
UID:10000637-1778009400-1778016600@ohiobrewingcolumbus.com
SUMMARY:Tuesday Night Trivia at Ohio Brewing Company
DESCRIPTION:Join us every Tuesday at 7:30 PM for a fun and challenging night of trivia at Ohio Brewing Company in partnership with I Drink & I Know Things Trivia! 🧠🍻 \nBring your friends\, test your knowledge\, and enjoy great food\, refreshing beers\, and a chance to win some awesome prizes. Whether you’re a trivia pro or just looking for a fun evening\, our trivia night is the perfect way to spice up your Tuesday night! \nWhen: Every Tuesday at 7:30 PM\nWhere: Ohio Brewing Company\, 421 E 2nd Ave\, Columbus\, OH\nPrizes: Awesome prizes for top teams! \nCome for the trivia\, stay for the great food and beer! See you there!
URL:https://ohiobrewingcolumbus.com/event/tuesday-night-trivia-at-ohio-brewing-company-2/2026-05-05/
LOCATION:Ohio Brewing Company\, 421 E 2nd Ave\, Columbus\, OH\, 43201\, United States
CATEGORIES:Trivia Night
ATTACH;FMTTYPE=image/jpeg:https://ohiobrewingcolumbus.com/wp-content/uploads/2024/10/OBC_Tuesday-Night-Trivia.jpg
END:VEVENT
BEGIN:VEVENT
DTSTART;TZID=UTC:20260507T190000
DTEND;TZID=UTC:20260507T200000
DTSTAMP:20260421T132634
CREATED:20250606T133623Z
LAST-MODIFIED:20250609T171919Z
UID:10001129-1778180400-1778184000@ohiobrewingcolumbus.com
SUMMARY:Weekly Thursday Music Trivia
DESCRIPTION:Join us for Thursday Music Trivia hosted by Sam OBC. Every Thursday at 7PM.
URL:https://ohiobrewingcolumbus.com/event/wednesday-music-trivia-2-2/2026-05-07/
LOCATION:Ohio Brewing Company\, 421 E 2nd Ave\, Columbus\, OH\, 43201\, United States
CATEGORIES:Trivia Night
ATTACH;FMTTYPE=image/jpeg:https://ohiobrewingcolumbus.com/wp-content/uploads/2025/06/Music-triv-thursday-2025.jpg
END:VEVENT
BEGIN:VEVENT
DTSTART;TZID=UTC:20260512T193000
DTEND;TZID=UTC:20260512T213000
DTSTAMP:20260421T132634
CREATED:20250825T191633Z
LAST-MODIFIED:20250825T191825Z
UID:10000638-1778614200-1778621400@ohiobrewingcolumbus.com
SUMMARY:Tuesday Night Trivia at Ohio Brewing Company
DESCRIPTION:Join us every Tuesday at 7:30 PM for a fun and challenging night of trivia at Ohio Brewing Company in partnership with I Drink & I Know Things Trivia! 🧠🍻 \nBring your friends\, test your knowledge\, and enjoy great food\, refreshing beers\, and a chance to win some awesome prizes. Whether you’re a trivia pro or just looking for a fun evening\, our trivia night is the perfect way to spice up your Tuesday night! \nWhen: Every Tuesday at 7:30 PM\nWhere: Ohio Brewing Company\, 421 E 2nd Ave\, Columbus\, OH\nPrizes: Awesome prizes for top teams! \nCome for the trivia\, stay for the great food and beer! See you there!
URL:https://ohiobrewingcolumbus.com/event/tuesday-night-trivia-at-ohio-brewing-company-2/2026-05-12/
LOCATION:Ohio Brewing Company\, 421 E 2nd Ave\, Columbus\, OH\, 43201\, United States
CATEGORIES:Trivia Night
ATTACH;FMTTYPE=image/jpeg:https://ohiobrewingcolumbus.com/wp-content/uploads/2024/10/OBC_Tuesday-Night-Trivia.jpg
END:VEVENT
BEGIN:VEVENT
DTSTART;TZID=UTC:20260514T190000
DTEND;TZID=UTC:20260514T200000
DTSTAMP:20260421T132634
CREATED:20250606T133623Z
LAST-MODIFIED:20250609T171919Z
UID:10001130-1778785200-1778788800@ohiobrewingcolumbus.com
SUMMARY:Weekly Thursday Music Trivia
DESCRIPTION:Join us for Thursday Music Trivia hosted by Sam OBC. Every Thursday at 7PM.
URL:https://ohiobrewingcolumbus.com/event/wednesday-music-trivia-2-2/2026-05-14/
LOCATION:Ohio Brewing Company\, 421 E 2nd Ave\, Columbus\, OH\, 43201\, United States
CATEGORIES:Trivia Night
ATTACH;FMTTYPE=image/jpeg:https://ohiobrewingcolumbus.com/wp-content/uploads/2025/06/Music-triv-thursday-2025.jpg
END:VEVENT
BEGIN:VEVENT
DTSTART;TZID=UTC:20260519T193000
DTEND;TZID=UTC:20260519T213000
DTSTAMP:20260421T132634
CREATED:20250825T191633Z
LAST-MODIFIED:20250825T191825Z
UID:10000639-1779219000-1779226200@ohiobrewingcolumbus.com
SUMMARY:Tuesday Night Trivia at Ohio Brewing Company
DESCRIPTION:Join us every Tuesday at 7:30 PM for a fun and challenging night of trivia at Ohio Brewing Company in partnership with I Drink & I Know Things Trivia! 🧠🍻 \nBring your friends\, test your knowledge\, and enjoy great food\, refreshing beers\, and a chance to win some awesome prizes. Whether you’re a trivia pro or just looking for a fun evening\, our trivia night is the perfect way to spice up your Tuesday night! \nWhen: Every Tuesday at 7:30 PM\nWhere: Ohio Brewing Company\, 421 E 2nd Ave\, Columbus\, OH\nPrizes: Awesome prizes for top teams! \nCome for the trivia\, stay for the great food and beer! See you there!
URL:https://ohiobrewingcolumbus.com/event/tuesday-night-trivia-at-ohio-brewing-company-2/2026-05-19/
LOCATION:Ohio Brewing Company\, 421 E 2nd Ave\, Columbus\, OH\, 43201\, United States
CATEGORIES:Trivia Night
ATTACH;FMTTYPE=image/jpeg:https://ohiobrewingcolumbus.com/wp-content/uploads/2024/10/OBC_Tuesday-Night-Trivia.jpg
END:VEVENT
BEGIN:VEVENT
DTSTART;TZID=UTC:20260521T190000
DTEND;TZID=UTC:20260521T200000
DTSTAMP:20260421T132634
CREATED:20250606T133623Z
LAST-MODIFIED:20250609T171919Z
UID:10001131-1779390000-1779393600@ohiobrewingcolumbus.com
SUMMARY:Weekly Thursday Music Trivia
DESCRIPTION:Join us for Thursday Music Trivia hosted by Sam OBC. Every Thursday at 7PM.
URL:https://ohiobrewingcolumbus.com/event/wednesday-music-trivia-2-2/2026-05-21/
LOCATION:Ohio Brewing Company\, 421 E 2nd Ave\, Columbus\, OH\, 43201\, United States
CATEGORIES:Trivia Night
ATTACH;FMTTYPE=image/jpeg:https://ohiobrewingcolumbus.com/wp-content/uploads/2025/06/Music-triv-thursday-2025.jpg
END:VEVENT
BEGIN:VEVENT
DTSTART;TZID=UTC:20260526T193000
DTEND;TZID=UTC:20260526T213000
DTSTAMP:20260421T132634
CREATED:20250825T191633Z
LAST-MODIFIED:20250825T191825Z
UID:10000640-1779823800-1779831000@ohiobrewingcolumbus.com
SUMMARY:Tuesday Night Trivia at Ohio Brewing Company
DESCRIPTION:Join us every Tuesday at 7:30 PM for a fun and challenging night of trivia at Ohio Brewing Company in partnership with I Drink & I Know Things Trivia! 🧠🍻 \nBring your friends\, test your knowledge\, and enjoy great food\, refreshing beers\, and a chance to win some awesome prizes. Whether you’re a trivia pro or just looking for a fun evening\, our trivia night is the perfect way to spice up your Tuesday night! \nWhen: Every Tuesday at 7:30 PM\nWhere: Ohio Brewing Company\, 421 E 2nd Ave\, Columbus\, OH\nPrizes: Awesome prizes for top teams! \nCome for the trivia\, stay for the great food and beer! See you there!
URL:https://ohiobrewingcolumbus.com/event/tuesday-night-trivia-at-ohio-brewing-company-2/2026-05-26/
LOCATION:Ohio Brewing Company\, 421 E 2nd Ave\, Columbus\, OH\, 43201\, United States
CATEGORIES:Trivia Night
ATTACH;FMTTYPE=image/jpeg:https://ohiobrewingcolumbus.com/wp-content/uploads/2024/10/OBC_Tuesday-Night-Trivia.jpg
END:VEVENT
BEGIN:VEVENT
DTSTART;TZID=UTC:20260528T190000
DTEND;TZID=UTC:20260528T200000
DTSTAMP:20260421T132634
CREATED:20250606T133623Z
LAST-MODIFIED:20250609T171919Z
UID:10001132-1779994800-1779998400@ohiobrewingcolumbus.com
SUMMARY:Weekly Thursday Music Trivia
DESCRIPTION:Join us for Thursday Music Trivia hosted by Sam OBC. Every Thursday at 7PM.
URL:https://ohiobrewingcolumbus.com/event/wednesday-music-trivia-2-2/2026-05-28/
LOCATION:Ohio Brewing Company\, 421 E 2nd Ave\, Columbus\, OH\, 43201\, United States
CATEGORIES:Trivia Night
ATTACH;FMTTYPE=image/jpeg:https://ohiobrewingcolumbus.com/wp-content/uploads/2025/06/Music-triv-thursday-2025.jpg
END:VEVENT
END:VCALENDAR