BEGIN:VCALENDAR
VERSION:2.0
PRODID:-//Ohio Brewing Company Columbus - ECPv6.15.20//NONSGML v1.0//EN
CALSCALE:GREGORIAN
METHOD:PUBLISH
X-WR-CALNAME:Ohio Brewing Company Columbus
X-ORIGINAL-URL:https://ohiobrewingcolumbus.com
X-WR-CALDESC:Events for Ohio Brewing Company Columbus
REFRESH-INTERVAL;VALUE=DURATION:PT1H
X-Robots-Tag:noindex
X-PUBLISHED-TTL:PT1H
BEGIN:VTIMEZONE
TZID:UTC
BEGIN:STANDARD
TZOFFSETFROM:+0000
TZOFFSETTO:+0000
TZNAME:UTC
DTSTART:20260101T000000
END:STANDARD
END:VTIMEZONE
BEGIN:VEVENT
DTSTART;TZID=UTC:20271102T193000
DTEND;TZID=UTC:20271102T213000
DTSTAMP:20260423T102642
CREATED:20250825T191633Z
LAST-MODIFIED:20250825T191825Z
UID:10000715-1825183800-1825191000@ohiobrewingcolumbus.com
SUMMARY:Tuesday Night Trivia at Ohio Brewing Company
DESCRIPTION:Join us every Tuesday at 7:30 PM for a fun and challenging night of trivia at Ohio Brewing Company in partnership with I Drink & I Know Things Trivia! 🧠🍻 \nBring your friends\, test your knowledge\, and enjoy great food\, refreshing beers\, and a chance to win some awesome prizes. Whether you’re a trivia pro or just looking for a fun evening\, our trivia night is the perfect way to spice up your Tuesday night! \nWhen: Every Tuesday at 7:30 PM\nWhere: Ohio Brewing Company\, 421 E 2nd Ave\, Columbus\, OH\nPrizes: Awesome prizes for top teams! \nCome for the trivia\, stay for the great food and beer! See you there!
URL:https://ohiobrewingcolumbus.com/event/tuesday-night-trivia-at-ohio-brewing-company-2/2027-11-02/
LOCATION:Ohio Brewing Company\, 421 E 2nd Ave\, Columbus\, OH\, 43201\, United States
CATEGORIES:Trivia Night
ATTACH;FMTTYPE=image/jpeg:https://ohiobrewingcolumbus.com/wp-content/uploads/2024/10/OBC_Tuesday-Night-Trivia.jpg
END:VEVENT
BEGIN:VEVENT
DTSTART;TZID=UTC:20271104T190000
DTEND;TZID=UTC:20271104T200000
DTSTAMP:20260423T102642
CREATED:20250606T133623Z
LAST-MODIFIED:20250609T171919Z
UID:10001207-1825354800-1825358400@ohiobrewingcolumbus.com
SUMMARY:Weekly Thursday Music Trivia
DESCRIPTION:Join us for Thursday Music Trivia hosted by Sam OBC. Every Thursday at 7PM.
URL:https://ohiobrewingcolumbus.com/event/wednesday-music-trivia-2-2/2027-11-04/
LOCATION:Ohio Brewing Company\, 421 E 2nd Ave\, Columbus\, OH\, 43201\, United States
CATEGORIES:Trivia Night
ATTACH;FMTTYPE=image/jpeg:https://ohiobrewingcolumbus.com/wp-content/uploads/2025/06/Music-triv-thursday-2025.jpg
END:VEVENT
BEGIN:VEVENT
DTSTART;TZID=UTC:20271109T193000
DTEND;TZID=UTC:20271109T213000
DTSTAMP:20260423T102642
CREATED:20250825T191633Z
LAST-MODIFIED:20250825T191825Z
UID:10000716-1825788600-1825795800@ohiobrewingcolumbus.com
SUMMARY:Tuesday Night Trivia at Ohio Brewing Company
DESCRIPTION:Join us every Tuesday at 7:30 PM for a fun and challenging night of trivia at Ohio Brewing Company in partnership with I Drink & I Know Things Trivia! 🧠🍻 \nBring your friends\, test your knowledge\, and enjoy great food\, refreshing beers\, and a chance to win some awesome prizes. Whether you’re a trivia pro or just looking for a fun evening\, our trivia night is the perfect way to spice up your Tuesday night! \nWhen: Every Tuesday at 7:30 PM\nWhere: Ohio Brewing Company\, 421 E 2nd Ave\, Columbus\, OH\nPrizes: Awesome prizes for top teams! \nCome for the trivia\, stay for the great food and beer! See you there!
URL:https://ohiobrewingcolumbus.com/event/tuesday-night-trivia-at-ohio-brewing-company-2/2027-11-09/
LOCATION:Ohio Brewing Company\, 421 E 2nd Ave\, Columbus\, OH\, 43201\, United States
CATEGORIES:Trivia Night
ATTACH;FMTTYPE=image/jpeg:https://ohiobrewingcolumbus.com/wp-content/uploads/2024/10/OBC_Tuesday-Night-Trivia.jpg
END:VEVENT
BEGIN:VEVENT
DTSTART;TZID=UTC:20271111T190000
DTEND;TZID=UTC:20271111T200000
DTSTAMP:20260423T102642
CREATED:20250606T133623Z
LAST-MODIFIED:20250609T171919Z
UID:10001208-1825959600-1825963200@ohiobrewingcolumbus.com
SUMMARY:Weekly Thursday Music Trivia
DESCRIPTION:Join us for Thursday Music Trivia hosted by Sam OBC. Every Thursday at 7PM.
URL:https://ohiobrewingcolumbus.com/event/wednesday-music-trivia-2-2/2027-11-11/
LOCATION:Ohio Brewing Company\, 421 E 2nd Ave\, Columbus\, OH\, 43201\, United States
CATEGORIES:Trivia Night
ATTACH;FMTTYPE=image/jpeg:https://ohiobrewingcolumbus.com/wp-content/uploads/2025/06/Music-triv-thursday-2025.jpg
END:VEVENT
BEGIN:VEVENT
DTSTART;TZID=UTC:20271116T193000
DTEND;TZID=UTC:20271116T213000
DTSTAMP:20260423T102642
CREATED:20250825T191633Z
LAST-MODIFIED:20250825T191825Z
UID:10000717-1826393400-1826400600@ohiobrewingcolumbus.com
SUMMARY:Tuesday Night Trivia at Ohio Brewing Company
DESCRIPTION:Join us every Tuesday at 7:30 PM for a fun and challenging night of trivia at Ohio Brewing Company in partnership with I Drink & I Know Things Trivia! 🧠🍻 \nBring your friends\, test your knowledge\, and enjoy great food\, refreshing beers\, and a chance to win some awesome prizes. Whether you’re a trivia pro or just looking for a fun evening\, our trivia night is the perfect way to spice up your Tuesday night! \nWhen: Every Tuesday at 7:30 PM\nWhere: Ohio Brewing Company\, 421 E 2nd Ave\, Columbus\, OH\nPrizes: Awesome prizes for top teams! \nCome for the trivia\, stay for the great food and beer! See you there!
URL:https://ohiobrewingcolumbus.com/event/tuesday-night-trivia-at-ohio-brewing-company-2/2027-11-16/
LOCATION:Ohio Brewing Company\, 421 E 2nd Ave\, Columbus\, OH\, 43201\, United States
CATEGORIES:Trivia Night
ATTACH;FMTTYPE=image/jpeg:https://ohiobrewingcolumbus.com/wp-content/uploads/2024/10/OBC_Tuesday-Night-Trivia.jpg
END:VEVENT
BEGIN:VEVENT
DTSTART;TZID=UTC:20271118T190000
DTEND;TZID=UTC:20271118T200000
DTSTAMP:20260423T102642
CREATED:20250606T133623Z
LAST-MODIFIED:20250609T171919Z
UID:10001209-1826564400-1826568000@ohiobrewingcolumbus.com
SUMMARY:Weekly Thursday Music Trivia
DESCRIPTION:Join us for Thursday Music Trivia hosted by Sam OBC. Every Thursday at 7PM.
URL:https://ohiobrewingcolumbus.com/event/wednesday-music-trivia-2-2/2027-11-18/
LOCATION:Ohio Brewing Company\, 421 E 2nd Ave\, Columbus\, OH\, 43201\, United States
CATEGORIES:Trivia Night
ATTACH;FMTTYPE=image/jpeg:https://ohiobrewingcolumbus.com/wp-content/uploads/2025/06/Music-triv-thursday-2025.jpg
END:VEVENT
BEGIN:VEVENT
DTSTART;TZID=UTC:20271123T193000
DTEND;TZID=UTC:20271123T213000
DTSTAMP:20260423T102642
CREATED:20250825T191633Z
LAST-MODIFIED:20250825T191825Z
UID:10000718-1826998200-1827005400@ohiobrewingcolumbus.com
SUMMARY:Tuesday Night Trivia at Ohio Brewing Company
DESCRIPTION:Join us every Tuesday at 7:30 PM for a fun and challenging night of trivia at Ohio Brewing Company in partnership with I Drink & I Know Things Trivia! 🧠🍻 \nBring your friends\, test your knowledge\, and enjoy great food\, refreshing beers\, and a chance to win some awesome prizes. Whether you’re a trivia pro or just looking for a fun evening\, our trivia night is the perfect way to spice up your Tuesday night! \nWhen: Every Tuesday at 7:30 PM\nWhere: Ohio Brewing Company\, 421 E 2nd Ave\, Columbus\, OH\nPrizes: Awesome prizes for top teams! \nCome for the trivia\, stay for the great food and beer! See you there!
URL:https://ohiobrewingcolumbus.com/event/tuesday-night-trivia-at-ohio-brewing-company-2/2027-11-23/
LOCATION:Ohio Brewing Company\, 421 E 2nd Ave\, Columbus\, OH\, 43201\, United States
CATEGORIES:Trivia Night
ATTACH;FMTTYPE=image/jpeg:https://ohiobrewingcolumbus.com/wp-content/uploads/2024/10/OBC_Tuesday-Night-Trivia.jpg
END:VEVENT
BEGIN:VEVENT
DTSTART;TZID=UTC:20271125T190000
DTEND;TZID=UTC:20271125T200000
DTSTAMP:20260423T102642
CREATED:20250606T133623Z
LAST-MODIFIED:20250609T171919Z
UID:10001210-1827169200-1827172800@ohiobrewingcolumbus.com
SUMMARY:Weekly Thursday Music Trivia
DESCRIPTION:Join us for Thursday Music Trivia hosted by Sam OBC. Every Thursday at 7PM.
URL:https://ohiobrewingcolumbus.com/event/wednesday-music-trivia-2-2/2027-11-25/
LOCATION:Ohio Brewing Company\, 421 E 2nd Ave\, Columbus\, OH\, 43201\, United States
CATEGORIES:Trivia Night
ATTACH;FMTTYPE=image/jpeg:https://ohiobrewingcolumbus.com/wp-content/uploads/2025/06/Music-triv-thursday-2025.jpg
END:VEVENT
BEGIN:VEVENT
DTSTART;TZID=UTC:20271130T193000
DTEND;TZID=UTC:20271130T213000
DTSTAMP:20260423T102642
CREATED:20250825T191633Z
LAST-MODIFIED:20250825T191825Z
UID:10000719-1827603000-1827610200@ohiobrewingcolumbus.com
SUMMARY:Tuesday Night Trivia at Ohio Brewing Company
DESCRIPTION:Join us every Tuesday at 7:30 PM for a fun and challenging night of trivia at Ohio Brewing Company in partnership with I Drink & I Know Things Trivia! 🧠🍻 \nBring your friends\, test your knowledge\, and enjoy great food\, refreshing beers\, and a chance to win some awesome prizes. Whether you’re a trivia pro or just looking for a fun evening\, our trivia night is the perfect way to spice up your Tuesday night! \nWhen: Every Tuesday at 7:30 PM\nWhere: Ohio Brewing Company\, 421 E 2nd Ave\, Columbus\, OH\nPrizes: Awesome prizes for top teams! \nCome for the trivia\, stay for the great food and beer! See you there!
URL:https://ohiobrewingcolumbus.com/event/tuesday-night-trivia-at-ohio-brewing-company-2/2027-11-30/
LOCATION:Ohio Brewing Company\, 421 E 2nd Ave\, Columbus\, OH\, 43201\, United States
CATEGORIES:Trivia Night
ATTACH;FMTTYPE=image/jpeg:https://ohiobrewingcolumbus.com/wp-content/uploads/2024/10/OBC_Tuesday-Night-Trivia.jpg
END:VEVENT
END:VCALENDAR